Workbook
Name analisis1: Analisis1!$B$44:$AY$45
Name hasilangket: ENTRI!$G$290:$BD$292

Sheet HOME
B2: APLIKASI ANGKET KEBUTUHAN PESERTA DIDIK LINTAS KELAS UNTUK SMA / MA
D4: PEMERINTAH | G4: PEMERINTAH PROVINSI ACEH
D5: DINAS | G5: DINAS PENDIDIKAN PROVINSI ACEH
D6: NAMA SEKOLAH | G6: SMA NEGERI 1 SAWANG
D7: ALAMAT | G7: JL. TAPAKTUAN - MEULABOH KM. 20 DESA MEULIGO KEC. SAWANG
D8: KELAS | G8: X MIA 1, X MIA 2, X MIA 3, X MIA 4, X IIS
D9: TAHUN PELAJARAN | G9: 2019/2020
D10: NAMA KEPALA SEKOLAH | G10: ASNAWI S.Pd
D11: NIP KEPALA SEKOLAH | G11: 196704031990031005
D12: NAMA GURU BK/KONSELOR | G12: MILLA AMIR, S.Pd., Gr. Kons
D13: NIP GURU BK/KONSELOR | G13: 198512232015042001
D14: TEMPAT DAN TANGGAL | G14: SAWANG, JULI 2019
B16: LANGKAH MENGGUNAKAN APLIKASI AKPD
B17: 1 | C17: Isikan Identitas Sekolah pada sheet HOME
B18: 2 | C18: Susun atau sesuaikan butir angket, deskripsi kebutuhan, rumusan tujuan dan topik/materi pada Sheet AKPD
B19: 3 | C19: Print out Angket Kebutuhan Peserta Didiki(AKPD) pada sheet ANGKET, sesuai dengan jumlah kelas dan setiap kelas diambil sampel 10 siswa secara acak
B20: 4 | C20: Isikan kode konseli, nomor induk, nama siswa dan jenis kelamin pada Sheet ENTRI dari masing masing-masing kelas
B21: 5 | C21: Masukan hasil jawaban konseli pada Sheet ENTRI dengan cara mengisi angka 1 (satu) pada item yang dipilih atau 0 (nol) apabila tidak dipilih
B22: 6 | C22: Jawaban konseli secara otomatis akan dianalisa dan menjadi PROFIL LINTAS KELAS, PROFIL TIAP KELAS dan PROFIL KONSELI. Deskripsikan hasil analisis AKPD ke dalam Program BK
B23: 7 | C23: Pilihlah Topik/materi untuk dimasukkan ke dalam Program Semester sesuai dengan prioritas
B24: 8 | C24: Print out untuk dilampirkan pada Program BK:
C25: a. Profil Kelas | H25: e. Action plan
C26: b. Deskripsi Kebutuhan dari hasil AKPD dan Sekolah | H26: f. Jadwal Kegiatan
C27: c. Rumusan Tujuan | H27: g. Program Semester
C28: d. Komponen Program | H28: h. Rencana Pelaksanaan Layanan
B118: disusun oleh : Milla Amir

Sheet ANGKET
A1: ANGKET KEBUTUHAN PESERTA DIDIK SMA ( KELAS X )
B2: SMA NEGERI 1 TAPAKTUAN
A4: NAMA : ________________________________________________, KELAS : _________________________________
A6: Petunjuk :
A7: 1. Dibawah ini bukan alat tes, tetapi angket yang berisi tentang berbagai masalah yang sering dihadapi siswa.
A8: 2. Jawaban Anda sangat bermanfaat untuk membantu keberhasilan belajar di sekolah ini
A9: 3. Pilihlah jawaban yang paling sesuai dengan kondisi Anda saat ini, dengan cara memberikan tanda ( √ )
A10: pada kolom YA atau TIDAK
A11: 4. Jawaban Anda akan kami rahasiakan, untuk itu jawablah dengan sungguh-sungguh.
A12: 5. Selamat mengerjakan
A14: NO | B14: P E R N Y A T A A N | C14: YA | D14: TIDAK | E14: Rumusan Kebutuhan
A15: 1 | B15: =AKPD!H6 -> Saya merasa belum disiplin dalam beribadah pada Tuhan YME | E15: Tuhan selalu hadir dalam hidupku
A16: 2 | B16: =AKPD!H7 -> Saya kadang-kadang berperilaku dan bertutur kata tidak jujur | E16: Nilai suatu sikap kejujuran
A17: 3 | B17: =AKPD!H8 -> Saya kadang-kadang masih suka menyontek pada waktu tes | E17: Bersyukur dengan hati yang ikhlas
A18: 4 | B18: =AKPD!H9 -> Saya merasa belum bisa mengendalikan emosi dengan baik | E18: Menghilangkan kebiasan menyontek
A19: 5 | B19: =AKPD!H10 -> Saya belum paham tentang sikap dan perilaku asertif | E19: Sikap percaya diri
A20: 6 | B20: =AKPD!H11 -> Saya belum tahu cara mengenal dan memahami diri sendiri | E20: Melakukan Pola hidup bersih dan sehat
A21: 7 | B21: =AKPD!H12 -> Saya belum memahami potensi diri | E21: Pemahaman diri / konsep diri
A22: 8 | B22: =AKPD!H13 -> Saya belum tahu perubahan dan permasalahan yang terjadi pada masa remaja | E22: Cinta budaya Indonesia
A23: 9 | B23: =AKPD!H14 -> Saya belum mengenal tentang macam-macam kepribadian | E23: Tanggung jawab seorang siswa
A24: 10 | B24: =AKPD!H15 -> Saya kurang memiliki rasa percaya diri | E24: Cara Mengatur Waktu
A25: 11 | B25: =AKPD!H16 -> Saya kadang kurang menjaga kesehatan diri | E25: Membentuk keluarga yang harmonis
A26: 12 | B26: =AKPD!H17 -> Saya belum tahu ciri-ciri/sifat/prilaku pribadi yang berkarakter | E26: Nyaman berkumpul keluarga
... A64: 50 | B64: =AKPD!H55 -> Saya belum memiliki perencanaan karir masa depan | E64: hubungan hobi, bakat, minat dan kemampuan

Sheet ENTRI
G1: HASIL LEMBAR JAWAB AKPD LINTAS KELAS SMA/MA
G2: SEKOLAH | K2: : | L2: SMA NEGERI 1 TAPAKTUAN
G3: KELAS | K3: : | L3: Cut nyak Dien, Teuku Umar, Cut meutia, Laksamana malahayati,TR angkasa, Panglima RL, T.Cut Ali
G4: JUMLAH SISWA | K4: : | L4: 240 ORANG | N4: (WAJIB DIISI)
G5: TAHUN PELAJARAN | K5: : | L5: 2026 / 2027
A7: KELAS | B7: Nomor | E7: Nama Siswa | F7: JK | G7: ITEM ANGKET / PERNYATAAN | BE7: Total
G8: BIDANG PRIBADI | AA8: BIDANG SOSIAL | AL8: BIDANG BELAJAR | AY8: BIDANG KARIR
B9: Urut | C9: Kode | D9: Kelas | G9: 1 | H9: 2 | I9: 3 | J9: 4 | K9: 5 | L9: 6 | M9: 7 | N9: 8 | O9: 9 | P9: 10 | Q9: 11 | R9: 12 | S9: 13 | T9: 14 | U9: 15 | V9: 16 | W9: 17 | X9: 18 | Y9: 19 | Z9: 20 | AA9: 21 | AB9: 22 | AC9: 23 | AD9: 24 | AE9: 25 | AF9: 26 | AG9: 27 | AH9: 28 | AI9: 29 | AJ9: 30 | AK9: 31 | AL9: 32 | AM9: 33 | AN9: 34 | AO9: 35 | AP9: 36 | AQ9: 37 | AR9: 38 | AS9: 39 | AT9: 40 | AU9: 41 | AV9: 42 | AW9: 43 | AX9: 44 | AY9: 45 | AZ9: 46 | BA9: 47 | BB9: 48 | BC9: 49 | BD9: 50
A10: Cut Nyak Dien | B10: 1 | C10: A1 | E10: ARKAN AL-MUBARRAQ | F10: L
B11: =B10+1 -> 2 | C11: A2 | D11: X | E11: AKSYA AKILIA | F11: P
B12: =B11+1 -> 3 | C12: A3 | E12: AMIRATUL SYAKIRA | F12: P
B13: =B12+1 -> 4 | C13: A4 | E13: ANGGI DWI SAFIRA | F13: P
B14: =B13+1 -> 5 | C14: A5 | E14: ASYRAFI NURMAHMUDI | F14: L
B15: =B14+1 -> 6 | C15: A6 | E15: ATHIYA SABRINA OKTI | F15: P
B16: =B15+1 -> 7 | C16: A7 | E16: DAFFA ARIF HAIKAL | F16: L
B17: =B16+1 -> 8 | C17: A8 | E17: DHABIT ALFAWAZI | F17: L
B18: =B17+1 -> 9 | C18: A9 | E18: FARISYAA SALSABILLA | F18: P
B19: =B18+1 -> 10 | C19: A10 | E19: FATHAN FIDIANSYAH | F19: L
B20: =B19+1 -> 11 | C20: A11 | E20: FATHIA AZZAHIRA | F20: L
B21: =B20+1 -> 12 | C21: A12 | E21: HAFIZ AL HADI | F21: L
B22: =B21+1 -> 13 | C22: A13 | E22: HAIKAL STEVANO | F22: L
B23: =B22+1 -> 14 | C23: A14 | E23: INTAN ADELYA | F23: P
... B28: =B27+1 -> 19 | C28: A19 | E28: MUHAMMAD DAFFA PRABUDI | F28: L
B29: 20 | C29: A20 | E29: MUHAMMAD RANDY AL-FIDI | F29: L
B30: 21 | C30: A21 | E30: MUHAMMAD RAZA AL FATIH | F30: P
B31: 22 | C31: A22 | E31: NABILA FATIN HUMAIRA | F31: P
B32: 23 | C32: A23 | E32: QAIREEN IFFAH ALKANSA | F32: P
B33: 24 | C33: A24 | E33: QORI'AH NADHIFA AL HUSNA | F33: P
B34: 25 | C34: A25 | E34: RADHID QALBI | F34: L
B35: 26 | C35: A26 | E35: REZA VAHLEVI | F35: L
B36: 27 | C36: A27 | E36: SHAFA AISARAH | F36: P
B37: 28 | C37: A28 | E37: SHIREN NIBRAS | F37: P
B38: 29 | C38: A29 | E38: TALITHA AMIRA SAKHI | F38: P
B39: 30 | C39: A30 | E39: TAUFIQUR RAHMAN | F39: L
B40: 31 | C40: A31 | E40: YOLANDA KADZIYA | F40: P
... B43: 34 | C43: A34 | E43: ZIKRA ADIVA RAIHANA | F43: P
A44: Teuku Umar | B44: 1 | C44: T1 | E44: ABIM ALFATTAH RAIS | F44: L
B45: 2 | C45: T2 | E45: AIRIN RAHADATUL AISY | F45: P
B46: 3 | C46: T3 | E46: AISYAH KHAIRA ALAINA | F46: P
B47: 4 | C47: T4 | E47: AL FURQAN | F47: L
B48: 5 | C48: T5 | E48: AMIRA SALSABILA | F48: P
B49: 6 | C49: T6 | E49: AMITA | F49: P
B50: 7 | C50: T7 | E50: ASYIFA YUNA RAHIMA | F50: P
B51: 8 | C51: T8 | E51: ATIQA RAIHAN BALQIS | F51: P
B52: 9 | C52: T9 | E52: CUT QHORY LATHIFA | F52: P
B53: 10 | C53: T10 | E53: DHAHIRATUL AMIRA | F53: P
B54: 11 | C54: T11 | E54: FATHIR PRATAMA | F54: L
B55: 12 | C55: T12 | E55: HABIB FAIZ HUSAINI | F55: L
B56: 13 | C56: T13 | E56: JIHAD ALFATH | F56: L
... B77: 34 | C77: T34 | E77: ZIKHA BILBINA PUTRI | F77: P
A78: Cut Meutia | B78: 1 | C78: C1 | E78: ABYAN JUBAIR | F78: L
B79: 2 | C79: C2 | E79: ADHELIA PUTRI MYZZA | F79: P
B80: 3 | C80: C3 | E80: AISYAH NURICHA | F80: P
B81: 4 | C81: C4 | E81: AL QISTHI IKRAM EFFENDI | F81: L
B82: 5 | C82: C5 | E82: ALYA SALSABILA BILQIS | F82: P
B83: 6 | C83: C6 | E83: AMIRA GHINA ALFIRSI | F83: P
B84: 7 | C84: C7 | E84: ANDESKA RAIHAN | F84: L
B85: 8 | C85: C8 | E85: ANUGRAH CITRA KASIH | F85: P
B86: 9 | C86: C9 | E86: ASMALINDA | F86: P
B87: 10 | C87: C10 | E87: AULIA PUTRI AISHAFILLA | F87: P
B88: 11 | C88: C11 | E88: AZALEA RAMADHANI | F88: P
B89: 12 | C89: C12 | E89: CHERIL ALMYEISHA | F89: P
B90: 13 | C90: C13 | E90: CUT FARAH NATASHA | F90: P
... B111: 34 | C111: C23 | E111: ZIDAN RIZQULLAH. F | F111: L
A112: Laksamana M | B112: 1 | C112: L1 | E112: ADEL LAURISA | F112: P
B113: 2 | C113: L2 | E113: ALFATHIR ALIEF AKBAR | F113: L
B114: 3 | C114: L3 | E114: AL FIKKY ZALIN | F114: L
B115: 4 | C115: L4 | E115: AMALIA SABRINA. Z | F115: P
B116: 5 | C116: L5 | E116: AMIRA ZASKIA DESALFA | F116: P
B117: 6 | C117: L6 | E117: ASHYRAFFA MAULANA ABDI | F117: L
B118: 7 | C118: L7 | E118: AVATAR PUTRA KAMIL | F118: L
B119: 8 | C119: L8 | E119: CITRA ASYIFA | F119: P
B120: 9 | C120: L9 | E120: FABELYA SYARI | F120: P
B121: 10 | C121: L10 | E121: FARHAN AR RIZQI | F121: P
B122: 11 | C122: L11 | E122: FATIH AL GHIFFARI | F122: L
B123: 12 | C123: L12 | E123: GILBERT ALEXANDER | F123: L
B124: 13 | C124: L13 | E124: HANIFA LUTHFIANA PUTRI | F124: P
... B145: 34 | C145: L34 | E145: ZHIVI LIANA JANNATUL JANNAH | F145: P
A146: TR ANGKASA | B146: 1 | C146: TR1 | E146: AHMAT HALWI SABIL | F146: L
B147: 2 | C147: TR2 | E147: ALIYA AL THAFUNNISA | F147: P
B148: 3 | C148: TR3 | E148: ALTAYA FAJAR | F148: L
B149: 4 | C149: TR4 | E149: FAJAR RAMADHAN | F149: L
B150: 5 | C150: TR5 | E150: FARASYIFA MURFALISA | F150: P
B151: 6 | C151: TR6 | E151: FARIZ AZFARI | F151: L
B152: 7 | C152: TR7 | E152: FATHIRUL RASYID | F152: L
B153: 8 | C153: TR8 | E153: FATIYA QANITA | F153: P
B154: 9 | C154: TR9 | E154: FURQAN AHMAD FADHILAH | F154: L
B155: 10 | C155: TR10 | E155: GUNA HARIANDI | F155: L
B156: 11 | C156: TR11 | E156: HAFIZATUL RAHMA | F156: P
B157: 12 | C157: TR12 | E157: HANDIKA AL TATJRI | F157: L
B158: 13 | C158: TR13 | E158: HASYIFA NURHASANAH UMARI | F158: P
... B179: 34 | C179: TR34 | E179: ZHIVARA SYAIZA | F179: P
A180: Panglimo RL | B180: 1 | C180: P1 | E180: ADINDA NURUL AZKIA | F180: P
B181: 2 | C181: P2 | E181: ADZRA UFAIRA | F181: L
B182: 3 | C182: P3 | E182: ALHAURA SAIMA HERZA | F182: P
B183: 4 | C183: P4 | E183: ALYA SAFIRA | F183: P
B184: 5 | C184: P5 | E184: AQIL AL-FIRAS | F184: L
B185: 6 | C185: P6 | E185: ARKAN NAUFAL HAFIDH | F185: L
B186: 7 | C186: P7 | E186: AZKA AMALIA ARFIANDI | F186: P
B187: 8 | C187: P8 | E187: BRILLIAN RIZKI | F187: L
...

Sheet PROFIL LINTAS
A1: PROFIL KELAS DARI HASIL ANALISA ANGKET KEBUTUHAN PESERTA DIDIK
A2: SMA NEGERI 1 TAPAKTUAN
C3: KELAS : | D3: Cut Nyak dien, Teuku Umar, Cut Meutia, Laksamana malahayati, TR Angkasa, Panglima RL, T.Cut Ali
C4: TAHUN : | D4: 2026 / 2027
A6: NO | B6: BUTIR ANGKET KEBUTUHAN PESERTA DIDIK | C6: JML RESPONDEN | D6: PROSENTASE | E6: PRIORITAS | F6: WAKTU LAYANAN (BULAN) | G6: BIDANG LAYANAN
G7: PRIBADI | H7: SOSIAL | I7: BELAJAR | J7: KARIR
A8: 1 | B8: =AKPD!H6 -> Saya merasa belum disiplin dalam beribadah pada Tuhan YME | C8: ='Analisis 2'!D3 -> 0 | D8: ='Analisis 2'!E3 -> #DIV/0! | E8: ='Analisis 2'!F3 -> #DIV/0! | F8: Agustus | G8: =ENTRI!G294 -> #DIV/0! | H8: =ENTRI!AA294 -> #DIV/0! | I8: =ENTRI!AL294 -> #DIV/0! | J8: =ENTRI!AY294 -> #DIV/0!
A9: 7 | B9: =AKPD!H12 -> Saya belum memahami potensi diri | C9: ='Analisis 2'!D9 -> 0 | D9: ='Analisis 2'!E9 -> #DIV/0! | E9: ='Analisis 2'!F9 -> #DIV/0! | F9: September | G9: =ENTRI!G293 -> 0 | H9: =ENTRI!AA293 -> 0 | I9: =ENTRI!AL293 -> 0 | J9: =ENTRI!AY293 -> 0
A10: 10 | B10: =AKPD!H15 -> Saya kurang memiliki rasa percaya diri | C10: ='Analisis 2'!D12 -> 0 | D10: ='Analisis 2'!E12 -> #DIV/0! | E10: ='Analisis 2'!F12 -> #DIV/0! | F10: September
A11: 14 | B11: =AKPD!H19 -> Saya kesulitan mengatur waktu belajar dan bermain | C11: ='Analisis 2'!D16 -> 0 | D11: ='Analisis 2'!E16 -> #DIV/0! | E11: ='Analisis 2'!F16 -> #DIV/0! | F11: Oktober
A12: 20 | B12: =AKPD!H25 -> Saya belum memahami tentang norma/cara membangun berkeluarga | C12: ='Analisis 2'!D22 -> 0 | D12: ='Analisis 2'!E22 -> #DIV/0! | E12: ='Analisis 2'!F22 -> #DIV/0! | F12: November
A13: 2 | B13: =AKPD!H7 -> Saya kadang-kadang berperilaku dan bertutur kata tidak jujur | C13: ='Analisis 2'!D4 -> 0 | D13: ='Analisis 2'!E4 -> #DIV/0! | E13: ='Analisis 2'!F4 -> #DIV/0! | F13: Oktober
A14: 6 | B14: =AKPD!H11 -> Saya belum tahu cara mengenal dan memahami diri sendiri | C14: ='Analisis 2'!D8 -> 0 | D14: ='Analisis 2'!E8 -> #DIV/0! | E14: ='Analisis 2'!F8 -> #DIV/0! | F14: November
A15: 18 | B15: =AKPD!H23 -> Saya belum bisa menjadi pribadi yang mandiri | C15: ='Analisis 2'!D20 -> 0 | D15: ='Analisis 2'!E20 -> #DIV/0! | E15: ='Analisis 2'!F20 -> #DIV/0! | F15: November
A16: 9 | B16: =AKPD!H14 -> Saya belum mengenal tentang macam-macam kepribadian | C16: ='Analisis 2'!D11 -> 0 | D16: ='Analisis 2'!E11 -> #DIV/0! | E16: ='Analisis 2'!F11 -> #DIV/0! | F16: Februari
A17: 23 | B17: =AKPD!H28 -> Saya masih sedikit mengetahui tentang dampak atau bahaya rokok | C17: ='Analisis 2'!D25 -> 0 | D17: ='Analisis 2'!E25 -> #DIV/0! | E17: ='Analisis 2'!F25 -> #DIV/0! | F17: Januari
A18: 21 | B18: =AKPD!H26 -> Saya belum banyak mengenal lingkungan sekolah baru | C18: ='Analisis 2'!D23 -> 0 | D18: ='Analisis 2'!E23 -> #DIV/0! | E18: ='Analisis 2'!F23 -> #DIV/0! | F18: Juli
A19: 5 | B19: =AKPD!H10 -> Saya belum paham tentang sikap dan perilaku asertif | C19: ='Analisis 2'!D7 -> 0 | D19: ='Analisis 2'!E7 -> #DIV/0! | E19: ='Analisis 2'!F7 -> #DIV/0! | F19: Januari
A20: 47 | B20: =AKPD!H52 -> Saya merasa bingung memilih kegiatan esktrakurikuler di sekolah | C20: ='Analisis 2'!D49 -> 0 | D20: ='Analisis 2'!E49 -> #DIV/0! | E20: ='Analisis 2'!F49 -> #DIV/0! | F20: Juli
A21: 31 | B21: =AKPD!H36 -> Saya kurang suka berkomunikasi dengan teman lawan jenis | C21: ='Analisis 2'!D33 -> 0 | D21: ='Analisis 2'!E33 -> #DIV/0! | E21: ='Analisis 2'!F33 -> #DIV/0! | F21: Februari
A22: 12 | B22: =AKPD!H17 -> Saya belum tahu ciri-ciri/sifat/prilaku pribadi yang berkarakter | C22: ='Analisis 2'!D14 -> 0 | D22: ='Analisis 2'!E14 -> #DIV/0! | E22: ='Analisis 2'!F14 -> #DIV/0! | F22: Februari
A23: 22 | B23: =AKPD!H27 -> Saya belum memahami tentang kenakalan remaja | C23: ='Analisis 2'!D24 -> 0 | D23: ='Analisis 2'!E24 -> #DIV/0! | E23: ='Analisis 2'!F24 -> #DIV/0! | F23: Februari
A24: 41 | B24: =AKPD!H46 -> Saya merasa malas belajar dan kalau belajar sering ngantuk | C24: ='Analisis 2'!D43 -> 0 | D24: ='Analisis 2'!E43 -> #DIV/0! | E24: ='Analisis 2'!F43 -> #DIV/0! | F24: Desember
A25: 8 | B25: =AKPD!H13 -> Saya belum tahu perubahan dan permasalahan yang terjadi pada masa remaja | C25: ='Analisis 2'!D10 -> 0 | D25: ='Analisis 2'!E10 -> #DIV/0! | E25: ='Analisis 2'!F10 -> #DIV/0! | F25: Agustus
A26: 11 | B26: =AKPD!H16 -> Saya kadang kurang menjaga kesehatan diri | C26: ='Analisis 2'!D13 -> 0 | D26: ='Analisis 2'!E13 -> #DIV/0! | E26: ='Analisis 2'!F13 -> #DIV/0! | F26: Maret
A27: 24 | B27: =AKPD!H29 -> Saya belum banyak mengenal tentang perilaku sosial yang bertanggung jawab | C27: ='Analisis 2'!D26 -> 0 | D27: ='Analisis 2'!E26 -> #DIV/0! | E27: ='Analisis 2'!F26 -> #DIV/0! | F27: Maret
A28: 28 | B28: =AKPD!H33 -> Saya kurang memahami dampak dari media sosial | C28: ='Analisis 2'!D30 -> 0 | D28: ='Analisis 2'!E30 -> #DIV/0! | E28: ='Analisis 2'!F30 -> #DIV/0! | F28: Maret
A29: 35 | B29: =AKPD!H40 -> Orang tua saya tidak peduli dengan kegiatan belajar saya | C29: ='Analisis 2'!D37 -> 0 | D29: ='Analisis 2'!E37 -> #DIV/0! | E29: ='Analisis 2'!F37 -> #DIV/0! | F29: Agustus
A30: 17 | B30: =AKPD!H22 -> Saya mempunyai masalah dengan anggota keluarga di rumah | C30: ='Analisis 2'!D19 -> 0 | D30: ='Analisis 2'!E19 -> #DIV/0! | E30: ='Analisis 2'!F19 -> #DIV/0! | F30: Agustus
A31: 29 | B31: =AKPD!H34 -> Saya jarang bermain/berteman di lingkungan tempat saya tinggal | C31: ='Analisis 2'!D31 -> 0 | D31: ='Analisis 2'!E31 -> #DIV/0! | E31: ='Analisis 2'!F31 -> #DIV/0! | F31: Februari
A32: 25 | B32: =AKPD!H30 -> Saya belum tahu tentang bullying dan cara mensikapinya | C32: ='Analisis 2'!D27 -> 0 | D32: ='Analisis 2'!E27 -> #DIV/0! | E32: ='Analisis 2'!F27 -> #DIV/0! | F32: Oktober
A33: 40 | B33: =AKPD!H45 -> Saya belum tahu tentang struktur kurikulum yang ada di sekolah | C33: ='Analisis 2'!D42 -> 0 | D33: ='Analisis 2'!E42 -> #DIV/0! | E33: ='Analisis 2'!F42 -> #DIV/0! | F33: Juli
A34: 45 | B34: =AKPD!H50 -> Saya belum tahu cara memperoleh bantuan pendidikan (beasiswa) | C34: ='Analisis 2'!D47 -> 0 | D34: ='Analisis 2'!E47 -> #DIV/0! | E34: ='Analisis 2'!F47 -> #DIV/0! | F34: Januari
A35: 3 | B35: =AKPD!H8 -> Saya kadang-kadang masih suka menyontek pada waktu tes | C35: ='Analisis 2'!D5 -> 0 | D35: ='Analisis 2'!E5 -> #DIV/0! | E35: ='Analisis 2'!F5 -> #DIV/0! | F35: November
A36: 39 | B36: =AKPD!H44 -> Saya belajarnya jika akan ada tes atau ujian saja | C36: ='Analisis 2'!D41 -> 0 | D36: ='Analisis 2'!E41 -> #DIV/0! | E36: ='Analisis 2'!F41 -> #DIV/0! | F36: Agustus
A37: 19 | B37: =AKPD!H24 -> Saya sedang memiliki konflik pribadi | C37: ='Analisis 2'!D21 -> 0 | D37: ='Analisis 2'!E21 -> #DIV/0! | E37: ='Analisis 2'!F21 -> #DIV/0! | F37: September
A38: 48 | B38: =AKPD!H53 -> Saya merasa belum mantap pada pilihan peminatan yang diambil | C38: ='Analisis 2'!D50 -> 0 | D38: ='Analisis 2'!E50 -> #DIV/0! | E38: ='Analisis 2'!F50 -> #DIV/0! | F38: Maret
A39: 38 | B39: =AKPD!H43 -> Saya belum tahu cara memanfaatkan sumber belajar | C39: ='Analisis 2'!D40 -> 0 | D39: ='Analisis 2'!E40 -> #DIV/0! | E39: ='Analisis 2'!F40 -> #DIV/0!
A40: 37 | B40: =AKPD!H42 -> Saya merasa kesulitan dalam memahami pelajaran tertentu | C40: ='Analisis 2'!D39 -> 0 | D40: ='Analisis 2'!E39 -> #DIV/0! | E40: ='Analisis 2'!F39 -> #DIV/0!
A41: 16 | B41: =AKPD!H21 -> Saya merasa tidak betah tinggal di rumah sendiri | C41: ='Analisis 2'!D18 -> 0 | D41: ='Analisis 2'!E18 -> #DIV/0! | E41: ='Analisis 2'!F18 -> #DIV/0! | F41: Agustus
A42: 32 | B42: =AKPD!H37 -> Saya belum tahu cara belajar yang baik dan benar di SMA/MA | C42: ='Analisis 2'!D34 -> 0 | D42: ='Analisis 2'!E34 -> #DIV/0! | E42: ='Analisis 2'!F34 -> #DIV/0! | F42: Januari
A43: 43 | B43: =AKPD!H48 -> Saya belum paham cara memilih lembaga bimbingan belajar yang baik | C43: ='Analisis 2'!D45 -> 0 | D43: ='Analisis 2'!E45 -> #DIV/0! | E43: ='Analisis 2'!F45 -> #DIV/0! | F43: April
A44: 34 | B44: =AKPD!H39 -> Saya belum paham tentang gaya belajar dan strategi yang sesuai dengannya | C44: ='Analisis 2'!D36 -> 0 | D44: ='Analisis 2'!E36 -> #DIV/0! | E44: ='Analisis 2'!F36 -> #DIV/0! | F44: Agustus
A45: 44 | B45: =AKPD!H49 -> Saya belum dapat memanfaatkan teknologi informasi untuk belajar | C45: ='Analisis 2'!D46 -> 0 | D45: ='Analisis 2'!E46 -> #DIV/0! | E45: ='Analisis 2'!F46 -> #DIV/0!
A46: 30 | B46: =AKPD!H35 -> Saya belum banyak teman atau sahabat | C46: ='Analisis 2'!D32 -> 0 | D46: ='Analisis 2'!E32 -> #DIV/0! | E46: ='Analisis 2'!F32 -> #DIV/0! | F46: Februari
A47: 26 | B47: =AKPD!H31 -> Saya sukar bergaul dengan teman-teman di sekolah | C47: ='Analisis 2'!D28 -> 0 | D47: ='Analisis 2'!E28 -> #DIV/0! | E47: ='Analisis 2'!F28 -> #DIV/0! | F47: Februari
A48: 49 | B48: =AKPD!H54 -> Saya merasa belum paham hubungan antara hobi, bakat, minat, kemampuan dan karir | C48: ='Analisis 2'!D51 -> 0 | D48: ='Analisis 2'!E51 -> #DIV/0! | E48: ='Analisis 2'!F51 -> #DIV/0! | F48: Januari
A49: 13 | B49: =AKPD!H18 -> Saya merasa kurang memilki tanggung jawab pada diri sendiri | C49: ='Analisis 2'!D15 -> 0 | D49: ='Analisis 2'!E15 -> #DIV/0! | E49: ='Analisis 2'!F15 -> #DIV/0!
A50: 46 | B50: =AKPD!H51 -> Saya terpaksa harus bekerja untuk mencukupi kebutuhan hidup | C50: ='Analisis 2'!D48 -> 0 | D50: ='Analisis 2'!E48 -> #DIV/0! | E50: ='Analisis 2'!F48 -> #DIV/0! | F50: April
A51: 4 | B51: =AKPD!H9 -> Saya merasa belum bisa mengendalikan emosi dengan baik | C51: ='Analisis 2'!D6 -> 0 | D51: ='Analisis 2'!E6 -> #DIV/0! | E51: ='Analisis 2'!F6 -> #DIV/0!
A52: 50 | B52: =AKPD!H55 -> Saya belum memiliki perencanaan karir masa depan | C52: ='Analisis 2'!D52 -> 0 | D52: ='Analisis 2'!E52 -> #DIV/0! | E52: ='Analisis 2'!F52 -> #DIV/0!
A53: 36 | B53: =AKPD!H41 -> Saya masih sering menunda-nunda tugas sekolah/pekerjaan rumah (PR) | C53: ='Analisis 2'!D38 -> 0 | D53: ='Analisis 2'!E38 -> #DIV/0! | E53: ='Analisis 2'!F38 -> #DIV/0!
A54: 33 | B54: =AKPD!H38 -> Saya belum tahu cara meraih prestasi di sekolah | C54: ='Analisis 2'!D35 -> 0 | D54: ='Analisis 2'!E35 -> #DIV/0! | E54: ='Analisis 2'!F35 -> #DIV/0!
A55: 27 | B55: =AKPD!H32 -> Sering saya dianggap tidak sopan pada orang lain | C55: ='Analisis 2'!D29 -> 0 | D55: ='Analisis 2'!E29 -> #DIV/0! | E55: ='Analisis 2'!F29 -> #DIV/0!
A56: 42 | B56: =AKPD!H47 -> Saya belum terbiasa belajar bersama atau belajar kelompok | C56: ='Analisis 2'!D44 -> 0 | D56: ='Analisis 2'!E44 -> #DIV/0! | E56: ='Analisis 2'!F44 -> #DIV/0!
A57: 15 | B57: =AKPD!H20 -> Kondisi orang tua saya sedang tidak harmonis | C57: ='Analisis 2'!D17 -> 0 | D57: ='Analisis 2'!E17 -> #DIV/0! | E57: ='Analisis 2'!F17 -> #DIV/0!

Sheet PROFIL TIAP KLS
A1: PROFIL TIAP KELAS DARI HASIL ANALISA ANGKET KEBUTUHAN PESERTA DIDIK
A2: SMA NEGERI 1 TAPAKTUAN
C3: KELAS : | D3: Cut Nyak dien, Teuku Umar, Cut Meutia, Laksamana malahayati, TR Angkasa, Panglima RL, T.Cut Ali
C4: TAHUN : | D4: =HOME!G9 -> 2019/2020
A6: NO | B6: BUTIR ANGKET KEBUTUHAN PESERTA DIDIK | C6: HASIL JAWABAN TIAP KELAS
C7: =ENTRI!A10 -> Cut Nyak Dien | E7: =ENTRI!#REF! -> #REF! | G7: =ENTRI!A250 -> 0 | I7: =ENTRI!A260 -> 0 | K7: =ENTRI!A270 -> 0 | M7: =ENTRI!A280 -> 0
C8: JML | D8: % | E8: JML | F8: % | G8: JML | H8: % | I8: JML | J8: % | K8: JML | L8: % | M8: JML | N8: %
A9: 1 | B9: =AKPD!H6 -> Saya merasa belum disiplin dalam beribadah pada Tuhan YME | C9: =ENTRI!$G$297 -> 0 | D9: =C9/50 -> 0 | E9: =ENTRI!$G$298 -> #REF! | F9: =E9/50 -> #REF! | G9: =ENTRI!$G$299 -> 0 | H9: =G9/50 -> 0 | I9: =ENTRI!$G$300 -> 0 | J9: =I9/50 -> 0 | K9: =ENTRI!$G$301 -> 0 | L9: =K9/50 -> 0 | M9: =ENTRI!$G$302 -> 0 | N9: =M9/50 -> 0
A10: 2 | B10: =AKPD!H7 -> Saya kadang-kadang berperilaku dan bertutur kata tidak jujur | C10: =ENTRI!$H$297 -> 0 | D10: =C10/50 -> 0 | E10: =ENTRI!$H$298 -> #REF! | F10: =E10/50 -> #REF! | G10: =ENTRI!$H$299 -> 0 | H10: =G10/50 -> 0 | I10: =ENTRI!$H$300 -> 0 | J10: =I10/50 -> 0 | K10: =ENTRI!$H$301 -> 0 | L10: =K10/50 -> 0 | M10: =ENTRI!$H$302 -> 0 | N10: =M10/50 -> 0
A11: 3 | B11: =AKPD!H8 -> Saya kadang-kadang masih suka menyontek pada waktu tes | C11: =ENTRI!$I$297 -> 0 | D11: =C11/50 -> 0 | E11: =ENTRI!$I$298 -> #REF! | F11: =E11/50 -> #REF! | G11: =ENTRI!$I$299 -> 0 | H11: =G11/50 -> 0 | I11: =ENTRI!$I$300 -> 0 | J11: =I11/50 -> 0 | K11: =ENTRI!$I$301 -> 0 | L11: =K11/50 -> 0 | M11: =ENTRI!$I$302 -> 0 | N11: =M11/50 -> 0
A12: 4 | B12: =AKPD!H9 -> Saya merasa belum bisa mengendalikan emosi dengan baik | C12: =ENTRI!$J$297 -> 0 | D12: =C12/50 -> 0 | E12: =ENTRI!$J$298 -> #REF! | F12: =E12/50 -> #REF! | G12: =ENTRI!$J$299 -> 0 | H12: =G12/50 -> 0 | I12: =ENTRI!$J$300 -> 0 | J12: =I12/50 -> 0 | K12: =ENTRI!$J$301 -> 0 | L12: =K12/50 -> 0 | M12: =ENTRI!$J$302 -> 0 | N12: =M12/50 -> 0
A13: 5 | B13: =AKPD!H10 -> Saya belum paham tentang sikap dan perilaku asertif | C13: =ENTRI!$K$297 -> 0 | D13: =C13/50 -> 0 | E13: =ENTRI!$K$298 -> #REF! | F13: =E13/50 -> #REF! | G13: =ENTRI!$K$299 -> 0 | H13: =G13/50 -> 0 | I13: =ENTRI!$K$300 -> 0 | J13: =I13/50 -> 0 | K13: =ENTRI!$K$301 -> 0 | L13: =K13/50 -> 0 | M13: =ENTRI!$K$302 -> 0 | N13: =M13/50 -> 0
A14: 6 | B14: =AKPD!H11 -> Saya belum tahu cara mengenal dan memahami diri sendiri | C14: =ENTRI!$L$297 -> 0 | D14: =C14/50 -> 0 | E14: =ENTRI!$L$298 -> #REF! | F14: =E14/50 -> #REF! | G14: =ENTRI!$L$299 -> 0 | H14: =G14/50 -> 0 | I14: =ENTRI!$L$300 -> 0 | J14: =I14/50 -> 0 | K14: =ENTRI!$L$301 -> 0 | L14: =K14/50 -> 0 | M14: =ENTRI!$L$302 -> 0 | N14: =M14/50 -> 0
A15: 7 | B15: =AKPD!H12 -> Saya belum memahami potensi diri | C15: =ENTRI!$M$297 -> 0 | D15: =C15/50 -> 0 | E15: =ENTRI!$M$298 -> #REF! | F15: =E15/50 -> #REF! | G15: =ENTRI!$M$299 -> 0 | H15: =G15/50 -> 0 | I15: =ENTRI!$M$300 -> 0 | J15: =I15/50 -> 0 | K15: =ENTRI!$M$301 -> 0 | L15: =K15/50 -> 0 | M15: =ENTRI!$M$302 -> 0 | N15: =M15/50 -> 0
A16: 8 | B16: =AKPD!H13 -> Saya belum tahu perubahan dan permasalahan yang terjadi pada masa remaja | C16: =ENTRI!$N$297 -> 0 | D16: =C16/50 -> 0 | E16: =ENTRI!$N$298 -> #REF! | F16: =E16/50 -> #REF! | G16: =ENTRI!$N$299 -> 0 | H16: =G16/50 -> 0 | I16: =ENTRI!$N$300 -> 0 | J16: =I16/50 -> 0 | K16: =ENTRI!$N$301 -> 0 | L16: =K16/50 -> 0 | M16: =ENTRI!$N$302 -> 0 | N16: =M16/50 -> 0
A17: 9 | B17: =AKPD!H14 -> Saya belum mengenal tentang macam-macam kepribadian | C17: =ENTRI!$O$297 -> 0 | D17: =C17/50 -> 0 | E17: =ENTRI!$O$298 -> #REF! | F17: =E17/50 -> #REF! | G17: =ENTRI!$O$299 -> 0 | H17: =G17/50 -> 0 | I17: =ENTRI!$O$300 -> 0 | J17: =I17/50 -> 0 | K17: =ENTRI!$O$301 -> 0 | L17: =K17/50 -> 0 | M17: =ENTRI!$O$302 -> 0 | N17: =M17/50 -> 0
A18: 10 | B18: =AKPD!H15 -> Saya kurang memiliki rasa percaya diri | C18: =ENTRI!$P$297 -> 0 | D18: =C18/50 -> 0 | E18: =ENTRI!$P$298 -> #REF! | F18: =E18/50 -> #REF! | G18: =ENTRI!$P$299 -> 0 | H18: =G18/50 -> 0 | I18: =ENTRI!$P$300 -> 0 | J18: =I18/50 -> 0 | K18: =ENTRI!$P$301 -> 0 | L18: =K18/50 -> 0 | M18: =ENTRI!$P$302 -> 0 | N18: =M18/50 -> 0
A19: 11 | B19: =AKPD!H16 -> Saya kadang kurang menjaga kesehatan diri | C19: =ENTRI!$Q$297 -> 0 | D19: =C19/50 -> 0 | E19: =ENTRI!$Q$298 -> #REF! | F19: =E19/50 -> #REF! | G19: =ENTRI!$Q$299 -> 0 | H19: =G19/50 -> 0 | I19: =ENTRI!$Q$300 -> 0 | J19: =I19/50 -> 0 | K19: =ENTRI!$Q$301 -> 0 | L19: =K19/50 -> 0 | M19: =ENTRI!$Q$302 -> 0 | N19: =M19/50 -> 0
A20: 12 | B20: =AKPD!H17 -> Saya belum tahu ciri-ciri/sifat/prilaku pribadi yang berkarakter | C20: =ENTRI!$R$297 -> 0 | D20: =C20/50 -> 0 | E20: =ENTRI!$R$298 -> #REF! | F20: =E20/50 -> #REF! | G20: =ENTRI!$R$299 -> 0 | H20: =G20/50 -> 0 | I20: =ENTRI!$R$300 -> 0 | J20: =I20/50 -> 0 | K20: =ENTRI!$R$301 -> 0 | L20: =K20/50 -> 0 | M20: =ENTRI!$R$302 -> 0 | N20: =M20/50 -> 0
A21: 13 | B21: =AKPD!H18 -> Saya merasa kurang memilki tanggung jawab pada diri sendiri | C21: =ENTRI!$S$297 -> 0 | D21: =C21/50 -> 0 | E21: =ENTRI!$S$298 -> #REF! | F21: =E21/50 -> #REF! | G21: =ENTRI!$S$299 -> 0 | H21: =G21/50 -> 0 | I21: =ENTRI!$S$300 -> 0 | J21: =I21/50 -> 0 | K21: =ENTRI!$S$301 -> 0 | L21: =K21/50 -> 0 | M21: =ENTRI!$S$302 -> 0 | N21: =M21/50 -> 0
A22: 14 | B22: =AKPD!H19 -> Saya kesulitan mengatur waktu belajar dan bermain | C22: =ENTRI!$T$297 -> 0 | D22: =C22/50 -> 0 | E22: =ENTRI!$T$298 -> #REF! | F22: =E22/50 -> #REF! | G22: =ENTRI!$T$299 -> 0 | H22: =G22/50 -> 0 | I22: =ENTRI!$T$300 -> 0 | J22: =I22/50 -> 0 | K22: =ENTRI!$T$301 -> 0 | L22: =K22/50 -> 0 | M22: =ENTRI!$T$302 -> 0 | N22: =M22/50 -> 0
A23: 15 | B23: =AKPD!H20 -> Kondisi orang tua saya sedang tidak harmonis | C23: =ENTRI!$U$297 -> 0 | D23: =C23/50 -> 0 | E23: =ENTRI!$U$298 -> #REF! | F23: =E23/50 -> #REF! | G23: =ENTRI!$U$299 -> 0 | H23: =G23/50 -> 0 | I23: =ENTRI!$U$300 -> 0 | J23: =I23/50 -> 0 | K23: =ENTRI!$U$301 -> 0 | L23: =K23/50 -> 0 | M23: =ENTRI!$U$302 -> 0 | N23: =M23/50 -> 0
A24: 16 | B24: =AKPD!H21 -> Saya merasa tidak betah tinggal di rumah sendiri | C24: =ENTRI!$V$297 -> 0 | D24: =C24/50 -> 0 | E24: =ENTRI!$V$298 -> #REF! | F24: =E24/50 -> #REF! | G24: =ENTRI!$V$299 -> 0 | H24: =G24/50 -> 0 | I24: =ENTRI!$V$300 -> 0 | J24: =I24/50 -> 0 | K24: =ENTRI!$V$301 -> 0 | L24: =K24/50 -> 0 | M24: =ENTRI!$V$302 -> 0 | N24: =M24/50 -> 0
A25: 17 | B25: =AKPD!H22 -> Saya mempunyai masalah dengan anggota keluarga di rumah | C25: =ENTRI!$W$297 -> 0 | D25: =C25/50 -> 0 | E25: =ENTRI!$W$298 -> #REF! | F25: =E25/50 -> #REF! | G25: =ENTRI!$W$299 -> 0 | H25: =G25/50 -> 0 | I25: =ENTRI!$W$300 -> 0 | J25: =I25/50 -> 0 | K25: =ENTRI!$W$301 -> 0 | L25: =K25/50 -> 0 | M25: =ENTRI!$W$302 -> 0 | N25: =M25/50 -> 0
A26: 18 | B26: =AKPD!H23 -> Saya belum bisa menjadi pribadi yang mandiri | C26: =ENTRI!$X$297 -> 0 | D26: =C26/50 -> 0 | E26: =ENTRI!$X$298 -> #REF! | F26: =E26/50 -> #REF! | G26: =ENTRI!$X$299 -> 0 | H26: =G26/50 -> 0 | I26: =ENTRI!$X$300 -> 0 | J26: =I26/50 -> 0 | K26: =ENTRI!$X$301 -> 0 | L26: =K26/50 -> 0 | M26: =ENTRI!$X$302 -> 0 | N26: =M26/50 -> 0
A27: 19 | B27: =AKPD!H24 -> Saya sedang memiliki konflik pribadi | C27: =ENTRI!$Y$297 -> 0 | D27: =C27/50 -> 0 | E27: =ENTRI!$Y$298 -> #REF! | F27: =E27/50 -> #REF! | G27: =ENTRI!$Y$299 -> 0 | H27: =G27/50 -> 0 | I27: =ENTRI!$Y$300 -> 0 | J27: =I27/50 -> 0 | K27: =ENTRI!$Y$301 -> 0 | L27: =K27/50 -> 0 | M27: =ENTRI!$Y$302 -> 0 | N27: =M27/50 -> 0
A28: 20 | B28: =AKPD!H25 -> Saya belum memahami tentang norma/cara membangun berkeluarga | C28: =ENTRI!$Z$297 -> 0 | D28: =C28/50 -> 0 | E28: =ENTRI!$Z$298 -> #REF! | F28: =E28/50 -> #REF! | G28: =ENTRI!$Z$299 -> 0 | H28: =G28/50 -> 0 | I28: =ENTRI!$Z$300 -> 0 | J28: =I28/50 -> 0 | K28: =ENTRI!$Z$301 -> 0 | L28: =K28/50 -> 0 | M28: =ENTRI!$Z$302 -> 0 | N28: =M28/50 -> 0
A29: 21 | B29: =AKPD!H26 -> Saya belum banyak mengenal lingkungan sekolah baru | C29: =ENTRI!$AA$297 -> 0 | D29: =C29/50 -> 0 | E29: =ENTRI!$AA$298 -> #REF! | F29: =E29/50 -> #REF! | G29: =ENTRI!$AA$299 -> 0 | H29: =G29/50 -> 0 | I29: =ENTRI!$AA$300 -> 0 | J29: =I29/50 -> 0 | K29: =ENTRI!$AA$301 -> 0 | L29: =K29/50 -> 0 | M29: =ENTRI!$AA$302 -> 0 | N29: =M29/50 -> 0
A30: 22 | B30: =AKPD!H27 -> Saya belum memahami tentang kenakalan remaja | C30: =ENTRI!$AB$297 -> 0 | D30: =C30/50 -> 0 | E30: =ENTRI!$AB$298 -> #REF! | F30: =E30/50 -> #REF! | G30: =ENTRI!$AB$299 -> 0 | H30: =G30/50 -> 0 | I30: =ENTRI!$AB$300 -> 0 | J30: =I30/50 -> 0 | K30: =ENTRI!$AB$301 -> 0 | L30: =K30/50 -> 0 | M30: =ENTRI!$AB$302 -> 0 | N30: =M30/50 -> 0
A31: 23 | B31: =AKPD!H28 -> Saya masih sedikit mengetahui tentang dampak atau bahaya rokok | C31: =ENTRI!$AC$297 -> 0 | D31: =C31/50 -> 0 | E31: =ENTRI!$AC$298 -> #REF! | F31: =E31/50 -> #REF! | G31: =ENTRI!$AC$299 -> 0 | H31: =G31/50 -> 0 | I31: =ENTRI!$AC$300 -> 0 | J31: =I31/50 -> 0 | K31: =ENTRI!$AC$301 -> 0 | L31: =K31/50 -> 0 | M31: =ENTRI!$AC$302 -> 0 | N31: =M31/50 -> 0
A32: 24 | B32: =AKPD!H29 -> Saya belum banyak mengenal tentang perilaku sosial yang bertanggung jawab | C32: =ENTRI!$AD$297 -> 0 | D32: =C32/50 -> 0 | E32: =ENTRI!$AD$298 -> #REF! | F32: =E32/50 -> #REF! | G32: =ENTRI!$AD$299 -> 0 | H32: =G32/50 -> 0 | I32: =ENTRI!$AD$300 -> 0 | J32: =I32/50 -> 0 | K32: =ENTRI!$AD$301 -> 0 | L32: =K32/50 -> 0 | M32: =ENTRI!$AD$302 -> 0 | N32: =M32/50 -> 0
A33: 25 | B33: =AKPD!H30 -> Saya belum tahu tentang bullying dan cara mensikapinya | C33: =ENTRI!$AE$297 -> 0 | D33: =C33/50 -> 0 | E33: =ENTRI!$AE$298 -> #REF! | F33: =E33/50 -> #REF! | G33: =ENTRI!$AE$299 -> 0 | H33: =G33/50 -> 0 | I33: =ENTRI!$AE$300 -> 0 | J33: =I33/50 -> 0 | K33: =ENTRI!$AE$301 -> 0 | L33: =K33/50 -> 0 | M33: =ENTRI!$AE$302 -> 0 | N33: =M33/50 -> 0
A34: 26 | B34: =AKPD!H31 -> Saya sukar bergaul dengan teman-teman di sekolah | C34: =ENTRI!$AF$297 -> 0 | D34: =C34/50 -> 0 | E34: =ENTRI!$AF$298 -> #REF! | F34: =E34/50 -> #REF! | G34: =ENTRI!$AF$299 -> 0 | H34: =G34/50 -> 0 | I34: =ENTRI!$AF$300 -> 0 | J34: =I34/50 -> 0 | K34: =ENTRI!$AF$301 -> 0 | L34: =K34/50 -> 0 | M34: =ENTRI!$AF$302 -> 0 | N34: =M34/50 -> 0
A35: 27 | B35: =AKPD!H32 -> Sering saya dianggap tidak sopan pada orang lain | C35: =ENTRI!$AG$297 -> 0 | D35: =C35/50 -> 0 | E35: =ENTRI!$AG$298 -> #REF! | F35: =E35/50 -> #REF! | G35: =ENTRI!$AG$299 -> 0 | H35: =G35/50 -> 0 | I35: =ENTRI!$AG$300 -> 0 | J35: =I35/50 -> 0 | K35: =ENTRI!$AG$301 -> 0 | L35: =K35/50 -> 0 | M35: =ENTRI!$AG$302 -> 0 | N35: =M35/50 -> 0
A36: 28 | B36: =AKPD!H33 -> Saya kurang memahami dampak dari media sosial | C36: =ENTRI!$AH$297 -> 0 | D36: =C36/50 -> 0 | E36: =ENTRI!$AH$298 -> #REF! | F36: =E36/50 -> #REF! | G36: =ENTRI!$AH$299 -> 0 | H36: =G36/50 -> 0 | I36: =ENTRI!$AH$300 -> 0 | J36: =I36/50 -> 0 | K36: =ENTRI!$AH$301 -> 0 | L36: =K36/50 -> 0 | M36: =ENTRI!$AH$302 -> 0 | N36: =M36/50 -> 0
A37: 29 | B37: =AKPD!H34 -> Saya jarang bermain/berteman di lingkungan tempat saya tinggal | C37: =ENTRI!$AI$297 -> 0 | D37: =C37/50 -> 0 | E37: =ENTRI!$AI$298 -> #REF! | F37: =E37/50 -> #REF! | G37: =ENTRI!$AI$299 -> 0 | H37: =G37/50 -> 0 | I37: =ENTRI!$AI$300 -> 0 | J37: =I37/50 -> 0 | K37: =ENTRI!$AI$301 -> 0 | L37: =K37/50 -> 0 | M37: =ENTRI!$AI$302 -> 0 | N37: =M37/50 -> 0
A38: 30 | B38: =AKPD!H35 -> Saya belum banyak teman atau sahabat | C38: =ENTRI!$AJ$297 -> 0 | D38: =C38/50 -> 0 | E38: =ENTRI!$AJ$298 -> #REF! | F38: =E38/50 -> #REF! | G38: =ENTRI!$AJ$299 -> 0 | H38: =G38/50 -> 0 | I38: =ENTRI!$AJ$300 -> 0 | J38: =I38/50 -> 0 | K38: =ENTRI!$AJ$301 -> 0 | L38: =K38/50 -> 0 | M38: =ENTRI!$AJ$302 -> 0 | N38: =M38/50 -> 0
A39: 31 | B39: =AKPD!H36 -> Saya kurang suka berkomunikasi dengan teman lawan jenis | C39: =ENTRI!$AK$297 -> 0 | D39: =C39/50 -> 0 | E39: =ENTRI!$AK$298 -> #REF! | F39: =E39/50 -> #REF! | G39: =ENTRI!$AK$299 -> 0 | H39: =G39/50 -> 0 | I39: =ENTRI!$AK$300 -> 0 | J39: =I39/50 -> 0 | K39: =ENTRI!$AK$301 -> 0 | L39: =K39/50 -> 0 | M39: =ENTRI!$AK$302 -> 0 | N39: =M39/50 -> 0
A40: 32 | B40: =AKPD!H37 -> Saya belum tahu cara belajar yang baik dan benar di SMA/MA | C40: =ENTRI!$AL$297 -> 0 | D40: =C40/50 -> 0 | E40: =ENTRI!$AL$298 -> #REF! | F40: =E40/50 -> #REF! | G40: =ENTRI!$AL$299 -> 0 | H40: =G40/50 -> 0 | I40: =ENTRI!$AL$300 -> 0 | J40: =I40/50 -> 0 | K40: =ENTRI!$AL$301 -> 0 | L40: =K40/50 -> 0 | M40: =ENTRI!$AL$302 -> 0 | N40: =M40/50 -> 0
A41: 33 | B41: =AKPD!H38 -> Saya belum tahu cara meraih prestasi di sekolah | C41: =ENTRI!$AM$297 -> 0 | D41: =C41/50 -> 0 | E41: =ENTRI!$AM$298 -> #REF! | F41: =E41/50 -> #REF! | G41: =ENTRI!$AM$299 -> 0 | H41: =G41/50 -> 0 | I41: =ENTRI!$AM$300 -> 0 | J41: =I41/50 -> 0 | K41: =ENTRI!$AM$301 -> 0 | L41: =K41/50 -> 0 | M41: =ENTRI!$AM$302 -> 0 | N41: =M41/50 -> 0
A42: 34 | B42: =AKPD!H39 -> Saya belum paham tentang gaya belajar dan strategi yang sesuai dengannya | C42: =ENTRI!$AN$297 -> 0 | D42: =C42/50 -> 0 | E42: =ENTRI!$AN$298 -> #REF! | F42: =E42/50 -> #REF! | G42: =ENTRI!$AN$299 -> 0 | H42: =G42/50 -> 0 | I42: =ENTRI!$AN$300 -> 0 | J42: =I42/50 -> 0 | K42: =ENTRI!$AN$301 -> 0 | L42: =K42/50 -> 0 | M42: =ENTRI!$AN$302 -> 0 | N42: =M42/50 -> 0
A43: 35 | B43: =AKPD!H40 -> Orang tua saya tidak peduli dengan kegiatan belajar saya | C43: =ENTRI!$AO$297 -> 0 | D43: =C43/50 -> 0 | E43: =ENTRI!$AO$298 -> #REF! | F43: =E43/50 -> #REF! | G43: =ENTRI!$AO$299 -> 0 | H43: =G43/50 -> 0 | I43: =ENTRI!$AO$300 -> 0 | J43: =I43/50 -> 0 | K43: =ENTRI!$AO$301 -> 0 | L43: =K43/50 -> 0 | M43: =ENTRI!$AO$302 -> 0 | N43: =M43/50 -> 0
A44: 36 | B44: =AKPD!H41 -> Saya masih sering menunda-nunda tugas sekolah/pekerjaan rumah (PR) | C44: =ENTRI!$AP$297 -> 0 | D44: =C44/50 -> 0 | E44: =ENTRI!$AP$298 -> #REF! | F44: =E44/50 -> #REF! | G44: =ENTRI!$AP$299 -> 0 | H44: =G44/50 -> 0 | I44: =ENTRI!$AP$300 -> 0 | J44: =I44/50 -> 0 | K44: =ENTRI!$AP$301 -> 0 | L44: =K44/50 -> 0 | M44: =ENTRI!$AP$302 -> 0 | N44: =M44/50 -> 0
A45: 37 | B45: =AKPD!H42 -> Saya merasa kesulitan dalam memahami pelajaran tertentu | C45: =ENTRI!$AQ$297 -> 0 | D45: =C45/50 -> 0 | E45: =ENTRI!$AQ$298 -> #REF! | F45: =E45/50 -> #REF! | G45: =ENTRI!$AQ$299 -> 0 | H45: =G45/50 -> 0 | I45: =ENTRI!$AQ$300 -> 0 | J45: =I45/50 -> 0 | K45: =ENTRI!$AQ$301 -> 0 | L45: =K45/50 -> 0 | M45: =ENTRI!$AQ$302 -> 0 | N45: =M45/50 -> 0
A46: 38 | B46: =AKPD!H43 -> Saya belum tahu cara memanfaatkan sumber belajar | C46: =ENTRI!$AR$297 -> 0 | D46: =C46/50 -> 0 | E46: =ENTRI!$AR$298 -> #REF! | F46: =E46/50 -> #REF! | G46: =ENTRI!$AR$299 -> 0 | H46: =G46/50 -> 0 | I46: =ENTRI!$AR$300 -> 0 | J46: =I46/50 -> 0 | K46: =ENTRI!$AR$301 -> 0 | L46: =K46/50 -> 0 | M46: =ENTRI!$AR$302 -> 0 | N46: =M46/50 -> 0
A47: 39 | B47: =AKPD!H44 -> Saya belajarnya jika akan ada tes atau ujian saja | C47: =ENTRI!$AS$297 -> 0 | D47: =C47/50 -> 0 | E47: =ENTRI!$AS$298 -> #REF! | F47: =E47/50 -> #REF! | G47: =ENTRI!$AS$299 -> 0 | H47: =G47/50 -> 0 | I47: =ENTRI!$AS$300 -> 0 | J47: =I47/50 -> 0 | K47: =ENTRI!$AS$301 -> 0 | L47: =K47/50 -> 0 | M47: =ENTRI!$AS$302 -> 0 | N47: =M47/50 -> 0
A48: 40 | B48: =AKPD!H45 -> Saya belum tahu tentang struktur kurikulum yang ada di sekolah | C48: =ENTRI!$AT$297 -> 0 | D48: =C48/50 -> 0 | E48: =ENTRI!$AT$298 -> #REF! | F48: =E48/50 -> #REF! | G48: =ENTRI!$AT$299 -> 0 | H48: =G48/50 -> 0 | I48: =ENTRI!$AT$300 -> 0 | J48: =I48/50 -> 0 | K48: =ENTRI!$AT$301 -> 0 | L48: =K48/50 -> 0 | M48: =ENTRI!$AT$302 -> 0 | N48: =M48/50 -> 0
A49: 41 | B49: =AKPD!H46 -> Saya merasa malas belajar dan kalau belajar sering ngantuk | C49: =ENTRI!$AU$297 -> 0 | D49: =C49/50 -> 0 | E49: =ENTRI!$AU$298 -> #REF! | F49: =E49/50 -> #REF! | G49: =ENTRI!$AU$299 -> 0 | H49: =G49/50 -> 0 | I49: =ENTRI!$AU$300 -> 0 | J49: =I49/50 -> 0 | K49: =ENTRI!$AU$301 -> 0 | L49: =K49/50 -> 0 | M49: =ENTRI!$AU$302 -> 0 | N49: =M49/50 -> 0
A50: 42 | B50: =AKPD!H47 -> Saya belum terbiasa belajar bersama atau belajar kelompok | C50: =ENTRI!$AV$297 -> 0 | D50: =C50/50 -> 0 | E50: =ENTRI!$AV$298 -> #REF! | F50: =E50/50 -> #REF! | G50: =ENTRI!$AV$299 -> 0 | H50: =G50/50 -> 0 | I50: =ENTRI!$AV$300 -> 0 | J50: =I50/50 -> 0 | K50: =ENTRI!$AV$301 -> 0 | L50: =K50/50 -> 0 | M50: =ENTRI!$AV$302 -> 0 | N50: =M50/50 -> 0
A51: 43 | B51: =AKPD!H48 -> Saya belum paham cara memilih lembaga bimbingan belajar yang baik | C51: =ENTRI!$AW$297 -> 0 | D51: =C51/50 -> 0 | E51: =ENTRI!$AW$298 -> #REF! | F51: =E51/50 -> #REF! | G51: =ENTRI!$AW$299 -> 0 | H51: =G51/50 -> 0 | I51: =ENTRI!$AW$300 -> 0 | J51: =I51/50 -> 0 | K51: =ENTRI!$AW$301 -> 0 | L51: =K51/50 -> 0 | M51: =ENTRI!$AW$302 -> 0 | N51: =M51/50 -> 0
A52: 44 | B52: =AKPD!H49 -> Saya belum dapat memanfaatkan teknologi informasi untuk belajar | C52: =ENTRI!$AX$297 -> 0 | D52: =C52/50 -> 0 | E52: =ENTRI!$AX$298 -> #REF! | F52: =E52/50 -> #REF! | G52: =ENTRI!$AX$299 -> 0 | H52: =G52/50 -> 0 | I52: =ENTRI!$AX$300 -> 0 | J52: =I52/50 -> 0 | K52: =ENTRI!$AX$301 -> 0 | L52: =K52/50 -> 0 | M52: =ENTRI!$AX$302 -> 0 | N52: =M52/50 -> 0
A53: 45 | B53: =AKPD!H50 -> Saya belum tahu cara memperoleh bantuan pendidikan (beasiswa) | C53: =ENTRI!$AY$297 -> 0 | D53: =C53/50 -> 0 | E53: =ENTRI!$AY$298 -> #REF! | F53: =E53/50 -> #REF! | G53: =ENTRI!$AY$299 -> 0 | H53: =G53/50 -> 0 | I53: =ENTRI!$AY$300 -> 0 | J53: =I53/50 -> 0 | K53: =ENTRI!$AY$301 -> 0 | L53: =K53/50 -> 0 | M53: =ENTRI!$AY$302 -> 0 | N53: =M53/50 -> 0
A54: 46 | B54: =AKPD!H51 -> Saya terpaksa harus bekerja untuk mencukupi kebutuhan hidup | C54: =ENTRI!$AZ$297 -> 0 | D54: =C54/50 -> 0 | E54: =ENTRI!$AZ$298 -> #REF! | F54: =E54/50 -> #REF! | G54: =ENTRI!$AZ$299 -> 0 | H54: =G54/50 -> 0 | I54: =ENTRI!$AZ$300 -> 0 | J54: =I54/50 -> 0 | K54: =ENTRI!$AZ$301 -> 0 | L54: =K54/50 -> 0 | M54: =ENTRI!$AZ$302 -> 0 | N54: =M54/50 -> 0
A55: 47 | B55: =AKPD!H52 -> Saya merasa bingung memilih kegiatan esktrakurikuler di sekolah | C55: =ENTRI!$BA$297 -> 0 | D55: =C55/50 -> 0 | E55: =ENTRI!$BA$298 -> #REF! | F55: =E55/50 -> #REF! | G55: =ENTRI!$BA$299 -> 0 | H55: =G55/50 -> 0 | I55: =ENTRI!$BA$300 -> 0 | J55: =I55/50 -> 0 | K55: =ENTRI!$BA$301 -> 0 | L55: =K55/50 -> 0 | M55: =ENTRI!$BA$302 -> 0 | N55: =M55/50 -> 0
A56: 48 | B56: =AKPD!H53 -> Saya merasa belum mantap pada pilihan peminatan yang diambil | C56: =ENTRI!$BB$297 -> 0 | D56: =C56/50 -> 0 | E56: =ENTRI!$BB$298 -> #REF! | F56: =E56/50 -> #REF! | G56: =ENTRI!$BB$299 -> 0 | H56: =G56/50 -> 0 | I56: =ENTRI!$BB$300 -> 0 | J56: =I56/50 -> 0 | K56: =ENTRI!$BB$301 -> 0 | L56: =K56/50 -> 0 | M56: =ENTRI!$BB$302 -> 0 | N56: =M56/50 -> 0
A57: 49 | B57: =AKPD!H54 -> Saya merasa belum paham hubungan antara hobi, bakat, minat, kemampuan dan karir | C57: =ENTRI!$BC$297 -> 0 | D57: =C57/50 -> 0 | E57: =ENTRI!$BC$298 -> #REF! | F57: =E57/50 -> #REF! | G57: =ENTRI!$BC$299 -> 0 | H57: =G57/50 -> 0 | I57: =ENTRI!$BC$300 -> 0 | J57: =I57/50 -> 0 | K57: =ENTRI!$BC$301 -> 0 | L57: =K57/50 -> 0 | M57: =ENTRI!$BC$302 -> 0 | N57: =M57/50 -> 0
A58: 50 | B58: =AKPD!H55 -> Saya belum memiliki perencanaan karir masa depan | C58: =ENTRI!$BD$297 -> 0 | D58: =C58/50 -> 0 | E58: =ENTRI!$BD$298 -> #REF! | F58: =E58/50 -> #REF! | G58: =ENTRI!$BD$299 -> 0 | H58: =G58/50 -> 0 | I58: =ENTRI!$BD$300 -> 0 | J58: =I58/50 -> 0 | K58: =ENTRI!$BD$301 -> 0 | L58: =K58/50 -> 0 | M58: =ENTRI!$BD$302 -> 0 | N58: =M58/50 -> 0
A59: JUMLAH | C59: =SUM(C9:C58) -> 0 | D59: =SUM(C59/ENTRI!$BE$291) -> #DIV/0! | E59: =SUM(E9:E58) -> #REF! | F59: =SUM(E59/ENTRI!$BE$291) -> #REF! | G59: =SUM(G9:G58) -> 0 | H59: =SUM(G59/ENTRI!$BE$291) -> #DIV/0! | I59: =SUM(I9:I58) -> 0 | J59: =SUM(I59/ENTRI!$BE$291) -> #DIV/0! | K59: =SUM(K9:K58) -> 0 | L59: =SUM(K59/ENTRI!$BE$291) -> #DIV/0! | M59: =SUM(M9:M58) -> 0 | N59: =SUM(M59/ENTRI!$BE$291) -> #DIV/0!
C62: NO | D62: KELAS | E62: JML | F62: % | H62: DESKRIPSI
C63: 1 | D63: =C7 -> Cut Nyak Dien | E63: =C59 -> 0 | F63: =D59 -> #DIV/0! | H63: Dari tabel data diatas, yang memiliki kebutuhan tertinggi adalah kelas X.MIPA1 dan yang paling rendah adalah kelas X.MIPA3
C64: 2 | D64: =E7 -> #REF! | E64: =E59 -> #REF! | F64: =F59 -> #REF!
C65: 3 | D65: =G7 -> 0 | E65: =G59 -> 0 | F65: =H59 -> #DIV/0!
C66: 4 | D66: =I7 -> 0 | E66: =I59 -> 0 | F66: =J59 -> #DIV/0!
C67: 5 | D67: =K7 -> 0 | E67: =K59 -> 0 | F67: =L59 -> #DIV/0!
C68: 6 | D68: =M7 -> 0 | E68: =M59 -> 0 | F68: =N59 -> #DIV/0!

Sheet PROFIL KONSELI
A1: PROFIL KONSELI DARI HASIL ANGKET KEBUTUHAN PESERTA DIDIK
A2: SMA NEGERI 1 TAPAKTUAN
C3: KELAS : | D3: Cut Nyak dien, Teuku Umar, Cut Meutia, Laksamana malahayati, TR Angkasa, Panglima RL, T.Cut Ali
C4: TAHUN : | D4: 2026/ 2027
A5: NOMOR | B5: NAMA | D5: NAMA SISWA | E5: L/P | F5: JUMLAH | G5: %
A7: Urut | B7: Kode | C7: Induk
A8: =ENTRI!B10 -> 1 | B8: =ENTRI!C10 -> A1 | C8: =ENTRI!D10 -> 0 | D8: =ENTRI!E10 -> ARKAN AL-MUBARRAQ | E8: =ENTRI!F10 -> L | F8: =ENTRI!BE10 -> 0 | G8: =F8/50 -> 0
A9: =ENTRI!B11 -> 2 | B9: =ENTRI!C11 -> A2 | C9: =ENTRI!D11 -> X | D9: =ENTRI!E11 -> AKSYA AKILIA | E9: =ENTRI!F11 -> P | F9: =ENTRI!BE11 -> 0 | G9: =F9/50 -> 0
A10: =ENTRI!B12 -> 3 | B10: =ENTRI!C12 -> A3 | C10: =ENTRI!D12 -> 0 | D10: =ENTRI!E12 -> AMIRATUL SYAKIRA | E10: =ENTRI!F12 -> P | F10: =ENTRI!BE12 -> 0 | G10: =F10/50 -> 0
A11: =ENTRI!B13 -> 4 | B11: =ENTRI!C13 -> A4 | C11: =ENTRI!D13 -> 0 | D11: =ENTRI!E13 -> ANGGI DWI SAFIRA | E11: =ENTRI!F13 -> P | F11: =ENTRI!BE13 -> 0 | G11: =F11/50 -> 0
A12: =ENTRI!B14 -> 5 | B12: =ENTRI!C14 -> A5 | C12: =ENTRI!D14 -> 0 | D12: =ENTRI!E14 -> ASYRAFI NURMAHMUDI | E12: =ENTRI!F14 -> L | F12: =ENTRI!BE14 -> 0 | G12: =F12/50 -> 0
A13: =ENTRI!B15 -> 6 | B13: =ENTRI!C15 -> A6 | C13: =ENTRI!D15 -> 0 | D13: =ENTRI!E15 -> ATHIYA SABRINA OKTI | E13: =ENTRI!F15 -> P | F13: =ENTRI!BE15 -> 0 | G13: =F13/50 -> 0
A14: =ENTRI!B16 -> 7 | B14: =ENTRI!C16 -> A7 | C14: =ENTRI!D16 -> 0 | D14: =ENTRI!E16 -> DAFFA ARIF HAIKAL | E14: =ENTRI!F16 -> L | F14: =ENTRI!BE16 -> 0 | G14: =F14/50 -> 0
A15: =ENTRI!B17 -> 8 | B15: =ENTRI!C17 -> A8 | C15: =ENTRI!D17 -> 0 | D15: =ENTRI!E17 -> DHABIT ALFAWAZI | E15: =ENTRI!F17 -> L | F15: =ENTRI!BE17 -> 0 | G15: =F15/50 -> 0
A16: =ENTRI!B18 -> 9 | B16: =ENTRI!C18 -> A9 | C16: =ENTRI!D18 -> 0 | D16: =ENTRI!E18 -> FARISYAA SALSABILLA | E16: =ENTRI!F18 -> P | F16: =ENTRI!BE18 -> 0 | G16: =F16/50 -> 0
A17: =ENTRI!B19 -> 10 | B17: =ENTRI!C19 -> A10 | C17: =ENTRI!D19 -> 0 | D17: =ENTRI!E19 -> FATHAN FIDIANSYAH | E17: =ENTRI!F19 -> L | F17: =ENTRI!BE19 -> 0 | G17: =F17/50 -> 0
A18: =ENTRI!B20 -> 11 | B18: =ENTRI!C20 -> A11 | C18: =ENTRI!D20 -> 0 | D18: =ENTRI!E20 -> FATHIA AZZAHIRA | E18: =ENTRI!F20 -> L | F18: =ENTRI!BE20 -> 0 | G18: =F18/50 -> 0
A19: =ENTRI!B21 -> 12 | B19: =ENTRI!C21 -> A12 | C19: =ENTRI!D21 -> 0 | D19: =ENTRI!E21 -> HAFIZ AL HADI | E19: =ENTRI!F21 -> L | F19: =ENTRI!BE21 -> 0 | G19: =F19/50 -> 0
... A26: =ENTRI!B28 -> 19 | B26: =ENTRI!C28 -> A19 | C26: =ENTRI!D28 -> 0 | D26: =ENTRI!E28 -> MUHAMMAD DAFFA PRABUDI | E26: =ENTRI!F28 -> L | F26: =ENTRI!BE28 -> 0 | G26: =F26/50 -> 0
A27: =ENTRI!B38 -> 29 | B27: =ENTRI!C38 -> A29 | C27: =ENTRI!D38 -> 0 | D27: =ENTRI!E38 -> TALITHA AMIRA SAKHI | E27: =ENTRI!F38 -> P | F27: =ENTRI!BE38 -> 0 | G27: =F27/50 -> 0
A28: =ENTRI!#REF! -> #REF! | B28: =ENTRI!#REF! -> #REF! | C28: =ENTRI!#REF! -> #REF! | D28: =ENTRI!#REF! -> #REF! | E28: =ENTRI!#REF! -> #REF! | F28: =ENTRI!#REF! -> #REF! | G28: =F28/50 -> #REF!
A29: =ENTRI!#REF! -> #REF! | B29: =ENTRI!#REF! -> #REF! | C29: =ENTRI!#REF! -> #REF! | D29: =ENTRI!#REF! -> #REF! | E29: =ENTRI!#REF! -> #REF! | F29: =ENTRI!#REF! -> #REF! | G29: =F29/50 -> #REF!
A30: =ENTRI!#REF! -> #REF! | B30: =ENTRI!#REF! -> #REF! | C30: =ENTRI!#REF! -> #REF! | D30: =ENTRI!#REF! -> #REF! | E30: =ENTRI!#REF! -> #REF! | F30: =ENTRI!#REF! -> #REF! | G30: =F30/50 -> #REF!
A31: =ENTRI!#REF! -> #REF! | B31: =ENTRI!#REF! -> #REF! | C31: =ENTRI!#REF! -> #REF! | D31: =ENTRI!#REF! -> #REF! | E31: =ENTRI!#REF! -> #REF! | F31: =ENTRI!#REF! -> #REF! | G31: =F31/50 -> #REF!
A32: =ENTRI!#REF! -> #REF! | B32: =ENTRI!#REF! -> #REF! | C32: =ENTRI!#REF! -> #REF! | D32: =ENTRI!#REF! -> #REF! | E32: =ENTRI!#REF! -> #REF! | F32: =ENTRI!#REF! -> #REF! | G32: =F32/50 -> #REF!
A33: =ENTRI!#REF! -> #REF! | B33: =ENTRI!#REF! -> #REF! | C33: =ENTRI!#REF! -> #REF! | D33: =ENTRI!#REF! -> #REF! | E33: =ENTRI!#REF! -> #REF! | F33: =ENTRI!#REF! -> #REF! | G33: =F33/50 -> #REF!
A34: =ENTRI!#REF! -> #REF! | B34: =ENTRI!#REF! -> #REF! | C34: =ENTRI!#REF! -> #REF! | D34: =ENTRI!#REF! -> #REF! | E34: =ENTRI!#REF! -> #REF! | F34: =ENTRI!#REF! -> #REF! | G34: =F34/50 -> #REF!
A35: =ENTRI!#REF! -> #REF! | B35: =ENTRI!#REF! -> #REF! | C35: =ENTRI!#REF! -> #REF! | D35: =ENTRI!#REF! -> #REF! | E35: =ENTRI!#REF! -> #REF! | F35: =ENTRI!#REF! -> #REF! | G35: =F35/50 -> #REF!
A36: =ENTRI!#REF! -> #REF! | B36: =ENTRI!#REF! -> #REF! | C36: =ENTRI!#REF! -> #REF! | D36: =ENTRI!#REF! -> #REF! | E36: =ENTRI!#REF! -> #REF! | F36: =ENTRI!#REF! -> #REF! | G36: =F36/50 -> #REF!
A37: =ENTRI!#REF! -> #REF! | B37: =ENTRI!#REF! -> #REF! | C37: =ENTRI!#REF! -> #REF! | D37: =ENTRI!#REF! -> #REF! | E37: =ENTRI!#REF! -> #REF! | F37: =ENTRI!#REF! -> #REF! | G37: =F37/50 -> #REF!
A38: =ENTRI!#REF! -> #REF! | B38: =ENTRI!#REF! -> #REF! | C38: =ENTRI!#REF! -> #REF! | D38: =ENTRI!#REF! -> #REF! | E38: =ENTRI!#REF! -> #REF! | F38: =ENTRI!#REF! -> #REF! | G38: =F38/50 -> #REF!
A39: =ENTRI!#REF! -> #REF! | B39: =ENTRI!#REF! -> #REF! | C39: =ENTRI!#REF! -> #REF! | D39: =ENTRI!#REF! -> #REF! | E39: =ENTRI!#REF! -> #REF! | F39: =ENTRI!#REF! -> #REF! | G39: =F39/50 -> #REF!
... A47: =ENTRI!#REF! -> #REF! | B47: =ENTRI!#REF! -> #REF! | C47: =ENTRI!#REF! -> #REF! | D47: =ENTRI!#REF! -> #REF! | E47: =ENTRI!#REF! -> #REF! | F47: =ENTRI!#REF! -> #REF! | G47: =F47/50 -> #REF!

Sheet DESKRIPSI KEBTH AKPD
A1: DESKRIPSI KEBUTUHAN PESERTA DIDIK/KONSELI
A2: SMA NEGERI 1 TAPAKTUAN
A3: KELAS | B3: Cut Nyak dien, Teuku Umar, Cut Meutia, Laksamana malahayati, TR Angkasa, Panglima RL, T.Cut Ali
A4: TAHUN | B4: 2026/ 2027
A5: A. DESKRIPSI KEBUTUHAN PESERTA DIDIK DARI HASIL ASESMEN AKPD
A7: BIDANG LAYANAN | B7: ASSESMEN KEBUTUHAN | C7: RUMUSAN KEBUTUHAN
A8: PRIBADI | B8: =AKPD!H6 -> Saya merasa belum disiplin dalam beribadah pada Tuhan YME | C8: =AKPD!J6 -> Kesadaran untuk beriman dan bertakwa pada Tuhan YME
B9: =AKPD!H7 -> Saya kadang-kadang berperilaku dan bertutur kata tidak jujur | C9: =AKPD!J7 -> Kebiasaan bersikap jujur
B10: =AKPD!H8 -> Saya kadang-kadang masih suka menyontek pada waktu tes | C10: =AKPD!J8 -> Kemampuan memiliki kebiasaan jujur dan tidak mencontek saat tes
B11: =AKPD!H9 -> Saya merasa belum bisa mengendalikan emosi dengan baik | C11: =AKPD!J9 -> Kemampuan mengelola emosi dengan baik
B12: =AKPD!H10 -> Saya belum paham tentang sikap dan perilaku asertif | C12: =AKPD!J10 -> Komunikasi yang jujur dan tetap menjaga perasaan
B13: =AKPD!H11 -> Saya belum tahu cara mengenal dan memahami diri sendiri | C13: =AKPD!J11 -> Melakukan pengenalan/pemahaman diri
B14: =AKPD!H12 -> Saya belum memahami potensi diri | C14: =AKPD!J12 -> Memahami potensi diri
B15: =AKPD!H13 -> Saya belum tahu perubahan dan permasalahan yang terjadi pada masa remaja | C15: =AKPD!J13 -> Masa perkembangan remaja dan permasalahannya
B16: =AKPD!H14 -> Saya belum mengenal tentang macam-macam kepribadian | C16: =AKPD!J14 -> Mengenal kepribadian yang dimiliki manusia
B17: =AKPD!H15 -> Saya kurang memiliki rasa percaya diri | C17: =AKPD!J15 -> Memiliki kepercayaan diri
B18: =AKPD!H16 -> Saya kadang kurang menjaga kesehatan diri | C18: =AKPD!J16 -> Kemampuan menjaga kesehatan dengan baik
B19: =AKPD!H17 -> Saya belum tahu ciri-ciri/sifat/prilaku pribadi yang berkarakter | C19: =AKPD!J17 -> Memiliki ciri-ciri/sifat pribadi yang berkarakter
B20: =AKPD!H18 -> Saya merasa kurang memilki tanggung jawab pada diri sendiri | C20: =AKPD!J18 -> Memiliki rasa tanggung jawab
... B27: =AKPD!H25 -> Saya belum memahami tentang norma/cara membangun berkeluarga | C27: =AKPD!J25 -> Memiliki pengetahuan tentang norma berkeluarga
A28: SOSIAL | B28: =AKPD!H26 -> Saya belum banyak mengenal lingkungan sekolah baru | C28: =AKPD!J26 -> Mengenal lingkungan sekolah baru
B29: =AKPD!H27 -> Saya belum memahami tentang kenakalan remaja | C29: =AKPD!J27 -> Memiliki pemahaman tentang kenakalan remaja
B30: =AKPD!H28 -> Saya masih sedikit mengetahui tentang dampak atau bahaya rokok | C30: =AKPD!J28 -> Memiliki pemahaman tentang bahaya rokok
B31: =AKPD!H29 -> Saya belum banyak mengenal tentang perilaku sosial yang bertanggung jawab | C31: =AKPD!J29 -> Memiliki perilaku sosial yang bertanggung jawab
B32: =AKPD!H30 -> Saya belum tahu tentang bullying dan cara mensikapinya | C32: =AKPD!J30 -> Memahami tentang bullying
B33: =AKPD!H31 -> Saya sukar bergaul dengan teman-teman di sekolah | C33: =AKPD!J31 -> Memiliki etika bergaul dengan teman sebaya
B34: =AKPD!H32 -> Sering saya dianggap tidak sopan pada orang lain | C34: =AKPD!J32 -> Memiliki sikap sopan santun pada orang lain
B35: =AKPD!H33 -> Saya kurang memahami dampak dari media sosial | C35: =AKPD!J33 -> Memiliki pemahaman tentang dampak dari media sosial
B36: =AKPD!H34 -> Saya jarang bermain/berteman di lingkungan tempat saya tinggal | C36: =AKPD!J34 -> Kesadaran sebagai makhluk sosial yang harus berinteraksi
B37: =AKPD!H35 -> Saya belum banyak teman atau sahabat | C37: =AKPD!J35 -> Kemudahan mencari dan disenangi teman
B38: =AKPD!H36 -> Saya kurang suka berkomunikasi dengan teman lawan jenis | C38: =AKPD!J36 -> Memiliki pemahaman tentang hubungan komunikasi dengan lawan jenis
A39: BELAJAR | B39: =AKPD!H37 -> Saya belum tahu cara belajar yang baik dan benar di SMA/MA | C39: =AKPD!J37 -> Memahami belajar yang benar di SMA/MA
B40: =AKPD!H38 -> Saya belum tahu cara meraih prestasi di sekolah | C40: =AKPD!J38 -> Memiliki motivasi untuk berprestasi
B41: =AKPD!H39 -> Saya belum paham tentang gaya belajar dan strategi yang sesuai dengannya | C41: =AKPD!J39 -> Menemukan cara belajar yang sesuai dengan gaya belajar
B42: =AKPD!H40 -> Orang tua saya tidak peduli dengan kegiatan belajar saya | C42: =AKPD!J40 -> Kepedulian orang tua pada kegiatan belajar
B43: =AKPD!H41 -> Saya masih sering menunda-nunda tugas sekolah/pekerjaan rumah (PR) | C43: =AKPD!J41 -> Melaksanakan Tugas Sekolah / PR tepat waktu
B44: =AKPD!H42 -> Saya merasa kesulitan dalam memahami pelajaran tertentu | C44: =AKPD!J42 -> Mudah memahami pelajaran
B45: =AKPD!H43 -> Saya belum tahu cara memanfaatkan sumber belajar | C45: =AKPD!J43 -> Mampu memanfaatkan sumber belajar
B46: =AKPD!H44 -> Saya belajarnya jika akan ada tes atau ujian saja | C46: =AKPD!J44 -> Kesadaran belajar sesuai jadwal
B47: =AKPD!H45 -> Saya belum tahu tentang struktur kurikulum yang ada di sekolah | C47: =AKPD!J45 -> Memahami struktru kurikulum sekolah
B48: =AKPD!H46 -> Saya merasa malas belajar dan kalau belajar sering ngantuk | C48: =AKPD!J46 -> Memiliki semangat belajar
B49: =AKPD!H47 -> Saya belum terbiasa belajar bersama atau belajar kelompok | C49: =AKPD!J47 -> Membentuk belajar kelompok
B50: =AKPD!H48 -> Saya belum paham cara memilih lembaga bimbingan belajar yang baik | C50: =AKPD!J48 -> Mengetahui cara memilih lembaga bimbil yang baik
B51: =AKPD!H49 -> Saya belum dapat memanfaatkan teknologi informasi untuk belajar | C51: =AKPD!J49 -> Pemanfaatan perkembangan teknologi informasi
A52: KARIR | B52: =AKPD!H50 -> Saya belum tahu cara memperoleh bantuan pendidikan (beasiswa) | C52: =AKPD!J50 -> Memperoleh informasi bantuan/beasiswa
B53: =AKPD!H51 -> Saya terpaksa harus bekerja untuk mencukupi kebutuhan hidup | C53: =AKPD!J51 -> Memperoleh penghasilan untuk biaya hidup
B54: =AKPD!H52 -> Saya merasa bingung memilih kegiatan esktrakurikuler di sekolah | C54: =AKPD!J52 -> Memiliki kemampuan untuk memilih kegiatan ekstra kurikuler
B55: =AKPD!H53 -> Saya merasa belum mantap pada pilihan peminatan yang diambil | C55: =AKPD!J53 -> Memiliki kemantapan pada pilihan peminatan yang diambil
B56: =AKPD!H54 -> Saya merasa belum paham hubungan antara hobi, bakat, minat, kemampuan dan karir | C56: =AKPD!J54 -> Memahami hubungan hobi, bakat, minat, kemampuan dan karir
B57: =AKPD!H55 -> Saya belum memiliki perencanaan karir masa depan | C57: =AKPD!J55 -> Memiliki perencanaan karir yang baik
A65: B. DESKRIPSI KEBUTUHAN PESERTA DIDIK DARI HASIL ASESMEN SEKOLAH
A67: NO | B67: HASIL ASSESMEN KEBUTUHAN | C67: RUMUSAN KEBUTUHAN
A68: 1 | B68: Banyak siswa yang membuang sampah tidak pada tempatnya | C68: Budaya bersih dengan membuang sampah pada tempatnya
A69: 2 | B69: Setiap ucara banyak siswa tidak tertib | C69: Pentingnya upacara bendera
A70: 3 | B70: Banyak siswa kesulitan saat mendaftar di Perguruan Tinggi secara online | C70: Kemampuan mendaftar di peerguruan tinggi secara online

Sheet DESKRIPSI KEB SARANA
A1: DESKRIPSI KEBUTUHAN SARANA DAN PRASARANA
A2: SMA NEGERI 1 TAPAKTUAN
A3: KELAS | B3: Cut Nyak dien, Teuku Umar, Cut Meutia, Laksamana malahayati, TR Angkasa, Panglima RL, T.Cut Ali
A4: TAHUN | B4: =HOME!G9 -> 2019/2020
A6: NO | B6: HASIL ASESMEN KEBUTUHAN | C6: RUMUSAN KEBUTUHAN DALAM BENTUK KEGIATAN
A7: 1 | B7: Ruang penyimpanan data yang rapih | C7: Membuat proposal pengadaan ruang penyimpanan data yang beserta almari kabinetnya
A8: 2 | B8: Instrumen BK yang standar | C8: Membuat proposal pengadaan instrument bk yang baku
A9: 3 | B9: Peralatan administrasi yang memadai | C9: Membuat proposal pengadaan komputer dan jaringan internet

Sheet Sheet1

Sheet RUMUSAN TUJUAN
A1: RUMUSAN TUJUAN PESERTA DIDIK
A2: SMA NEGERI 1 TAPAKTUAN
A3: KELAS | B3: Cut Nyak dien, Teuku Umar, Cut Meutia, Laksamana malahayati, TR Angkasa, Panglima RL, T.Cut Ali
A4: TAHUN | B4: =HOME!G9 -> 2019/2020
A6: BIDANG LAYANAN | B6: RUMUSAN KEBUTUHAN | C6: TUJUAN LAYANAN
A7: PRIBADI | B7: =AKPD!J6 -> Kesadaran untuk beriman dan bertakwa pada Tuhan YME | C7: =AKPD!L6 -> Peserta didik/konseli mampu memahami pentingnya iman dan taqwa pada Tuhan YME serta dapat hidup rukun, damai dan saling menghormati antar umat beragama
B8: =AKPD!J7 -> Kebiasaan bersikap jujur | C8: =AKPD!L7 -> Peserta didik/konseli dapat menjadi individu yang memiliki integritas diri serta dapat memancarkan kepercayaan diri dan sikap yang tidak mementingkan diri sendiri
B9: =AKPD!J8 -> Kemampuan memiliki kebiasaan jujur dan tidak mencontek saat tes | C9: =AKPD!L8 -> Peserta didik/konseli dapat menjadi individu yang memiliki sikap jujur dan tidak mencontek
B10: =AKPD!J9 -> Kemampuan mengelola emosi dengan baik | C10: =AKPD!L9 -> Peserta didik/konseli dapat menjadi individu yang mampu mengendalikan emosi
B11: =AKPD!J10 -> Komunikasi yang jujur dan tetap menjaga perasaan | C11: =AKPD!L10 -> Peserta didik/konseli mampu membedakan perilaku agresif dan asertif, menerapkan prilaku asertif dengan teman-temannya serta mengembangkan sikap asertif untuk menunjang prestasi
B12: =AKPD!J11 -> Melakukan pengenalan/pemahaman diri | C12: =AKPD!L11 -> Peserta didik/konseli dapat memahami dan menemukan unsur-unsur konsep diri serta memahami dan menerima kelebihan dan kekurangan secara wajar dan penuh rasa syukur
B13: =AKPD!J12 -> Memahami potensi diri | C13: =AKPD!L12 -> Peserta didik/konseli dapat mengenal dan menggali potensi diri serta berusaha mengoptimalkannya untuk meraih sukses masa depan
B14: =AKPD!J13 -> Masa perkembangan remaja dan permasalahannya | C14: =AKPD!L13 -> Peserta didik/konseli mampu mengenal ciri-ciri perkembangan remaja, dapat memahami tugas perkembangan, mengatasi masalah yang dihadapi dalam perkembangan
B15: =AKPD!J14 -> Mengenal kepribadian yang dimiliki manusia | C15: =AKPD!L14 -> Peserta didik/konseli mampu mengenal tipe-tipe kepribadian manusia, mengenal kepribadian yang dimiliki serta dapat tumbuh menjadi pribadi yang matang
B16: =AKPD!J15 -> Memiliki kepercayaan diri | C16: =AKPD!L15 -> Peserta didik/konseli dapat memahami ciri-ciri pribadi yang memiliki rasa percaya diri serta dapat meningkatkan percaya diri dengan baik untuk mencapai tujuan hidupnya
B17: =AKPD!J16 -> Kemampuan menjaga kesehatan dengan baik | C17: =AKPD!L16 -> Peserta didik/konseli mampu memahami pentingnya polah hidup bersih dan sehat serta dapat melakukan kebiasaan hidup bersih dan sehat sehari-hari yang dapat mempengaruhi kesehatan
B18: =AKPD!J17 -> Memiliki ciri-ciri/sifat pribadi yang berkarakter | C18: =AKPD!L17 -> Peserta didik/konseli mampu memiliki perasaan positif untuk membangun pribadi yang berkarakter yang akan berkontribusi pada peningkatan mutu karakter bangsa
B19: =AKPD!J18 -> Memiliki rasa tanggung jawab | C19: =AKPD!L18 -> Peserta didik/konseli mampu memiliki rasa tanggung jawab pada diri sendiri dan orang lain
... B26: =AKPD!J25 -> Memiliki pengetahuan tentang norma berkeluarga | C26: =AKPD!L25 -> Peserta didik/konseli memiliki pengetahuan tentang norma berkeluarga
A27: SOSIAL | B27: =AKPD!J26 -> Mengenal lingkungan sekolah baru | C27: =AKPD!L26 -> Peserta didik/konseli dapat mengenal aspek-aspek penyesuaian diri serta dapat menerapkan sikap dan kebiasaan dengan lingkungannya
B28: =AKPD!J27 -> Memiliki pemahaman tentang kenakalan remaja | C28: =AKPD!L27 -> Peserta didik/konseli dapat mengetahui bentuk atau jenis kenakalan remaja, dampak terhadap pribadi dan lingkungan serta berusaha untuk menghindarinya
B29: =AKPD!J28 -> Memiliki pemahaman tentang bahaya rokok | C29: =AKPD!L28 -> Peserta didik/konseli memiliki pemahaman tentang bahaya dan dampak rokok bagi kesehatan tubuh dan lingkungan serta cara untuk menolak ajakan untuk merokok dalam bentuk apapun
B30: =AKPD!J29 -> Memiliki perilaku sosial yang bertanggung jawab | C30: =AKPD!L29 -> Peserta didik/konseli mampu memahami pentingnya berprilaku sosial yang baik, serta memiliki sikap untuk hidup bersosial yang bertanggung jawab dalam sebuah masyarakat
B31: =AKPD!J30 -> Memahami tentang bullying | C31: =AKPD!L30 -> Peserta didik/konseli mampu memahami tentang bullying, bahaya prilaku bullying, sebab dan dampak bullying, serta berani cara melawan tindakan bullying
B32: =AKPD!J31 -> Memiliki etika bergaul dengan teman sebaya | C32: =AKPD!L31 -> Peserta didik/konseli mampu memahami norma-norma dalam masyarakat serta dapat bersosialisasidan bergaul dengan teman sebaya sesuai dengan etika yang baik
B33: =AKPD!J32 -> Memiliki sikap sopan santun pada orang lain | C33: =AKPD!L32 -> Peserta didik/konseli mampu memahami nilai-nilai dan cara bertingkah laku sopan santun dalam kehidupan di luar kelompok teman sebaya
B34: =AKPD!J33 -> Memiliki pemahaman tentang dampak dari media sosial | C34: =AKPD!L33 -> Peserta didik/konseli dapat memahami dampak positif dan negatif bermain handphone atau media sosial
B35: =AKPD!J34 -> Kesadaran sebagai makhluk sosial yang harus berinteraksi | C35: =AKPD!L34 -> Peserta didik/konseli memiliki Kesadaran sebagai makhluk sosial yang harus berinteraksi
B36: =AKPD!J35 -> Kemudahan mencari dan disenangi teman | C36: =AKPD!L35 -> Peserta didik/konseli mudah mencari dan disenangi teman
B37: =AKPD!J36 -> Memiliki pemahaman tentang hubungan komunikasi dengan lawan jenis | C37: =AKPD!L36 -> Peserta didik/konseli memiliki pemahaman tentang norma hubungan komunikasi dengan lawan jenis
A38: BELAJAR | B38: =AKPD!J37 -> Memahami belajar yang benar di SMA/MA | C38: =AKPD!L37 -> Peserta didik/konseli dapat mengenal sikap dalam belajar serta menerapkan sikap dan kebiasaan dalam belajar yang baik di SMA-MA hingga mencapai prestasi yang lebih luas
B39: =AKPD!J38 -> Memiliki motivasi untuk berprestasi | C39: =AKPD!L38 -> Peserta didik/konseli mampu memahami pengertian motivasi berprestasi, mengetahui dan menerapkan cara untuk meningkatkan motivasi berprestasi
B40: =AKPD!J39 -> Menemukan cara belajar yang sesuai dengan gaya belajar | C40: =AKPD!L39 -> Peserta didik/konseli dapat memahami dan mengetahui tentang gaya belajar serta strategi belajarnya untuk masing-masing gaya belajar tersebut
B41: =AKPD!J40 -> Kepedulian orang tua pada kegiatan belajar | C41: =AKPD!L40 -> Peserta didik/konseli selalu mendapat perhatian orang tua dalam belajarnya
B42: =AKPD!J41 -> Melaksanakan Tugas Sekolah / PR tepat waktu | C42: =AKPD!L41 -> Peserta didik/konseli memiliki kedisiplinan dalam belajar
B43: =AKPD!J42 -> Mudah memahami pelajaran | C43: =AKPD!L42 -> Peserta didik/konseli dapat memahami teknik memahami pelajaran
B44: =AKPD!J43 -> Mampu memanfaatkan sumber belajar | C44: =AKPD!L43 -> Peserta didik/konseli dapat memanfaatkan sumber belajar dalam kegiatan belajarnya
B45: =AKPD!J44 -> Kesadaran belajar sesuai jadwal | C45: =AKPD!L44 -> Peserta didik/konseli dapat mengatur waktu belajarnya
B46: =AKPD!J45 -> Memahami struktru kurikulum sekolah | C46: =AKPD!L45 -> Peserta didik/konseli dapat memahami tentang struktur kurikulum sekolah
B47: =AKPD!J46 -> Memiliki semangat belajar | C47: =AKPD!L46 -> Peserta didik/konseli memiliki motivasi dalam belajar
B48: =AKPD!J47 -> Membentuk belajar kelompok | C48: =AKPD!L47 -> Peserta didik/konseli dapat belajar kelompok dengan temannya
B49: =AKPD!J48 -> Mengetahui cara memilih lembaga bimbil yang baik | C49: =AKPD!L48 -> Peserta didik/konseli dapat memilih lembaga bimbingan belajar yang tepat
B50: =AKPD!J49 -> Pemanfaatan perkembangan teknologi informasi | C50: =AKPD!L49 -> Peserta didik/konseli dapat memanfaatkan teknologi informasi untuk belajar
A51: KARIR | B51: =AKPD!J50 -> Memperoleh informasi bantuan/beasiswa | C51: =AKPD!L50 -> Peserta didik/konseli dapat memanfaatkan peluang beasiswa yang ada
B52: =AKPD!J51 -> Memperoleh penghasilan untuk biaya hidup | C52: =AKPD!L51 -> Peserta didik/ konseli mampu mengatur kegiatan antara belajar sambil bekerja
B53: =AKPD!J52 -> Memiliki kemampuan untuk memilih kegiatan ekstra kurikuler | C53: =AKPD!L52 -> Peserta didik/konseli mampu memilih kegiatan ekstra kurikuler yang sesuai dengan bakat, minat dan kemampuannya
B54: =AKPD!J53 -> Memiliki kemantapan pada pilihan peminatan yang diambil | C54: =AKPD!L53 -> Peserta didik/konseli mantap pada pilihan peminatan yang telah diambil
B55: =AKPD!J54 -> Memahami hubungan hobi, bakat, minat, kemampuan dan karir | C55: =AKPD!L54 -> Peserta didik/konseli mampu memahami peranan hobi, bakat, minat dalam karir masa depannya
B56: =AKPD!J55 -> Memiliki perencanaan karir yang baik | C56: =AKPD!L55 -> Peserta didik/konseli mampu memahami pentingnya perencanaan karir, langkah-langkah dalam merencanakan karir serta mililiki sikap positif dalam meraih kesuksesan masa depan

Sheet KOMPONEN 
A1: KOMPONEN PROGRAM
A2: SMA NEGERI 1 TAPAKTUAN
B4: KELAS | D4: Cut Nyak dien, Teuku Umar, Cut Meutia, Laksamana malahayati, TR Angkasa, Panglima RL, T.Cut Ali
B5: TAHUN | D5: 2026/2027
A7: NO | B7: KOMPONEN PROGRAM | C7: NO | D7: MATERI / TOPIK / KEGIATAN | E7: JUMLAH LAYANAN | F7: PROPORSI | G7: PERHITUNGAN WAKTU/JAM
A8: 1 | B8: Layanan Dasar | C8: 1 | D8: Implementasi Iman dan Taqwa dalam kehidupan modern | E8: ='Hasil Analisis_2'!H57 -> 26 | F8: =E8/E73 -> 0.45614035 | G8: 46% x 24 = 11,04
C9: 2 | D9: Kejujuran dan Integritas
C10: 3 | D10: Kebiasaan mencontek dan akibatnya
C11: 4 | D11: Sikap dan Perilaku Asertif
C12: 5 | D12: Konsep diri remaja
C13: 6 | D13: Potensi diri remaja
C14: 7 | D14: Psikologi remaja dan permasalahannya
C15: 8 | D15: Kepribadian Manusia
C16: 9 | D16: Membangun Rasa Percaya Diri
C17: 10 | D17: Pola Hidup Bersih dan Sehat
C18: 11 | D18: Menjadi pribadi yang berkarakter
C19: 12 | D19: Jadwal kegiatan sehari-hari
C20: 13 | D20: Penyesuaian Diri Remaja di Sekolah Baru
... C33: 26 | D33: Orientasi kurikulum sekolah
A36: 2 | B36: Layanan Peminatan dan Perencanaan Individual Peserta Didik | C36: 1 | D36: Informasi Beasiswa | E36: ='Hasil Analisis_2'!H59 -> 6 | F36: =E36/E73 -> 0.10526316 | G36: 11% x 24 = 2,64
C37: 2 | D37: Kiat belajar sambil bekerja
C38: 3 | D38: Cara memilih Ekskul
C39: 4 | D39: Mantap pada pilihan peminatan
C40: 5 | D40: Hobi, bakat, minat, kemamapuan dan Karir
C41: 6 | D41: Perencanaan Karir Masa Depan
A44: 3 | B44: Layanan Responsif | C44: 1 | D44: Mengelola emosi dengan baik | E44: ='Hasil Analisis_2'!H58 -> 18 | F44: =E44/E73 -> 0.31578947 | G44: 32% x 24 = 7,68
C45: 2 | D45: Rasa tanggung jawab
C46: 3 | D46: Keluarga yang harmonis
C47: 4 | D47: Rumahku surgaku
C48: 5 | D48: Mengatasi masalah dengan anggota keluarga
C49: 6 | D49: Menjadi pribadi mandiri
C50: 7 | D50: Kiat mengatasi konflik pribadi
C51: 8 | D51: Norma keluarga
C52: 9 | D52: Kita sebagai makhluk sosial
C53: 10 | D53: Norma hubungan dengan lawan jenis
C54: 11 | D54: Kepedulian orang tua
C55: 12 | D55: Disiplin Mengerjakan Tugas
C56: 13 | D56: Tips memahami pelajaran
... C61: 18 | D61: Memanfaatkan IT untuk meraih prestasi
A64: 4 | B64: Dukungan Sistem | C64: 1 | D64: Pengembangan Jejaring | E64: 7 | F64: =E64/E73 -> 0.12280702 | G64: 12% x 24 = 2,88
C65: 2 | D65: Kegiatan Manajemen
C66: 3 | D66: Pengembangan staf
C67: 4 | D67: Kunjungan rumah
C68: 5 | D68: Kolaborasi
C69: 6 | D69: Pengembangan Profesi Konselor
D70: a. In House Training
D71: b. Pendidikan Lanjut
C72: 7 | D72: Penelitian dan Pengembangan
A73: JUMLAH JAM | E73: =SUM(E8:E72) -> 57 | F73: =SUM(F8:F72) -> 1 | G73: 24

Sheet PENGEMB TEMA
A1: PENGEMBANGAN TEMA/TOPIK
A2: SMA NEGERI 1 TAPAKTUAN
A3: KELAS | B3: Cut Nyak dien, Teuku Umar, Cut Meutia, Laksamana malahayati, TR Angkasa, Panglima RL, T.Cut Ali
A4: TAHUN | B4: 2026/ 2027
A6: BIDANG LAYANAN | B6: RUMUSAN KEBUTUHAN | C6: TUJUAN LAYANAN | D6: TOPIK/TEMA
A7: PRIBADI | B7: =AKPD!J6 -> Kesadaran untuk beriman dan bertakwa pada Tuhan YME | C7: =AKPD!L6 -> Peserta didik/konseli mampu memahami pentingnya iman dan taqwa pada Tuhan YME serta dapat hidup rukun, damai dan saling menghormati antar umat beragama | D7: =AKPD!K6 -> Implementasi Iman dan Taqwa dalam kehidupan modern
B8: =AKPD!J7 -> Kebiasaan bersikap jujur | C8: =AKPD!L7 -> Peserta didik/konseli dapat menjadi individu yang memiliki integritas diri serta dapat memancarkan kepercayaan diri dan sikap yang tidak mementingkan diri sendiri | D8: =AKPD!K7 -> Kejujuran dan Integritas
B9: =AKPD!J8 -> Kemampuan memiliki kebiasaan jujur dan tidak mencontek saat tes | C9: =AKPD!L8 -> Peserta didik/konseli dapat menjadi individu yang memiliki sikap jujur dan tidak mencontek | D9: =AKPD!K8 -> Kebiasaan mencontek dan akibatnya
B10: =AKPD!J9 -> Kemampuan mengelola emosi dengan baik | C10: =AKPD!L9 -> Peserta didik/konseli dapat menjadi individu yang mampu mengendalikan emosi | D10: =AKPD!K9 -> Mengelola emosi dengan baik
B11: =AKPD!J10 -> Komunikasi yang jujur dan tetap menjaga perasaan | C11: =AKPD!L10 -> Peserta didik/konseli mampu membedakan perilaku agresif dan asertif, menerapkan prilaku asertif dengan teman-temannya serta mengembangkan sikap asertif untuk menunjang prestasi | D11: =AKPD!K10 -> Sikap dan Perilaku Asertif
B12: =AKPD!J11 -> Melakukan pengenalan/pemahaman diri | C12: =AKPD!L11 -> Peserta didik/konseli dapat memahami dan menemukan unsur-unsur konsep diri serta memahami dan menerima kelebihan dan kekurangan secara wajar dan penuh rasa syukur | D12: =AKPD!K11 -> Konsep diri remaja
B13: =AKPD!J12 -> Memahami potensi diri | C13: =AKPD!L12 -> Peserta didik/konseli dapat mengenal dan menggali potensi diri serta berusaha mengoptimalkannya untuk meraih sukses masa depan | D13: =AKPD!K12 -> Potensi diri remaja
B14: =AKPD!J13 -> Masa perkembangan remaja dan permasalahannya | C14: =AKPD!L13 -> Peserta didik/konseli mampu mengenal ciri-ciri perkembangan remaja, dapat memahami tugas perkembangan, mengatasi masalah yang dihadapi dalam perkembangan | D14: =AKPD!K13 -> Psikologi remaja dan permasalahannya
B15: =AKPD!J14 -> Mengenal kepribadian yang dimiliki manusia | C15: =AKPD!L14 -> Peserta didik/konseli mampu mengenal tipe-tipe kepribadian manusia, mengenal kepribadian yang dimiliki serta dapat tumbuh menjadi pribadi yang matang | D15: =AKPD!K14 -> Kepribadian Manusia
B16: =AKPD!J15 -> Memiliki kepercayaan diri | C16: =AKPD!L15 -> Peserta didik/konseli dapat memahami ciri-ciri pribadi yang memiliki rasa percaya diri serta dapat meningkatkan percaya diri dengan baik untuk mencapai tujuan hidupnya | D16: =AKPD!K15 -> Membangun Rasa Percaya Diri
B17: =AKPD!J16 -> Kemampuan menjaga kesehatan dengan baik | C17: =AKPD!L16 -> Peserta didik/konseli mampu memahami pentingnya polah hidup bersih dan sehat serta dapat melakukan kebiasaan hidup bersih dan sehat sehari-hari yang dapat mempengaruhi kesehatan | D17: =AKPD!K16 -> Pola Hidup Bersih dan Sehat
B18: =AKPD!J17 -> Memiliki ciri-ciri/sifat pribadi yang berkarakter | C18: =AKPD!L17 -> Peserta didik/konseli mampu memiliki perasaan positif untuk membangun pribadi yang berkarakter yang akan berkontribusi pada peningkatan mutu karakter bangsa | D18: =AKPD!K17 -> Menjadi pribadi yang berkarakter
B19: =AKPD!J18 -> Memiliki rasa tanggung jawab | C19: =AKPD!L18 -> Peserta didik/konseli mampu memiliki rasa tanggung jawab pada diri sendiri dan orang lain | D19: =AKPD!K18 -> Rasa tanggung jawab
... B26: =AKPD!J25 -> Memiliki pengetahuan tentang norma berkeluarga | C26: =AKPD!L25 -> Peserta didik/konseli memiliki pengetahuan tentang norma berkeluarga | D26: =AKPD!K25 -> Norma keluarga
A27: SOSIAL | B27: =AKPD!J26 -> Mengenal lingkungan sekolah baru | C27: =AKPD!L26 -> Peserta didik/konseli dapat mengenal aspek-aspek penyesuaian diri serta dapat menerapkan sikap dan kebiasaan dengan lingkungannya | D27: =AKPD!K26 -> Penyesuaian Diri Remaja di Sekolah Baru
B28: =AKPD!J27 -> Memiliki pemahaman tentang kenakalan remaja | C28: =AKPD!L27 -> Peserta didik/konseli dapat mengetahui bentuk atau jenis kenakalan remaja, dampak terhadap pribadi dan lingkungan serta berusaha untuk menghindarinya | D28: =AKPD!K27 -> Kenakalan Remaja dan Cara Menghindarinya
B29: =AKPD!J28 -> Memiliki pemahaman tentang bahaya rokok | C29: =AKPD!L28 -> Peserta didik/konseli memiliki pemahaman tentang bahaya dan dampak rokok bagi kesehatan tubuh dan lingkungan serta cara untuk menolak ajakan untuk merokok dalam bentuk apapun | D29: =AKPD!K28 -> Bahaya rokok dan dampaknya
B30: =AKPD!J29 -> Memiliki perilaku sosial yang bertanggung jawab | C30: =AKPD!L29 -> Peserta didik/konseli mampu memahami pentingnya berprilaku sosial yang baik, serta memiliki sikap untuk hidup bersosial yang bertanggung jawab dalam sebuah masyarakat | D30: =AKPD!K29 -> Prilaku sosial yang bertanggung jawab
B31: =AKPD!J30 -> Memahami tentang bullying | C31: =AKPD!L30 -> Peserta didik/konseli mampu memahami tentang bullying, bahaya prilaku bullying, sebab dan dampak bullying, serta berani cara melawan tindakan bullying | D31: =AKPD!K30 -> Stop Bullying !
B32: =AKPD!J31 -> Memiliki etika bergaul dengan teman sebaya | C32: =AKPD!L31 -> Peserta didik/konseli mampu memahami norma-norma dalam masyarakat serta dapat bersosialisasidan bergaul dengan teman sebaya sesuai dengan etika yang baik | D32: =AKPD!K31 -> Etika pergaulan dengan teman sebaya
B33: =AKPD!J32 -> Memiliki sikap sopan santun pada orang lain | C33: =AKPD!L32 -> Peserta didik/konseli mampu memahami nilai-nilai dan cara bertingkah laku sopan santun dalam kehidupan di luar kelompok teman sebaya | D33: =AKPD!K32 -> Sikap sopan santun dalam kehidupan
B34: =AKPD!J33 -> Memiliki pemahaman tentang dampak dari media sosial | C34: =AKPD!L33 -> Peserta didik/konseli dapat memahami dampak positif dan negatif bermain handphone atau media sosial | D34: =AKPD!K33 -> Dampak handphone (medsos)
B35: =AKPD!J34 -> Kesadaran sebagai makhluk sosial yang harus berinteraksi | C35: =AKPD!L34 -> Peserta didik/konseli memiliki Kesadaran sebagai makhluk sosial yang harus berinteraksi | D35: =AKPD!K34 -> Interaksi sebagai makhluk sosial
B36: =AKPD!J35 -> Kemudahan mencari dan disenangi teman | C36: =AKPD!L35 -> Peserta didik/konseli mudah mencari dan disenangi teman | D36: =AKPD!K35 -> Kiat mencari teman
B37: =AKPD!J36 -> Memiliki pemahaman tentang hubungan komunikasi dengan lawan jenis | C37: =AKPD!L36 -> Peserta didik/konseli memiliki pemahaman tentang norma hubungan komunikasi dengan lawan jenis | D37: =AKPD!K36 -> Hubungan komunikasi dengan lawan jenis
A38: BELAJAR | B38: =AKPD!J37 -> Memahami belajar yang benar di SMA/MA | C38: =AKPD!L37 -> Peserta didik/konseli dapat mengenal sikap dalam belajar serta menerapkan sikap dan kebiasaan dalam belajar yang baik di SMA-MA hingga mencapai prestasi yang lebih luas | D38: =AKPD!K37 -> Kiat sukses belajar di SMA-MA
B39: =AKPD!J38 -> Memiliki motivasi untuk berprestasi | C39: =AKPD!L38 -> Peserta didik/konseli mampu memahami pengertian motivasi berprestasi, mengetahui dan menerapkan cara untuk meningkatkan motivasi berprestasi | D39: =AKPD!K38 -> Motivasi berprestasi
B40: =AKPD!J39 -> Menemukan cara belajar yang sesuai dengan gaya belajar | C40: =AKPD!L39 -> Peserta didik/konseli dapat memahami dan mengetahui tentang gaya belajar serta strategi belajarnya untuk masing-masing gaya belajar tersebut | D40: =AKPD!K39 -> Strategi belajar sesuai dengan gaya belajar
B41: =AKPD!J40 -> Kepedulian orang tua pada kegiatan belajar | C41: =AKPD!L40 -> Peserta didik/konseli selalu mendapat perhatian orang tua dalam belajarnya | D41: =AKPD!K40 -> Kepedulian orang tua terhadap belajar anak
B42: =AKPD!J41 -> Melaksanakan Tugas Sekolah / PR tepat waktu | C42: =AKPD!L41 -> Peserta didik/konseli memiliki kedisiplinan dalam belajar | D42: =AKPD!K41 -> Disiplin Mengerjakan Tugas
B43: =AKPD!J42 -> Mudah memahami pelajaran | C43: =AKPD!L42 -> Peserta didik/konseli dapat memahami teknik memahami pelajaran | D43: =AKPD!K42 -> Tips memahami pelajaran
B44: =AKPD!J43 -> Mampu memanfaatkan sumber belajar | C44: =AKPD!L43 -> Peserta didik/konseli dapat memanfaatkan sumber belajar dalam kegiatan belajarnya | D44: =AKPD!K43 -> Manfaat sumber belajar
B45: =AKPD!J44 -> Kesadaran belajar sesuai jadwal | C45: =AKPD!L44 -> Peserta didik/konseli dapat mengatur waktu belajarnya | D45: =AKPD!K44 -> Belajar sesuai jadwal
B46: =AKPD!J45 -> Memahami struktru kurikulum sekolah | C46: =AKPD!L45 -> Peserta didik/konseli dapat memahami tentang struktur kurikulum sekolah | D46: =AKPD!K45 -> Srtuktur kurikulum sekolah
B47: =AKPD!J46 -> Memiliki semangat belajar | C47: =AKPD!L46 -> Peserta didik/konseli memiliki motivasi dalam belajar | D47: =AKPD!K46 -> Motivasi belajar
B48: =AKPD!J47 -> Membentuk belajar kelompok | C48: =AKPD!L47 -> Peserta didik/konseli dapat belajar kelompok dengan temannya | D48: =AKPD!K47 -> Belajar kelompok yang efektif
B49: =AKPD!J48 -> Mengetahui cara memilih lembaga bimbil yang baik | C49: =AKPD!L48 -> Peserta didik/konseli dapat memilih lembaga bimbingan belajar yang tepat | D49: =AKPD!K48 -> Memilih lembaga bimbel yang tepat
B50: =AKPD!J49 -> Pemanfaatan perkembangan teknologi informasi | C50: =AKPD!L49 -> Peserta didik/konseli dapat memanfaatkan teknologi informasi untuk belajar | D50: =AKPD!K49 -> Memanfaatkan IT untuk meraih prestasi
A51: KARIR | B51: =AKPD!J50 -> Memperoleh informasi bantuan/beasiswa | C51: =AKPD!L50 -> Peserta didik/konseli dapat memanfaatkan peluang beasiswa yang ada | D51: =AKPD!K50 -> Strategi memperoleh Beasiswa
B52: =AKPD!J51 -> Memperoleh penghasilan untuk biaya hidup | C52: =AKPD!L51 -> Peserta didik/ konseli mampu mengatur kegiatan antara belajar sambil bekerja | D52: =AKPD!K51 -> Kiat belajar sambil bekerja
B53: =AKPD!J52 -> Memiliki kemampuan untuk memilih kegiatan ekstra kurikuler | C53: =AKPD!L52 -> Peserta didik/konseli mampu memilih kegiatan ekstra kurikuler yang sesuai dengan bakat, minat dan kemampuannya | D53: =AKPD!K52 -> Cara memilih Ekskul
B54: =AKPD!J53 -> Memiliki kemantapan pada pilihan peminatan yang diambil | C54: =AKPD!L53 -> Peserta didik/konseli mantap pada pilihan peminatan yang telah diambil | D54: =AKPD!K53 -> Mantap pada pilihan peminatan
B55: =AKPD!J54 -> Memahami hubungan hobi, bakat, minat, kemampuan dan karir | C55: =AKPD!L54 -> Peserta didik/konseli mampu memahami peranan hobi, bakat, minat dalam karir masa depannya | D55: =AKPD!K54 -> Hobi, bakat, minat, kemamapuan dan Karir
B56: =AKPD!J55 -> Memiliki perencanaan karir yang baik | C56: =AKPD!L55 -> Peserta didik/konseli mampu memahami pentingnya perencanaan karir, langkah-langkah dalam merencanakan karir serta mililiki sikap positif dalam meraih kesuksesan masa depan | D56: =AKPD!K55 -> Perencanaan Karir Masa Depan

Sheet ACTION PLAN
A1: RENCANA KEGIATAN (ACTION PLAN) BIMBINGAN DAN KONSELING
A2: SMA NEGERI 1 TAPAKTUAN
C4: KELAS | D4: Cut Nyak dien, Teuku Umar, Cut Meutia, Laksamana malahayati, TR Angkasa, Panglima RL, T.Cut Ali
C5: TAHUN | D5: 2026/ 2027
A7: BIDANG LAYANAN | B7: TUJUAN LAYANAN | C7: KOMPONEN LAYANAN | D7: STRATEGI LAYANAN | E7: KELAS | F7: MATERI | G7: METODE | H7: MEDIA | I7: EVALUASI | J7: EKUIVALENSI
A8: PRIBADI | B8: =AKPD!L6 -> Peserta didik/konseli mampu memahami pentingnya iman dan taqwa pada Tuhan YME serta dapat hidup rukun, damai dan saling menghormati antar umat beragama | C8: =AKPD!M6 -> Dasar | E8: X | F8: =AKPD!K6 -> Implementasi Iman dan Taqwa dalam kehidupan modern | G8: Ceramah, Diskusi | H8: Slide Power Point | I8: Proses dan Hasil | J8: 2 Jam
B9: =AKPD!L7 -> Peserta didik/konseli dapat menjadi individu yang memiliki integritas diri serta dapat memancarkan kepercayaan diri dan sikap yang tidak mementingkan diri sendiri | C9: =AKPD!M7 -> Dasar | D9: =AKPD!N7 -> Bimbingan klasikal | E9: X | F9: =AKPD!K7 -> Kejujuran dan Integritas | G9: Ceramah, Diskusi | H9: Slide Power Point | I9: Proses dan Hasil | J9: 2 Jam
B10: =AKPD!L8 -> Peserta didik/konseli dapat menjadi individu yang memiliki sikap jujur dan tidak mencontek | C10: =AKPD!M8 -> Dasar | D10: =AKPD!N8 -> Bimbingan Kelompok | E10: X | F10: =AKPD!K8 -> Kebiasaan mencontek dan akibatnya | G10: Diskusi | H10: Kartu sikap | I10: Proses dan Hasil | J10: 2 Jam
B11: =AKPD!L9 -> Peserta didik/konseli dapat menjadi individu yang mampu mengendalikan emosi | C11: =AKPD!M9 -> Responsif | D11: =AKPD!N9 -> Konseling Individual | E11: X | F11: =AKPD!K9 -> Mengelola emosi dengan baik | G11: Disesuaikan dengan pendekatan yang digunakan | H11: Disesuaikan dengan pendekatan yang digunakan | I11: Proses dan Hasil | J11: 2 Jam
B12: =AKPD!L10 -> Peserta didik/konseli mampu membedakan perilaku agresif dan asertif, menerapkan prilaku asertif dengan teman-temannya serta mengembangkan sikap asertif untuk menunjang prestasi | C12: =AKPD!M10 -> Dasar | D12: =AKPD!N10 -> Bimbingan klasikal | E12: X | F12: =AKPD!K10 -> Sikap dan Perilaku Asertif | G12: Ceramah, Diskusi | H12: Slide Power Point | I12: Proses dan Hasil | J12: 2 Jam
B13: =AKPD!L11 -> Peserta didik/konseli dapat memahami dan menemukan unsur-unsur konsep diri serta memahami dan menerima kelebihan dan kekurangan secara wajar dan penuh rasa syukur | C13: =AKPD!M11 -> Dasar | D13: =AKPD!N11 -> Bimbingan klasikal | E13: X | F13: =AKPD!K11 -> Konsep diri remaja | G13: Ceramah, Diskusi | H13: Slide Power Point | I13: Proses dan Hasil | J13: 2 Jam
B14: =AKPD!L12 -> Peserta didik/konseli dapat mengenal dan menggali potensi diri serta berusaha mengoptimalkannya untuk meraih sukses masa depan | C14: =AKPD!M12 -> Dasar | D14: =AKPD!N12 -> Bimbingan klasikal | E14: X | F14: =AKPD!K12 -> Potensi diri remaja | G14: Ceramah, Diskusi | H14: Slide Power Point | I14: Proses dan Hasil | J14: 2 Jam
B15: =AKPD!L13 -> Peserta didik/konseli mampu mengenal ciri-ciri perkembangan remaja, dapat memahami tugas perkembangan, mengatasi masalah yang dihadapi dalam perkembangan | C15: =AKPD!M13 -> Dasar | D15: =AKPD!N13 -> Bimbingan klasikal | E15: X | F15: =AKPD!K13 -> Psikologi remaja dan permasalahannya | G15: Ceramah, Diskusi | H15: Slide Power Point | I15: Proses dan Hasil | J15: 2 Jam
B16: =AKPD!L14 -> Peserta didik/konseli mampu mengenal tipe-tipe kepribadian manusia, mengenal kepribadian yang dimiliki serta dapat tumbuh menjadi pribadi yang matang | C16: =AKPD!M14 -> Dasar | D16: =AKPD!N14 -> Bimbingan klasikal | E16: X | F16: =AKPD!K14 -> Kepribadian Manusia | G16: Ceramah, Diskusi | H16: Slide Power Point | I16: Proses dan Hasil | J16: 2 Jam
B17: =AKPD!L15 -> Peserta didik/konseli dapat memahami ciri-ciri pribadi yang memiliki rasa percaya diri serta dapat meningkatkan percaya diri dengan baik untuk mencapai tujuan hidupnya | C17: =AKPD!M15 -> Dasar | D17: =AKPD!N15 -> Bimbingan klasikal | E17: X | F17: =AKPD!K15 -> Membangun Rasa Percaya Diri | G17: Ceramah, Diskusi | H17: Slide Power Point | I17: Proses dan Hasil | J17: 2 Jam
B18: =AKPD!L16 -> Peserta didik/konseli mampu memahami pentingnya polah hidup bersih dan sehat serta dapat melakukan kebiasaan hidup bersih dan sehat sehari-hari yang dapat mempengaruhi kesehatan | C18: =AKPD!M16 -> Dasar | D18: =AKPD!N16 -> Bimbingan klasikal | E18: X | F18: =AKPD!K16 -> Pola Hidup Bersih dan Sehat | G18: Ceramah, Diskusi | H18: Slide Power Point | I18: Proses dan Hasil | J18: 2 Jam
B19: =AKPD!L17 -> Peserta didik/konseli mampu memiliki perasaan positif untuk membangun pribadi yang berkarakter yang akan berkontribusi pada peningkatan mutu karakter bangsa | C19: =AKPD!M17 -> Dasar | D19: =AKPD!N17 -> Bimbingan klasikal | E19: X | F19: =AKPD!K17 -> Menjadi pribadi yang berkarakter | G19: Ceramah, Diskusi | H19: Slide Power Point | I19: Proses dan Hasil | J19: 2 Jam
B20: =AKPD!L18 -> Peserta didik/konseli mampu memiliki rasa tanggung jawab pada diri sendiri dan orang lain | C20: =AKPD!M18 -> Responsif | D20: =AKPD!N18 -> Konseling Individual | E20: X | F20: =AKPD!K18 -> Rasa tanggung jawab | G20: Disesuaikan dengan pendekatan yang digunakan | H20: Disesuaikan dengan pendekatan yang digunakan | I20: Proses dan Hasil | J20: 2 Jam
... B27: =AKPD!L25 -> Peserta didik/konseli memiliki pengetahuan tentang norma berkeluarga | C27: =AKPD!M25 -> Responsif | D27: =AKPD!N25 -> Konseling Individual | E27: X | F27: =AKPD!K25 -> Norma keluarga | G27: Disesuaikan dengan pendekatan yang digunakan | H27: Disesuaikan dengan pendekatan yang digunakan | I27: Proses dan Hasil | J27: 2 Jam
A28: SOSIAL | B28: =AKPD!L26 -> Peserta didik/konseli dapat mengenal aspek-aspek penyesuaian diri serta dapat menerapkan sikap dan kebiasaan dengan lingkungannya | C28: =AKPD!M26 -> Dasar | D28: =AKPD!N26 -> Bimbinngan klasikal | E28: X | F28: =AKPD!K26 -> Penyesuaian Diri Remaja di Sekolah Baru | G28: Ceramah, Diskusi | H28: Slide Power Point | I28: Proses dan Hasil | J28: 2 Jam
B29: =AKPD!L27 -> Peserta didik/konseli dapat mengetahui bentuk atau jenis kenakalan remaja, dampak terhadap pribadi dan lingkungan serta berusaha untuk menghindarinya | C29: =AKPD!M27 -> Dasar | D29: =AKPD!N27 -> Bimbingan klasikal | E29: X | F29: =AKPD!K27 -> Kenakalan Remaja dan Cara Menghindarinya | G29: Ceramah, Diskusi | H29: Slide Power Point | I29: Proses dan Hasil | J29: 2 Jam
B30: =AKPD!L28 -> Peserta didik/konseli memiliki pemahaman tentang bahaya dan dampak rokok bagi kesehatan tubuh dan lingkungan serta cara untuk menolak ajakan untuk merokok dalam bentuk apapun | C30: =AKPD!M28 -> Dasar | D30: =AKPD!N28 -> Bimbingan klasikal | E30: X | F30: =AKPD!K28 -> Bahaya rokok dan dampaknya | G30: Ceramah, Diskusi | H30: Slide Power Point | I30: Proses dan Hasil | J30: 2 Jam
B31: =AKPD!L29 -> Peserta didik/konseli mampu memahami pentingnya berprilaku sosial yang baik, serta memiliki sikap untuk hidup bersosial yang bertanggung jawab dalam sebuah masyarakat | C31: =AKPD!M29 -> Dasar | D31: =AKPD!N29 -> Bimbingan klasikal | E31: X | F31: =AKPD!K29 -> Prilaku sosial yang bertanggung jawab | G31: Ceramah, Diskusi | H31: Slide Power Point | I31: Proses dan Hasil | J31: 2 Jam
B32: =AKPD!L30 -> Peserta didik/konseli mampu memahami tentang bullying, bahaya prilaku bullying, sebab dan dampak bullying, serta berani cara melawan tindakan bullying | C32: =AKPD!M30 -> Dasar | D32: =AKPD!N30 -> Bimbingan klasikal | E32: X | F32: =AKPD!K30 -> Stop Bullying ! | G32: Ceramah, Diskusi | H32: Slide Power Point | I32: Proses dan Hasil | J32: 2 Jam
B33: =AKPD!L31 -> Peserta didik/konseli mampu memahami norma-norma dalam masyarakat serta dapat bersosialisasidan bergaul dengan teman sebaya sesuai dengan etika yang baik | C33: =AKPD!M31 -> Dasar | D33: =AKPD!N31 -> Bimbingan klasikal | E33: X | F33: =AKPD!K31 -> Etika pergaulan dengan teman sebaya | G33: Ceramah, Diskusi | H33: Slide Power Point | I33: Proses dan Hasil | J33: 2 Jam
B34: =AKPD!L32 -> Peserta didik/konseli mampu memahami nilai-nilai dan cara bertingkah laku sopan santun dalam kehidupan di luar kelompok teman sebaya | C34: =AKPD!M32 -> Dasar | D34: =AKPD!N32 -> Bimbingan klasikal | E34: X | F34: =AKPD!K32 -> Sikap sopan santun dalam kehidupan | G34: Ceramah, Diskusi | H34: Slide Power Point | I34: Proses dan Hasil | J34: 2 Jam
B35: =AKPD!L33 -> Peserta didik/konseli dapat memahami dampak positif dan negatif bermain handphone atau media sosial | C35: =AKPD!M33 -> Dasar | D35: =AKPD!N33 -> Bimbingan klasikal | E35: X | F35: =AKPD!K33 -> Dampak handphone (medsos) | G35: Ceramah, Diskusi | H35: Slide Power Point | I35: Proses dan Hasil | J35: 2 Jam
B36: =AKPD!L34 -> Peserta didik/konseli memiliki Kesadaran sebagai makhluk sosial yang harus berinteraksi | C36: =AKPD!M34 -> Responsif | D36: =AKPD!N34 -> Konseling Individual | E36: X | F36: =AKPD!K34 -> Interaksi sebagai makhluk sosial | G36: Disesuaikan dengan pendekatan yang digunakan | H36: Disesuaikan dengan pendekatan yang digunakan | I36: Proses dan Hasil | J36: 2 Jam
B37: =AKPD!L35 -> Peserta didik/konseli mudah mencari dan disenangi teman | C37: =AKPD!M35 -> Dasar | D37: =AKPD!N35 -> Bimbingan Kelompok | E37: X | F37: =AKPD!K35 -> Kiat mencari teman | G37: Bermain peran | H37: Disesuaikan dengan teknik yang digunakan | I37: Proses dan Hasil | J37: 2 Jam
B38: =AKPD!L36 -> Peserta didik/konseli memiliki pemahaman tentang norma hubungan komunikasi dengan lawan jenis | C38: =AKPD!M36 -> Responsif | D38: =AKPD!N36 -> Konseling Individual | E38: X | F38: =AKPD!K36 -> Hubungan komunikasi dengan lawan jenis | G38: Disesuaikan dengan pendekatan yang digunakan | H38: Disesuaikan dengan pendekatan yang digunakan | I38: Proses dan Hasil | J38: 2 Jam
A39: BELAJAR | B39: =AKPD!L37 -> Peserta didik/konseli dapat mengenal sikap dalam belajar serta menerapkan sikap dan kebiasaan dalam belajar yang baik di SMA-MA hingga mencapai prestasi yang lebih luas | C39: =AKPD!M37 -> Dasar | D39: =AKPD!N37 -> Bimbingan klasikal | E39: X | F39: =AKPD!K37 -> Kiat sukses belajar di SMA-MA | G39: Ceramah, Diskusi | H39: Slide Power Point | I39: Proses dan Hasil | J39: 2 Jam
B40: =AKPD!L38 -> Peserta didik/konseli mampu memahami pengertian motivasi berprestasi, mengetahui dan menerapkan cara untuk meningkatkan motivasi berprestasi | C40: =AKPD!M38 -> Dasar | D40: =AKPD!N38 -> Bimbingan klasikal | E40: X | F40: =AKPD!K38 -> Motivasi berprestasi | G40: Ceramah, Diskusi | H40: Slide Power Point | I40: Proses dan Hasil | J40: 2 Jam
B41: =AKPD!L39 -> Peserta didik/konseli dapat memahami dan mengetahui tentang gaya belajar serta strategi belajarnya untuk masing-masing gaya belajar tersebut | C41: =AKPD!M39 -> Dasar | D41: =AKPD!N39 -> Bimbingan klasikal | E41: X | F41: =AKPD!K39 -> Strategi belajar sesuai dengan gaya belajar | G41: Ceramah, Diskusi | H41: Slide Power Point | I41: Proses dan Hasil | J41: 2 Jam
B42: =AKPD!L40 -> Peserta didik/konseli selalu mendapat perhatian orang tua dalam belajarnya | C42: =AKPD!M40 -> Responsif | D42: =AKPD!N40 -> Konseling Individual | E42: X | F42: =AKPD!K40 -> Kepedulian orang tua terhadap belajar anak | G42: Disesuaikan dengan pendekatan yang digunakan | H42: Disesuaikan dengan pendekatan yang digunakan | I42: Proses dan Hasil | J42: 2 Jam
B43: =AKPD!L41 -> Peserta didik/konseli memiliki kedisiplinan dalam belajar | C43: =AKPD!M41 -> Responsif | D43: =AKPD!N41 -> Konseling Individual | E43: X | F43: =AKPD!K41 -> Disiplin Mengerjakan Tugas | G43: Disesuaikan dengan pendekatan yang digunakan | H43: Disesuaikan dengan pendekatan yang digunakan | I43: Proses dan Hasil | J43: 2 Jam
B44: =AKPD!L42 -> Peserta didik/konseli dapat memahami teknik memahami pelajaran | C44: =AKPD!M42 -> Responsif | D44: =AKPD!N42 -> Konseling Individual | E44: X | F44: =AKPD!K42 -> Tips memahami pelajaran | G44: Disesuaikan dengan pendekatan yang digunakan | H44: Disesuaikan dengan pendekatan yang digunakan | I44: Proses dan Hasil | J44: 2 Jam
B45: =AKPD!L43 -> Peserta didik/konseli dapat memanfaatkan sumber belajar dalam kegiatan belajarnya | C45: =AKPD!M43 -> Responsif | D45: =AKPD!N43 -> Konseling Individual | E45: X | F45: =AKPD!K43 -> Manfaat sumber belajar | G45: Disesuaikan dengan pendekatan yang digunakan | H45: Disesuaikan dengan pendekatan yang digunakan | I45: Proses dan Hasil | J45: 2 Jam
B46: =AKPD!L44 -> Peserta didik/konseli dapat mengatur waktu belajarnya | C46: =AKPD!M44 -> Responsif | D46: =AKPD!N44 -> Konseling Individual | E46: X | F46: =AKPD!K44 -> Belajar sesuai jadwal | G46: Disesuaikan dengan pendekatan yang digunakan | H46: Disesuaikan dengan pendekatan yang digunakan | I46: Proses dan Hasil | J46: 2 Jam
B47: =AKPD!L45 -> Peserta didik/konseli dapat memahami tentang struktur kurikulum sekolah | C47: =AKPD!M45 -> Dasar | D47: =AKPD!N45 -> Lintas Kelas | E47: X | F47: =AKPD!K45 -> Srtuktur kurikulum sekolah | G47: Ceramah, Tanya jawab | H47: Slide Power Point | I47: Proses dan Hasil | J47: 2 Jam
B48: =AKPD!L46 -> Peserta didik/konseli memiliki motivasi dalam belajar | C48: =AKPD!M46 -> Responsif | D48: =AKPD!N46 -> Konseling Individual | E48: X | F48: =AKPD!K46 -> Motivasi belajar | G48: Disesuaikan dengan pendekatan yang digunakan | H48: Disesuaikan dengan pendekatan yang digunakan | I48: Proses dan Hasil | J48: 2 Jam
B49: =AKPD!L47 -> Peserta didik/konseli dapat belajar kelompok dengan temannya | C49: =AKPD!M47 -> Dasar | D49: =AKPD!N47 -> Bimbingan Kelompok | E49: X | F49: =AKPD!K47 -> Belajar kelompok yang efektif | G49: Disesuaikan dengan pendekatan yang digunakan | H49: Disesuaikan dengan pendekatan yang digunakan | I49: Proses dan Hasil | J49: 2 Jam
B50: =AKPD!L48 -> Peserta didik/konseli dapat memilih lembaga bimbingan belajar yang tepat | C50: =AKPD!M48 -> Responsif | D50: =AKPD!N48 -> Konseling Individual | E50: X | F50: =AKPD!K48 -> Memilih lembaga bimbel yang tepat | G50: Disesuaikan dengan pendekatan yang digunakan | H50: Disesuaikan dengan pendekatan yang digunakan | I50: Proses dan Hasil | J50: 2 Jam
B51: =AKPD!L49 -> Peserta didik/konseli dapat memanfaatkan teknologi informasi untuk belajar | C51: =AKPD!M49 -> Responsif | D51: =AKPD!N49 -> Konseling Individual | E51: X | F51: =AKPD!K49 -> Memanfaatkan IT untuk meraih prestasi | G51: Disesuaikan dengan pendekatan yang digunakan | H51: Disesuaikan dengan pendekatan yang digunakan | I51: Proses dan Hasil | J51: 2 Jam
A52: KARIR | B52: =AKPD!L50 -> Peserta didik/konseli dapat memanfaatkan peluang beasiswa yang ada | C52: =AKPD!M50 -> Pem&Perenc Indv | D52: =AKPD!N50 -> Konseling Individual | E52: X | F52: =AKPD!K50 -> Strategi memperoleh Beasiswa | G52: Disesuaikan dengan pendekatan yang digunakan | H52: Disesuaikan dengan pendekatan yang digunakan | I52: Proses dan Hasil | J52: 2 Jam
B53: =AKPD!L51 -> Peserta didik/ konseli mampu mengatur kegiatan antara belajar sambil bekerja | C53: =AKPD!M51 -> Pem&Perenc Indv | D53: =AKPD!N51 -> Konseling Individual | E53: X | F53: =AKPD!K51 -> Kiat belajar sambil bekerja | G53: Disesuaikan dengan pendekatan yang digunakan | H53: Disesuaikan dengan pendekatan yang digunakan | I53: Proses dan Hasil | J53: 2 Jam
B54: =AKPD!L52 -> Peserta didik/konseli mampu memilih kegiatan ekstra kurikuler yang sesuai dengan bakat, minat dan kemampuannya | C54: =AKPD!M52 -> Pem&Perenc Indv | D54: =AKPD!N52 -> Konseling Individual | E54: X | F54: =AKPD!K52 -> Cara memilih Ekskul | G54: Disesuaikan dengan pendekatan yang digunakan | H54: Disesuaikan dengan pendekatan yang digunakan | I54: Proses dan Hasil | J54: 2 Jam
B55: =AKPD!L53 -> Peserta didik/konseli mantap pada pilihan peminatan yang telah diambil | C55: =AKPD!M53 -> Pem&Perenc Indv | D55: =AKPD!N53 -> Konseling Individual | E55: X | F55: =AKPD!K53 -> Mantap pada pilihan peminatan | G55: Disesuaikan dengan pendekatan yang digunakan | H55: Disesuaikan dengan pendekatan yang digunakan | I55: Proses dan Hasil | J55: 2 Jam
B56: =AKPD!L54 -> Peserta didik/konseli mampu memahami peranan hobi, bakat, minat dalam karir masa depannya | C56: =AKPD!M54 -> Pem&Perenc Indv | D56: =AKPD!N54 -> Konseling Individual | E56: X | F56: =AKPD!K54 -> Hobi, bakat, minat, kemamapuan dan Karir | G56: Disesuaikan dengan pendekatan yang digunakan | H56: Disesuaikan dengan pendekatan yang digunakan | I56: Proses dan Hasil | J56: 2 Jam
B57: =AKPD!L55 -> Peserta didik/konseli mampu memahami pentingnya perencanaan karir, langkah-langkah dalam merencanakan karir serta mililiki sikap positif dalam meraih kesuksesan masa depan | C57: =AKPD!M55 -> Pem&Perenc Indv | D57: =AKPD!N55 -> Bimbingan klasikal | E57: X | F57: =AKPD!K55 -> Perencanaan Karir Masa Depan | G57: Ceramah, Diskusi | H57: Slide Power Point | I57: Proses dan Hasil | J57: 2 Jam

Sheet JADWAL KEGIATAN
A1: JADWAL KEGIATAN BIMBINGAN DAN KONSELING
A2: SMA NEGERI 1 TAPAKTUAN
A3: TAHUN PELAJARAN 2026 / 2027
C5: Juli | G5: Agustus | L5: September | P5: Oktober | U5: Novemper | Y5: Desember | AC5: Januari | AH5: Februari | AL5: Maret | AP5: April | AT5: Mei | AY5: Juni | BC5: Juli
C6: 1 | D6: 2 | E6: 3 | F6: 4 | G6: 1 | H6: 2 | I6: 3 | J6: 4 | K6: 5 | L6: 1 | M6: 2 | N6: 3 | O6: 4 | P6: 1 | Q6: 2 | R6: 3 | S6: 4 | T6: 5 | U6: 1 | V6: 2 | W6: 3 | X6: 4 | Y6: 1 | Z6: 2 | AA6: 3 | AB6: 4 | AC6: 1 | AD6: 2 | AE6: 3 | AF6: 4 | AG6: 5 | AH6: 1 | AI6: 2 | AJ6: 3 | AK6: 4 | AL6: 1 | AM6: 2 | AN6: 3 | AO6: 4 | AP6: 1 | AQ6: 2 | AR6: 3 | AS6: 4 | AT6: 1 | AU6: 2 | AV6: 3 | AW6: 4 | AX6: 5 | AY6: 1 | AZ6: 2 | BA6: 3 | BB6: 4 | BC6: 1 | BD6: 2 | BE6: 3 | BF6: 4
A7: PERSIAPAN
A8: 1 | B8: Pembagian tugas guru bimbingan dan konseling/konselor | E8: X | AT8: Libur Ramadhan | BE8: X | BF8: X
A9: 2 | B9: Assesmen kebutuhan (Angket Masalah Siswa) | E9: X | F9: X | BE9: X | BF9: X
A10: 3 | B10: Menyusun program bimbingan dan konseling | F10: X | G10: X | BE10: X | BF10: X
A11: 4 | B11: Konsultasi program bimbingan dan konseling | E11: X | F11: X | BE11: X | BF11: X
A12: 5 | B12: Pengadaan sarana / prasarana BK | E12: X | F12: X | BE12: X | BF12: X
A13: PELAKSANAAN
A14: LAYANAN DASAR
A15: 1 | B15: Bimbingan Klasikal | E15: X | F15: X | G15: X | H15: X | I15: X | K15: X | L15: X | M15: X | N15: X | P15: X | Q15: X | R15: X | U15: X | V15: X | W15: X | AA15: X | AB15: X | AC15: X | AD15: X | AE15: X | AF15: X | AG15: X | AH15: X | AI15: X | AJ15: X | AK15: X | AM15: X | AN15: X | AO15: X | AQ15: X | AS15: X
A16: 2 | B16: Bimbingan Kelas Besar/lintas kls | U16: X | V16: X | W16: X
A17: 3 | B17: Bimbingan Kelompok | E17: X | F17: X | G17: X | H17: X | I17: X | K17: X | L17: X | M17: X | N17: X | P17: X | Q17: X | R17: X | U17: X | V17: X | W17: X | AA17: X | AB17: X | AC17: X | AD17: X | AE17: X | AF17: X | AG17: X | AH17: X | AI17: X | AJ17: X | AK17: X | AM17: X | AN17: X | AO17: X | AQ17: X | AS17: X
A18: 4 | B18: Pengembangan Media BK | G18: X | L18: X | P18: X | AC18: X | AH18: X | AM18: X
A19: 5 | B19: Papan Bimbingan
A20: 6 | B20: Leaflet
A21: LAYANAN RESPONSIF
A22: 1 | B22: Konseling Individual | E22: disesuaikan | K22: dengan | P22: kebutuhan | AA22: disesuaikan | AM22: disesuaikan dengan kebutuhan
A23: 2 | B23: Konseling Kelompok | E23: disesuaikan | K23: dengan | P23: kebutuhan | AA23: disesuaikan | AM23: disesuaikan dengan kebutuhan
A24: 3 | B24: Referal (Alih Tangan Kasus) | E24: disesuaikan | K24: dengan | P24: kebutuhan | AA24: disesuaikan | AM24: disesuaikan dengan kebutuhan
A25: 4 | B25: Konsultasi | E25: disesuaikan | K25: dengan | P25: kebutuhan | AA25: disesuaikan | AM25: disesuaikan dengan kebutuhan
A26: 5 | B26: Bimbingan Teman Sebaya | E26: disesuaikan | K26: dengan | P26: kebutuhan | AA26: disesuaikan | AM26: disesuaikan dengan kebutuhan
A27: 6 | B27: Konferensi Kasus | E27: disesuaikan | K27: dengan | P27: kebutuhan | AA27: disesuaikan | AM27: disesuaikan dengan kebutuhan
A28: 7 | B28: Konseling Melalui elektrik | E28: disesuaikan | K28: dengan | P28: kebutuhan | AA28: disesuaikan | AM28: disesuaikan dengan kebutuhan
A29: PEMINATAN & P. INDIVIDUAL
A30: 1 | B30: Bimbingan Klasikal | E30: disesuaikan | K30: dengan | P30: kebutuhan | AA30: disesuaikan | AM30: disesuaikan dengan kebutuhan
A31: 2 | B31: Konseling Individual | E31: disesuaikan | K31: dengan | P31: kebutuhan | AA31: disesuaikan | AM31: disesuaikan dengan kebutuhan
A32: 3 | B32: Konseling Kelompok | E32: disesuaikan | K32: dengan | P32: kebutuhan | AA32: disesuaikan | AM32: disesuaikan dengan kebutuhan
A33: 4 | B33: Bimbingan kelas besar | E33: disesuaikan | K33: dengan | P33: kebutuhan | AA33: disesuaikan | AM33: disesuaikan dengan kebutuhan
A34: 5 | B34: Bimbingan Kelompok | E34: disesuaikan | K34: dengan | P34: kebutuhan | AA34: disesuaikan | AM34: disesuaikan dengan kebutuhan
A35: 6 | B35: Konsultasi | E35: disesuaikan | K35: dengan | P35: kebutuhan | AA35: disesuaikan | AM35: disesuaikan dengan kebutuhan
A36: 8 | B36: Career day | AC36: X | AD36: X
A37: DUKUNGAN SISTEM
A38: 1 | B38: Pengembangan Jejaring | K38: X | U38: X | V38: X | W38: X | AB38: X | AC38: X | AG38: X | AH38: X | AK38: X | AO38: X | AS38: X | BE38: X | BF38: X
A39: 2 | B39: Kegiatan Manajemen | E39: X | F39: X | G39: X | H39: X | I39: X | K39: X | L39: X | M39: X | N39: X | P39: X | Q39: X | R39: X | S39: X | T39: X | U39: X | V39: X | W39: X | AA39: X | AB39: X | AC39: X | AD39: X | AE39: X | AG39: X | AH39: X | AI39: X | AJ39: X | AK39: X | AM39: X | AN39: X | AO39: X | AQ39: X | AS39: X | BE39: X | BF39: X
A40: 3 | B40: Pengembangan staf | E40: X
B41: Kunjungan rumah | E41: disesuaikan | K41: dengan | P41: kebutuhan | AA41: disesuaikan | AM41: disesuaikan dengan kebutuhan
A42: 4 | B42: Kolaborasi | E42: disesuaikan | K42: dengan | P42: kebutuhan | AA42: disesuaikan | AM42: disesuaikan dengan kebutuhan
A43: 5 | B43: Pengembangan Profesi Konselor
B44: a. In House Training | K44: X
B45: b. Pendidikan Lanjut | E45: disesuaikan | K45: dengan | P45: kebutuhan | AA45: disesuaikan | AM45: disesuaikan dengan kebutuhan
A46: 6 | B46: Penelitian dan Pengembangan | AA46: X | AB46: X | BE46: X | BF46: X
A47: AKUNTABILITAS
A48: 1 | B48: Evaluasi Proses | F48: X | K48: X | N48: X | T48: X | AB48: X | AG48: X | AK48: X | AO48: X | AS48: X
A49: 2 | B49: Evaluasi Hasil | F49: X | K49: X | N49: X | T49: X | AB49: X | AG49: X | AK49: X | AO49: X | AS49: X
A50: 3 | B50: Supervisi | U50: X | V50: X | W50: X
A51: 4 | B51: Pembuatan Laporan | F51: X | K51: X | N51: X | T51: X | AB51: X | AG51: X | AK51: X | AO51: X | AS51: X
B53: Mengetahui | AJ53: Tapaktuan, 13 Juli 2026
B54: Kepala Sekolah | AJ54: Guru BK/Konselor
B59: KURNAIDI, S.Pd.,M.Pd | AJ59: FIRA AMRAWATI, S.Pd, Gr
B60: 19810527 200801 1 001 | AJ60: 199406072022212002

Sheet PROMES (GANJIL)
A1: PROGRAM SEMESTER GANJIL BIMBINGAN DAN KONSELING
A2: SMA NEGERI 1 TAPAKTUAN
D3: TAHUN ELAJARAN | H3: 2026/ 2027
A5: No. | B5: Jenis Kegiatan/Layanan | D5: Bidang Bimbingan | H5: Fungsi BK | I5: Tujuan | J5: Sasaran | K5: Waktu
D6: P | E6: S | F6: B | G6: K
A7: A. | B7: PERSIAPAN
B8: 1 | C8: Pembagian tugas guru bimbingan dan konseling/konselor | I8: Tercapainya efektivitas layanan bimbingan dan konseling | J8: KLS X | K8: Juli
B9: 2 | C9: Assesmen kebutuhan (Angket Masalah Siswa) | I9: Terungkapnya kebutuhan peserta didik/konseli | J9: KLS X | K9: Juli
B10: 3 | C10: Menyusun program bimbingan dan konseling | I10: Layanan bimbingan dan konseling lebih terarah dan tetap sasaran | J10: KLS X | K10: Juli
B11: 4 | C11: Konsultasi program bimbingan dan konseling | I11: Mendapat dukungan dari Kepala dan Komite Sekolah | J11: KLS X | K11: Juli
B12: 5 | C12: Pengadaan sarana / prasarana BK | I12: Terpenuhinya kebutuhan sarana yang menunjang keberhasilan layanan BK | J12: KLS X | K12: Juli
A13: B. | B13: LAYANAN BK
B14: 1. | C14: LAYANAN DASAR
C15: a. Bimbingan Klasikal
C16: Penyesuaian Diri Remaja di Sekolah Baru | E16: V | H16: Pemahaman | I16: Peserta didik/konseli dapat mengenal aspek-aspek penyesuaian diri serta dapat menerapkan sikap dan kebiasaan dengan lingkungannya | J16: KLS X | K16: Juli
C17: Implementasi Iman dan Taqwa dalam kehidupan modern | D17: V | H17: Pemahaman | I17: Peserta didik/konseli mampu memahami pentingnya iman dan taqwa pada Tuhan YME serta dapat hidup rukun, damai dan saling menghormati antar umat beragama | J17: KLS X | K17: Juli
C18: Kejujuran dan Integritas | D18: V | H18: Pemahaman | I18: Peserta didik/konseli dapat menjadi individu yang memiliki integritas diri serta dapat memancarkan kepercayaan diri dan sikap yang tidak mementingkan diri sendiri | J18: KLS X | K18: Agst
C19: Sikap dan Perilaku Asertif | D19: V | H19: Pemahaman | I19: Peserta didik/konseli mampu membedakan perilaku agresif dan asertif, menerapkan prilaku asertif dengan teman-temannya serta mengembangkan sikap asertif untuk menunjang prestasi | J19: KLS X | K19: Agst
C20: Konsep diri remaja | D20: V | H20: Pemahaman | I20: Peserta didik/konseli dapat memahami dan menemukan unsur-unsur konsep diri serta memahami dan menerima kelebihan dan kekurangan secara wajar dan penuh rasa syukur | J20: KLS X | K20: Sept.
C21: Potensi diri remaja | D21: V | H21: Pemahaman | I21: Peserta didik/konseli dapat mengenal dan menggali potensi diri serta berusaha mengoptimalkannya untuk meraih sukses masa depan | J21: KLS X | K21: Sept.
C22: Psikologi remaja dan permasalahannya | D22: VV | H22: Pemahaman | I22: Peserta didik/konseli mampu mengenal ciri-ciri perkembangan remaja, dapat memahami tugas perkembangan, mengatasi masalah yang dihadapi dalam perkembangan | J22: KLS X | K22: Oktb
C23: Kepribadian Manusia | D23: V | H23: Pemahaman | I23: Peserta didik/konseli mampu mengenal tipe-tipe kepribadian manusia, mengenal kepribadian yang dimiliki serta dapat tumbuh menjadi pribadi yang matang | J23: KLS X | K23: Oktb.
C24: Membangun Rasa Percaya Diri | D24: V | H24: Pemahaman | I24: Peserta didik/konseli dapat memahami ciri-ciri pribadi yang memiliki rasa percaya diri serta dapat meningkatkan percaya diri dengan baik untuk mencapai tujuan hidupnya | J24: KLS X | K24: Novb.
C25: Pola Hidup Bersih dan Sehat | D25: V | H25: Pemahaman | I25: Peserta didik/konseli mampu memahami pentingnya polah hidup bersih dan sehat serta dapat melakukan kebiasaan hidup bersih dan sehat sehari-hari yang dapat mempengaruhi kesehatan | J25: KLS X | K25: Novb.
C26: Menjadi pribadi yang berkarakter | D26: V | H26: Pemahaman | I26: Peserta didik/konseli mampu memiliki perasaan positif untuk membangun pribadi yang berkarakter yang akan berkontribusi pada peningkatan mutu karakter bangsa | J26: KLS X | K26: Desb.
C28: b. Kelas Besar
C29: Srtuktur kurikulum sekolah | F29: V | H29: Pemahaman | I29: Peserta didik/konseli dapat memahami tentang struktur kurikulum sekolah | J29: KLS X | K29: Jul
C30: c. Bimbingan Kelompok
C31: Kebiasaan mencontek dan akibatnya | F31: V | H31: Pemahaman | I31: Peserta didik/konseli dapat menjadi individu yang memiliki sikap yang tidak mencontek | J31: KLS X | K31: Agt
C32: Jadwal kegiatan sehari-hari | D32: V | H32: Pemahaman | I32: Peserta didik/konseli mampu mengatur jadwal kegiatan sehari-hari dengan baik | J32: KLS X | K32: Sept
C34: d. Papan Bimbingan | K34: Juli - Desb
C35: Tips dan Trik Sukses dalam Pengembangan diri | D35: V | E35: V | F35: V | G35: V | H35: Pemahaman dan pencegahan | I35: Peserta didik/konseli memperoleh informasi melalui media tulis | J35: KLS X | K35: Juli - Desb
C36: e. Pengemb. Media BK | D36: V | E36: V | F36: V | G36: V | H36: Pemahaman | I36: Peserta didik/konseli memperoleh informasi yang bermanfaat bagi dirinya | J36: KLS X | K36: Juli - Desb
C37: f. Leafleat | D37: V | E37: V | F37: V | G37: V | H37: Pemahaman | I37: Peserta didik/konseli memperoleh informasi melalui media cetak | J37: KLS X
B38: 2. | C38: LAYANAN RESPONSIF
C39: 1. Konseling Individual | H39: Pengentasan | I39: Terbantunya peserta didik dalam mengatasi hambatan/memecahkan masalah yang dialaminya | J39: KLS X | K39: Juli - Desb
C40: 2. Konseling Kelompok | H40: Pengentasan | I40: Terbantunya memecahkan masalah peserta didik melalui kelompok | J40: KLS X | K40: Juli - Desb
C41: 3. Konsultasi | H41: Pemahaman dan pengentasan | I41: Terbantunya memberikan informasi yang dibutuhkan oleh peserta didik | J41: KLS X | K41: Juli - Desb
C42: 4. Konferensi Kasus | H42: Pengentasan | I42: Diperolehnya kesepakatan bersama mengenai masalah peserta didik | J42: KLS X | K42: Juli - Desb
C43: 5. Advokasi | H43: Pengentasan | I43: Terentaskannya masalah konseli yang terkait dengan pihak lain agar hak-hak konseli tetap terlindungi | J43: KLS X | K43: Juli - Desb
C44: 6. Konseling elektronik | H44: Pengentasan | I44: Terselenggaranya layanan Bimbingan dan Konseling yang lebih efektif | J44: KLS X | K44: Juli - Desb
C45: 7. Kotak masalah | H45: Pemahaman dan pengentasan | I45: Tertampungnya masalah peserta didik/konseli yang introvert | J45: KLS X | K45: Juli - Desb
B46: 3. | C46: PEMINATAN DAN | H46: Pemahaman dan pengentasan | I46: Terentaskannya masalah konseli yang terkait dengan pemilihan jurusan dan rencana karir masa depan
C47: PERENC. INVIDIVUAL
B49: 4. | C49: DUKUNGAN SISTEM
C50: a. Melaksanakan dan menindaklanjuti assesmen | I50: Pengumpulan data dan kebutuhan peserta didik
C51: b. Kunjungan rumah | I51: Mengetahui langsung kondisi peserta didik di lingkungan rumah
C52: c. Menyusun dan melaporkan program bimbingan dan konseling | I52: Pertanggungjawaban kinerja kepada kepala sekolah
C53: d. Membuat evaluasi | I53: Penilaian ketercapaian program layanan bimbingan dan konseling
C54: e. Melaksanakan administrasi bimbingan dan konsleing | I54: Bukti fisik pelaksanaan bimbingan dan konseling
C55: f. Pengembangan keprofesian konselor | I55: Pengembangan diri / profesi
C58: Mengetahui | I58: Tapaktuan, 13 Juli 2026
C59: Kepala Sekolah | I59: Guru BK/Konselor
C63: KURNAIDI, S.Pd.,M.Pd | I63: FIRA AMRAWATI, S.Pd, Gr
C64: 19810527 200801 1 001 | I64: 199496972022212000

Sheet PROMES (GENAP)
A1: PROGRAM SEMESTER GENAP BIMBINGAN DAN KONSELING
A2: SMA NEGERI 1 TAPAKTUAN
D3: TAHUN PELAJARAN | H3: 2026/ 2027
A5: No. | B5: Jenis Kegiatan/Layanan | D5: Bidang Bimbingan | H5: Fungsi BK | I5: Tujuan | J5: Sasaran | K5: Waktu
D6: P | E6: S | F6: B | G6: K
A7: A. | B7: PERSIAPAN
B8: 1 | C8: Pembagian tugas guru bimbingan dan konseling/konselor | I8: Tercapainya efektivitas layanan bimbingan dan konseling | K8: Jan
B9: 2 | C9: Konsultasi program bimbingan dan konseling | I9: Tercapainya keberhasilan layanan bimbingan dan konseling | J9: KLS X | K9: Jan
B10: 3 | C10: Pengadaan sarana / prasarana BK | I10: Terpenuhinya kebutuhan sarana yang menunjang keberhasilan layanan BK | J10: KLS X | K10: Jan
A11: B. | B11: LAYANAN BK
B12: 1. | C12: LAYANAN DASAR
C13: a. Bimbingan Klasikal
C14: Kenakalan Remaja dan Cara Menghindarinya | E14: V | H14: Pemahaman | I14: Peserta didik/konseli dapat mengetahui bentuk atau jenis kenakalan remaja, dampak terhadap pribadi dan lingkungan serta berusaha untuk menghindarinya | J14: KLS X | K14: Feb
C15: Bahaya rokok dan dampaknya | E15: V | H15: Pemahaman | I15: Peserta didik/konseli memiliki pemahaman tentang bahaya dan dampak rokok bagi kesehatan tubuh dan lingkungan serta cara untuk menolak ajakan untuk merokok dalam bentuk apapun | J15: KLS X | K15: Feb
C16: Prilaku sosial yang bertanggung jawab | E16: V | H16: Pemahaman | I16: Peserta didik/konseli mampu memahami pentingnya berprilaku sosial yang baik, serta memiliki sikap untuk hidup bersosial yang bertanggung jawab dalam sebuah masyarakat | J16: KLS X | K16: Feb
C17: Stop Bullying ! | E17: V | H17: Pemahaman | I17: Peserta didik/konseli mampu memahami tentang bullying, bahaya prilaku bullying, sebab dan dampak bullying, serta berani cara melawan tindakan bullying | J17: KLS X | K17: Mar
C18: Etika pergaulan dengan teman sebaya | E18: V | H18: Pemahaman | I18: Peserta didik/konseli mampu memahami norma-norma dalam masyarakat serta dapat bersosialisasidan bergaul dengan teman sebaya sesuai dengan etika yang baik | J18: KLS X | K18: Mar
C19: Sikap sopan santun dalam kehidupan | E19: V | H19: Pemahaman | I19: Peserta didik/konseli mampu memahami nilai-nilai dan cara bertingkah laku sopan santun dalam kehidupan di luar kelompok teman sebaya | J19: KLS X | K19: Mar
C20: Dampak handphone (medsos) | E20: V | H20: Pemahaman | I20: Peserta didik/konseli dapat memahami dampak positif dan negatif bermain handphone atau media sosial | J20: KLS X | K20: Apr
C21: Kiat sukses belajar di SMA-MA | F21: V | H21: Pemahaman | I21: Peserta didik/konseli dapat mengenal sikap dalam belajar serta menerapkan sikap dan kebiasaan dalam belajar yang baik di SMA-MA hingga mencapai prestasi yang lebih luas | J21: KLS X | K21: Apr
C22: Motivasi berprestasi | F22: V | H22: Pemahaman | I22: Peserta didik/konseli mampu memahami pengertian motivasi berprestasi, mengetahui dan menerapkan cara untuk meningkatkan motivasi berprestasi | J22: KLS X | K22: Apr
C23: Strategi belajar sesuai dengan gaya belajar | F23: V | H23: Pemahaman | I23: Peserta didik/konseli dapat memahami dan mengetahui tentang gaya belajar serta strategi belajarnya untuk masing-masing gaya belajar tersebut | J23: KLS X | K23: Mei
C24: Perencanaan Karir Masa Depan | G24: V | H24: Pemahaman | I24: Peserta didik/konseli mampu memahami pentingnya perencanaan karir, langkah-langkah dalam merencanakan karir serta mililiki sikap positif dalam meraih kesuksesan masa depan | J24: KLS X | K24: Mei
C26: b. Bimbingan Kelompok
C27: Kiat mencari teman | E27: V | I27: Peserta didik/konseli mudah mencari dan disenangi teman | J27: KLS X | K27: Feb
C28: Belajar kelompok yang efektif | F28: V | I28: Peserta didik/konseli dapat belajar kelompok dengan temannya | J28: KLS X | K28: Mar
C29: c. Papan Bimbingan
C30: Tips dan Trik Sukses dalam Pengembangan diri | D30: V | E30: V | F30: V | G30: V | H30: Pemahaman dan pencegahan | I30: Peserta didik/konseli memperoleh informasi melalui media tulis | J30: KLS X | K30: Jan-Jun
C31: d. Pengemb. Media BK | D31: V | E31: V | F31: V | G31: V | H31: Pemahaman | I31: Peserta didik/konseli memperoleh informasi yang bermanfaat bagi dirinya | J31: KLS X | K31: Jan-Jun
C32: e. Leafleat | D32: V | E32: V | F32: V | G32: V | H32: Pemahaman | I32: Peserta didik/konseli memperoleh informasi melalui media cetak | J32: KLS X | K32: Jan-Jun
B33: 2. | C33: LAYANAN RESPONSIF
C34: 1. Konseling Individual | H34: Pengentasan | I34: Terbantunya peserta didik dalam mengatasi hambatan/memecahkan masalah yang dialaminya | J34: KLS X
C35: 2. Konseling Kelompok | H35: Pengentasan | I35: Terbantunya memecahkan masalah peserta didik melalui kelompok | J35: KLS X
C36: 3. Konsultasi | H36: Pemahaman dan pengentasan | I36: Terbantunya memberikan informasi yang dibutuhkan oleh peserta didik | J36: KLS X
C37: 4. Konferensi Kasus | H37: Pengentasan | I37: Diperolehnya kesepakatan bersama mengenai masalah peserta didik | J37: KLS X
C38: 5. Advokasi | H38: Pengentasan | I38: Terentaskannya masalah konseli yang terkait dengan pihak lain agar hak-hak konseli tetap terlindungi | J38: KLS X
C39: 6. Konseling elektronik | H39: Pengentasan | I39: Terselenggaranya layanan Bimbingan dan Konseling yang lebih efektif | J39: KLS X
C40: 7. Kotak masalah | H40: Pengentasan | I40: Tertampungnya masalah peserta didik/konseli yang introvert | J40: KLS X
B41: 3. | C41: PEMINATAN DAN
C42: PERENC. INVIDIVUAL
B44: 4. | C44: DUKUNGAN SISTEM
C45: a. Melaksanakan dan menindaklanjuti assesmen | I45: Pengumpulan data dan kebutuhan peserta didik | J45: KLS X | K45: Jan-Jun
C46: b. Kunjungan rumah | I46: Mengetahui langsung kondisi peserta didik di lingkungan rumah | J46: KLS X | K46: Jan-Jun
C47: c. Menyusun dan melaporkan program bimbingan dan konseling | I47: Pertanggungjawaban kinerja kepada kepala sekolah | J47: KLS X | K47: Jan-Jun
C48: d. Membuat evaluasi | I48: Penilaian ketercapaian program layanan bimbingan dan konseling | J48: KLS X | K48: Jan-Jun
C49: e. Melaksanakan administrasi bimbingan dan konsleing | I49: Bukti fisik pelaksanaan bimbingan dan konseling | J49: KLS X | K49: Jan-Jun
C50: f. Pengembangan keprofesian konselor | I50: Pengembangan diri / profesi | J50: KLS X | K50: Jan-Jun
C53: Mengetahui | I53: Tapaktuan, 13 Juli 2026
C54: Kepala Sekolah | I54: Guru BK/Konselor
C58: KURNAIDI, S.Pd.,M.Pd | I58: FIRA AMRAWATI, S.Pd, Gr
C59: 19810527 200801 1 001 | I59: 199496972022212000

Sheet RPL KLASIKAL
A1: =HOME!$G$4 -> PEMERINTAH PROVINSI ACEH
A2: =HOME!$G$5 -> DINAS PENDIDIKAN PROVINSI ACEH
A3: =HOME!$G$6 -> SMA NEGERI 1 SAWANG
A4: =HOME!$G$7 -> JL. TAPAKTUAN - MEULABOH KM. 20 DESA MEULIGO KEC. SAWANG
A5: RENCANA PELAKSANAAN LAYANAN (RPL)
A6: BIMBINGAN KLASIKAL
A7: SEMESTER GANJIL TAHUN PELAJARAN 2019/2020
A9: A | B9: Komponen Layanan | F9: Layanan Dasar
A10: B | B10: Bidang Layanan | F10: Sosial
A11: C | B11: Topik / Tema Layanan | F11: Penyesuaian Diri Remaja di Sekolah Baru
A12: D | B12: Fungsi Layanan | F12: Pemahaman
A13: E | B13: Tujuan Umum | F13: Peserta didik/konseli dapat mengenal aspek-aspek penyesuaian diri serta dapat menerapkan sikap dan kebiasaan dengan lingkungannya
A14: F | B14: Tujuan Khusus | E14: 1 | F14: Peserta didik/konseli dapat memahami pengertian dan proses penyesuaian diri
E15: 2 | F15: Peserta didik/konseli dapat memahami karakteristik penyesuaian diri
E16: 3 | F16: Peserta didik/konseli dapat memahami cara menyesuaikan diri di sekolah
A17: G | B17: Sasaran Layanan | E17: Kelas 10 MIPA 1
A18: H | B18: Materi Layanan | E18: 1 | F18: Pengertian dan proses penyesuain diri
E19: 2 | F19: Karakteristik penyesuaian diri
E20: 3 | F20: Cara menyesuaikan diri di sekolah
A21: I | B21: Waktu | E21: 2 X 45 Menit
A22: J | B22: Sumber | E22: 1 | F22: Slamet, dkk 2016, Materi Layanan Klasikal Bimbingan dan Konseling untuk SMA-MA kelas 10, Yogyakarta, Paramitra Publishing
E23: 2 | F23: Triyono, Mastur, 2014, Materi Layanan Klasikal Bimbingan dan Konseling bidang sosial, Yogyakarta, Paramitra
E24: 3 | F24: Hutagalung, Ronal. 2015. Ternyata Berprestasi ItuMudah. Jakarta: PT Gramedia Pustaka Utama
E25: 4 | F25: Eliasa Imania Eva, Suwarjo.2011.Permainan (games) dalam Bimbingan dan Konseling.Yogyakarta: Paramitra
A26: K | B26: Metode/Teknik | E26: : | F26: Ceramah, Curah pendapat dan tanya jawab
A27: L | B27: Media / Alat | E27: : | F27: LCD, Power Point, Penyesuaian diri di lingkungan sekolah baru
A28: M | B28: PELAKSANAAN
B29: 1 | C29: Tahap Awal/Pendahuluan
C30: a | D30: Pernyataan Tujuan | E30: - | F30: Salam
E31: - | F31: Menanyakan kabar
E32: - | F32: Ice breaker ( berbagai macam variasi).
E33: - | F33: Menyampaikan tujuan yang akan dicapai
C34: b | D34: Penjelasan tentang langkah-langkah kegiatan | E34: - | F34: Memberikan langkah-langkah kegiatan, tugas dan tanggung jawab peserta didik
E35: - | F35: Kontrak layanan ( kesepakatan layanan ), hari ini kita akan melakukan kegiatan selama 1 jam pelayanan, kita sepakat akan melakukan dengan baik.
C36: c | D36: Mengarahkan kegiatan (konsolidasi) | E36: - | F36: Guru BK/Konselor memberikan penejelasan tentang topik yang akan dibicarakan
C37: d | D37: Tahap peralihan ( Transisi) | E37: - | F37: Guru BK/Konselor menanyakan kesiapan peserta didik melaksanakan kegiatan, dan memulai ke tahap inti
B38: 2 | C38: Tahap Inti
C39: a | D39: Kegiatan Peserta Didik | E39: - | F39: Peserta didik mengamati tayangan materi melalui media power point
E40: - | F40: Peserta didik mencari dan membawa gambar tumbuhan, sayuran atau hewan
E41: - | F41: Setiap kelompok menjelaskan karakter yang dimiliki makhluk hidup tersebut, cara memproduksi, cara tumbuh, mendapatkan makan dan minum, manfaat, dsb.
E42: - | F42: Setiap kelompok mempresetasikan tugasnya kemudian kelompok lain menanggapinya, dan seterusnya bergantian sampai selesai.
C43: b | D43: Kegiatan Guru BK/Konselor | E43: - | F43: Guru BK membagi kelas menjadi 6 kelompok, 1 kelompok 5- 6 orang
E44: - | F44: Guru BK memberikan pengantar materi yang telah disiapkan
B45: 3 | C45: Tahap Penutup | E45: - | F45: Guru BK/Konselor memberikan penguatan
E46: - | F46: Merencanakan tindak lanjut
A47: N | B47: Evaluasi
B48: 1 | C48: Evaluasi Proses | E48: - | F48: Melakukan Refleksi hasil, setiap peserta didik menuliskan di kertas yang sudah disiapkan.
E49: - | F49: Sikap atau atusias peserta didik dalam mengikuti kegiatan
E50: - | F50: Cara peserta didik dalam menyampaikan pendapat atau bertanya
E51: - | F51: Cara peserta didik memberikan penjelasan dari pertanyaan guru BK
B52: 2 | C52: Evaluasi Hasil | E52: - | F52: Merasakan suasana pertemuan: menyenangkan/kurang menyenangkan/tidak menyenangkan
E53: - | F53: Topik yang dibahas:sangat penting/kurang penting/tidak penting
E54: - | F54: Penyampaian Guru BK/Konselor: mudah dipahami/sulit dipahami
E55: - | F55: Kegiatan yang diikuti:menarik/kurang menarik/tidak menarik untuk diikuti
A56: LAMPIRAN-LAMPIRAN
A57: 1 | B57: Uraian materi/Slide power point
A58: 2 | B58: Lembar kerja siswa
B60: Mengetahui | F60: =HOME!G14 -> SAWANG, JULI 2019
B61: Kepala Sekolah | F61: Guru BK/Konselor
B65: =HOME!$G$10 -> ASNAWI S.Pd | F65: =HOME!$G$12 -> MILLA AMIR, S.Pd., Gr. Kons
B66: =HOME!$G$11 -> 196704031990031005 | F66: =HOME!$G$13 -> 198512232015042001
A72: =HOME!$G$4 -> PEMERINTAH PROVINSI ACEH
A73: =HOME!$G$5 -> DINAS PENDIDIKAN PROVINSI ACEH
A74: =HOME!$G$6 -> SMA NEGERI 1 SAWANG
A75: =HOME!$G$7 -> JL. TAPAKTUAN - MEULABOH KM. 20 DESA MEULIGO KEC. SAWANG
A76: RENCANA PELAKSANAAN LAYANAN (RPL)
A77: BIMBINGAN KLASIKAL
A78: SEMESTER GANJIL TAHUN PELAJARAN 2019/2020
A80: A | B80: Komponen Layanan
A81: B | B81: Bidang Layanan
A82: C | B82: Topik / Tema Layanan
A83: D | B83: Fungsi Layanan
A84: E | B84: Tujuan Umum
A85: F | B85: Tujuan Khusus | E85: 1
E86: 2
E87: 3
A88: G | B88: Sasaran Layanan | E88: Kelas 10...
A89: H | B89: Materi Layanan | E89: 1
E90: 2
E91: 3
A92: I | B92: Waktu | E92: 2 Kali Pertemuan x 45 Menit
A93: J | B93: Sumber | E93: 1
E94: 2
E95: 3
E96: 4
A97: K | B97: Metode/Teknik | E97: Ceramah, Curah pendapat dan tanya jawab
A98: L | B98: Media / Alat | E98: LCD, Power Point Tuhan Selalu Hadir dalam Hidupku
A99: M | B99: PELAKSANAAN
B100: 1 | C100: Tahap Awal/Pendahuluan
C101: a | D101: Pernyataan Tujuan | E101: - | F101: Salam
E102: - | F102: Menanyakan kabar
E103: - | F103: Ice breaker ( berbagai macam variasi).
E104: - | F104: Menyampaikan tujuan yang akan dicapai
C105: b | D105: Penjelasan tentang langkah-langkah kegiatan | E105: - | F105: Memberikan langkah-langkah kegiatan, tugas dan tanggung jawab peserta didik
E106: - | F106: Kontrak layanan ( kesepakatan layanan ), hari ini kita akan melakukan kegiatan selama 1 jam pelayanan, kita sepakat akan melakukan dengan baik.
C107: c | D107: Mengarahkan kegiatan (konsolidasi) | E107: - | F107: Guru BK/Konselor memberikan penejelasan tentang topik yang akan dibicarakan
C108: d | D108: Tahap peralihan ( Transisi) | E108: - | F108: Guru BK/Konselor menanyakan kesiapan peserta didik melaksanakan kegiatan, dan memulai ke tahap inti
B109: 2 | C109: Tahap Inti
C110: a | D110: Kegiatan Peserta Didik | E110: -
E111: -
...

Sheet RPL KELOMPOK
A1: =HOME!$G$4 -> PEMERINTAH PROVINSI ACEH
A2: =HOME!$G$5 -> DINAS PENDIDIKAN PROVINSI ACEH
A3: =HOME!$G$6 -> SMA NEGERI 1 SAWANG
A4: =HOME!$G$7 -> JL. TAPAKTUAN - MEULABOH KM. 20 DESA MEULIGO KEC. SAWANG
A5: RENCANA PELAKSANAAN LAYANAN (RPL)
A6: BIMBINGAN KELOMPOK
A7: SEMESTER GANJIL TAHUN PELAJARAN 2019/2020
A9: A | B9: Komponen Layanan | F9: Layanan Dasar
A10: B | B10: Bidang Layanan | F10: Pribadi
A11: C | B11: Fungsi Layanan | F11: Pemahaman
A12: D | B12: Tujuan | F12: Peserta didik/konseli dapat menjadi individu yang memiliki sikap yang tidak mencontek
A13: E | B13: Topik | F13: Kebiasaan mencontek dan akibatnya
A14: F | B14: Sasaran Layanan | F14: Kelompok 2 Kelas X MIPA 1
A15: G | B15: Metode dan Teknik | F15: Diskusi
A16: H | B16: Waktu | F16: 2 x 45 menit
A17: I | B17: Media/Alat | F17: Kartu sikap
A18: J | B18: Tanggal Pelaksanaan
A19: K | B19: Sumber Bacaan
A20: L | B20: Uraian Kegiatan
B21: 1 | C21: Tahap Awal
C22: a | D22: Pernyataan Tujuan | E22: - | F22: Guru BK/Konselor menyampaiakan salam
E23: - | F23: Guru BK/Konselor menyampaiakan tujuan layanan yang meliputi aspek afektif, kognitif dan psikomotor
C24: b | D24: Pembentukan Kelompok (Penjelasan tentang langkah-langkah kegiatan kelompok) | E24: Guru BK/Konselor menjelaskan langkah-langkah kegiatan, tugas dan tanggung jawa siswa
C25: c | D25: Mengarahkan kegiatan(konsolidasi) | E25: Memberikan penjelasan tentang kegiatan secara operasional yang akan dilakukan
C26: d | D26: Tahap Peralihan (Transisi)
C27: - | D27: Guru BK/Konselor menanyakan kalau ada siswa yang belum mengerti dan memberikan penjelasan ( Storming) | E27: a | F27: Guru BK/Konselor menanyakan kesiapan kelompok dalam melaksanakan tugas
E28: b | F28: Guru BK/Konselor memberi kesempatan bertanya kepada setiap kelompok tentang tugas-tugas yang belum mereka pahami
E29: c | F29: Guru BK/Konselor menjelaskan kembali secara singkat tentang tugas dan tanggung jawab peserta dalam melakukan kegiatan
C30: - | D30: Guru BK/Konselor menyiapkan siswa untuk melakukan komitmen tentang kegiatan yang akan dilakukannya ( Norming) | E30: a | F30: Guru BK/Konselor menanyakan kesiapan para peserta untuk melaksanakan tugas
E31: b | F31: Setelah semua menyatakan siap, selanjutnya Guru BK/Konselor memulai ke tahap kerja
B32: 2 | C32: Tahap Inti/Kerja
C33: a | D33: Eksperientasi ( proses/kegiatan yang dialami peserta didik dalam suatu kegiatan bimbingan berdasarkan teknis tertentu) | E33: Guru BK/Konselor memastikan keselarasan antara tujuan yang akan dicapai, metode yang dipilih dengan materi
C34: b | D34: Refleksi (Pengungkapan perasaan, pemikiran dan pengalaman tentang apa yang terjadi dalam kegiatan bimbingan) | E34: 1 | F34: Refleksi Identifikasi. Guru BK/Konselor mengidentifikasi respon anggota kelompok melalui pertanyaan yang mengungkap pengalaman peserta tentang apa yang terjadi pada saat mengikuti kegiatan ( What Happened). Pertanyaan pada refleksi identifikasi mengacu pada pengukuruan pencapaian apa yang diketahui (pengenalan)
E35: 2 | F35: Refleksi Analisis. Guru BK/Konselor mengajak konseli untuk menganalisis dan memikirkan (think) sebab-sebab mengapa mereka menunjukkan perilaku tertentu dan apa yang akan dilakukan selanjutnya ( so what)
E36: 3 | F36: Refleksi Generalisasi. Guru BK/Konselor mengajak peserta membuat rencana tindakan untuk memperbaiki perilaku yang dianggap sebagai kelemahan dirinya ( Plan). Kemudian Guru BK/Konselor mengajukan pertanyaan tentang rencana tindakan untuk memperbaiki perilaku sebagai tanda peserta didik memiliki kesadaran untuk berubah (Now What). Contoh pertanyaan: rencana apa yang akan dilakukan ? kapan akan dimulai ? langkah terdekat apa yang akan dilakukan ?
B37: 3 | C37: Tahap Pengakhiran (Terminasi)
C38: Menutup kegiatan dan tindak lanjut | E38: a | F38: Guru bimbingan dan konseling atau konselor memberikan penguatan terhadap aspek-aspek yang ditemukan oleh peserta dalam suatu kerja kelompok
E39: b | F39: Merencanakan tindak lanjut, yaitu mengembangkan aspek kerjasama
E40: c | F40: Akhir dari tahap ini adalah menutup kegiatan layanan secara simpatik (Framming)
A41: M | B41: Evaluasi
B42: 1 | C42: Evaluasi Proses | E42: a | F42: Guru bimbingan dan konseling atau konselor terlibat dalam menumbuhkan antusiasme peserta dalam mengikuti kegiatan.
E43: b | F43: Guru bimbingan dan konseling atau konselor membangun dinamika kelompok
E44: c | F44: Guru bimbingan dan konseling atau konselor memberikan penguatan dalam didik membuat langkah yang akan dilakukannya
B45: 2 | C45: Evaluasi Hasil | E45: a | F45: Mengajukan pertanyaan untuk mengungkap pengalaman konseli dalam bimbingan kelompok
E46: b | F46: Mengamati perubahan perilaku peserta setelah bimbingan kelompok.
E47: c | F47: Konseli mengisi instrumen penilaian dari guru bimbingan dan konseling atau konselor (seperti contoh dalam konseling kelompok)
B49: Mengetahui | F49: =HOME!G14 -> SAWANG, JULI 2019
B50: Kepala Sekolah | F50: Guru BK/Konselor
B54: =HOME!$G$10 -> ASNAWI S.Pd | F54: =HOME!$G$12 -> MILLA AMIR, S.Pd., Gr. Kons
B55: =HOME!$G$11 -> 196704031990031005 | F55: =HOME!$G$13 -> 198512232015042001
A58: =HOME!$G$4 -> PEMERINTAH PROVINSI ACEH
A59: =HOME!$G$5 -> DINAS PENDIDIKAN PROVINSI ACEH
A60: =HOME!$G$6 -> SMA NEGERI 1 SAWANG
A61: =HOME!$G$7 -> JL. TAPAKTUAN - MEULABOH KM. 20 DESA MEULIGO KEC. SAWANG
A62: RENCANA PELAKSANAAN LAYANAN (RPL)
A63: BIMBINGAN KELOMPOK
A64: SEMESTER GANJIL TAHUN PELAJARAN 2019/2020
A66: A | B66: Komponen Layanan
A67: B | B67: Bidang Layanan
A68: C | B68: Fungsi Layanan
A69: D | B69: Tujuan
A70: E | B70: Topik
A71: F | B71: Sasaran Layanan
A72: G | B72: Metode dan Teknik
A73: H | B73: Waktu | E73: 2 x 45 menit
A74: I | B74: Media/Alat
A75: J | B75: Tanggal Pelaksanaan
A76: K | B76: Sumber Bacaan
A77: L | B77: Uraian Kegiatan
B78: 1 | C78: Tahap Awal
C79: a | D79: Pernyataan Tujuan | E79: - | F79: Guru BK/Konselor menyampaiakan salam
E80: - | F80: Guru BK/Konselor menyampaiakan tujuan layanan yang meliputi aspek afektif, kognitif dan psikomotor
C81: b | D81: Pembentukan Kelompok (Penjelasan tentang langkah-langkah kegiatan kelompok) | E81: Guru BK/Konselor menjelaskan langkah-langkah kegiatan, tugas dan tanggung jawa siswa
C82: c | D82: Mengarahkan kegiatan(konsolidasi) | E82: Memberikan penjelasan tentang kegiatan secara operasional yang akan dilakukan
C83: d | D83: Tahap Peralihan (Transisi)
C84: - | D84: Guru BK/Konselor menanyakan kalau ada siswa yang belum mengerti dan memberikan penjelasan ( Storming) | E84: a | F84: Guru BK/Konselor menanyakan kesiapan kelompok dalam melaksanakan tugas
E85: b | F85: Guru BK/Konselor memberi kesempatan bertanya kepada setiap kelompok tentang tugas-tugas yang belum mereka pahami
E86: c | F86: Guru BK/Konselor menjelaskan kembali secara singkat tentang tugas dan tanggung jawab peserta dalam melakukan kegiatan
C87: - | D87: Guru BK/Konselor menyiapkan siswa untuk melakukan komitmen tentang kegiatan yang akan dilakukannya ( Norming) | E87: a | F87: Guru BK/Konselor menanyakan kesiapan para peserta untuk melaksanakan tugas
E88: b | F88: Setelah semua menyatakan siap, selanjutnya Guru BK/Konselor memulai ke tahap kerja
B89: 2 | C89: Tahap Inti/Kerja
C90: a | D90: Eksperientasi ( proses/kegiatan yang dialami peserta didik dalam suatu kegiatan bimbingan berdasarkan teknis tertentu) | E90: Guru BK/Konselor memastikan keselarasan antara tujuan yang akan dicapai, metode yang dipilih dengan materi
C91: b | D91: Refleksi (Pengungkapan perasaan, pemikiran dan pengalaman tentang apa yang terjadi dalam kegiatan bimbingan) | E91: 1 | F91: Refleksi Identifikasi. Guru BK/Konselor mengidentifikasi respon anggota kelompok melalui pertanyaan yang mengungkap pengalaman peserta tentang apa yang terjadi pada saat mengikuti kegiatan ( What Happened). Pertanyaan pada refleksi identifikasi mengacu pada pengukuruan pencapaian apa yang diketahui (pengenalan)
E92: 2 | F92: Refleksi Analisis. Guru BK/Konselor mengajak konseli untuk menganalisis dan memikirkan (think) sebab-sebab mengapa mereka menunjukkan perilaku tertentu dan apa yang akan dilakukan selanjutnya ( so what)
E93: 3 | F93: Refleksi Generalisasi. Guru BK/Konselor mengajak peserta membuat rencana tindakan untuk memperbaiki perilaku yang dianggap sebagai kelemahan dirinya ( Plan). Kemudian Guru BK/Konselor mengajukan pertanyaan tentang rencana tindakan untuk memperbaiki perilaku sebagai tanda peserta didik memiliki kesadaran untuk berubah (Now What). Contoh pertanyaan: rencana apa yang akan dilakukan ? kapan akan dimulai ? langkah terdekat apa yang akan dilakukan ?
B94: 3 | C94: Tahap Pengakhiran (Terminasi)
C95: Menutup kegiatan dan tindak lanjut | E95: a | F95: Guru bimbingan dan konseling atau konselor memberikan penguatan terhadap aspek-aspek yang ditemukan oleh peserta dalam suatu kerja kelompok
E96: b | F96: Merencanakan tindak lanjut, yaitu mengembangkan aspek kerjasama
E97: c | F97: Akhir dari tahap ini adalah menutup kegiatan layanan secara simpatik (Framming)
A98: M | B98: Evaluasi
B99: 1 | C99: Evaluasi Proses | E99: a | F99: Guru bimbingan dan konseling atau konselor terlibat dalam menumbuhkan antusiasme peserta dalam mengikuti kegiatan.
E100: b | F100: Guru bimbingan dan konseling atau konselor membangun dinamika kelompok
E101: c | F101: Guru bimbingan dan konseling atau konselor memberikan penguatan dalam didik membuat langkah yang akan dilakukannya
B102: 2 | C102: Evaluasi Hasil | E102: a | F102: Mengajukan pertanyaan untuk mengungkap pengalaman konseli dalam bimbingan kelompok
E103: b | F103: Mengamati perubahan perilaku peserta setelah bimbingan kelompok.
E104: c | F104: Konseli mengisi instrumen penilaian dari guru bimbingan dan konseling atau konselor (seperti contoh dalam konseling kelompok)
B106: Mengetahui | F106: =HOME!G14 -> SAWANG, JULI 2019
B107: Kepala Sekolah | F107: Guru BK/Konselor
B111: =HOME!$G$10 -> ASNAWI S.Pd | F111: =HOME!$G$12 -> MILLA AMIR, S.Pd., Gr. Kons
B112: =HOME!$G$11 -> 196704031990031005 | F112: =HOME!$G$13 -> 198512232015042001

Sheet RPL INDIVIDUAL
A1: =HOME!$G$4 -> PEMERINTAH PROVINSI ACEH
A2: =HOME!$G$5 -> DINAS PENDIDIKAN PROVINSI ACEH
A3: =HOME!$G$6 -> SMA NEGERI 1 SAWANG
A4: =HOME!$G$7 -> JL. TAPAKTUAN - MEULABOH KM. 20 DESA MEULIGO KEC. SAWANG
A5: RENCANA PELAKSANAAN LAYANAN (RPL)
A6: KONSELING INDIVIDUAL
A7: SEMESTER GANJIL TAHUN PELAJARAN 2019/2020
A9: 1 | B9: Nama Konseli | D9: K2
A10: 2 | B10: Kelas/Semester | D10: X MIPA 1 / Semester 1
A11: 3 | B11: Hari, Tanggal | D11: Selasa, 30 Juli 2017
A12: 4 | B12: Pertemuan ke- | D12: 1 ( pertama )
A13: 5 | B13: Waktu | D13: 2 x 45 Menit
A14: 6 | B14: Tempat | D14: Ruang Konseling BK SMA Paramitra
A15: 7 | B15: Gejala yang nampak/keluhan | D15: 1. Konseli terlihat agak gelisah
D16: 2. Konseli sulit untuk mengemukakan masalahnya
D17: 3. Konseli menangis
B20: Mengetahui | D20: =HOME!G14 -> SAWANG, JULI 2019
B21: Kepala Sekolah | D21: Guru BK/Konselor
B25: =HOME!$G$10 -> ASNAWI S.Pd | D25: =HOME!$G$12 -> MILLA AMIR, S.Pd., Gr. Kons
B26: =HOME!$G$11 -> 196704031990031005 | D26: =HOME!$G$13 -> 198512232015042001
A30: =HOME!$G$4 -> PEMERINTAH PROVINSI ACEH
A31: =HOME!$G$5 -> DINAS PENDIDIKAN PROVINSI ACEH
A32: =HOME!$G$6 -> SMA NEGERI 1 SAWANG
A33: =HOME!$G$7 -> JL. TAPAKTUAN - MEULABOH KM. 20 DESA MEULIGO KEC. SAWANG
A34: RENCANA PELAKSANAAN LAYANAN (RPL)
A35: KONSELING INDIVIDUAL
A36: SEMESTER GANJIL TAHUN PELAJARAN 2019/2020
A38: 1 | B38: Nama Konseli | D38: K3
A39: 2 | B39: Kelas/Semester | D39: 10 MIPA1 / Semester 1
A40: 3 | B40: Hari, Tanggal | D40: Selasa, 24 Agustus 2017
A41: 4 | B41: Pertemuan ke- | D41: 1 ( pertama )
A42: 5 | B42: Waktu | D42: 2 x 45 Menit
A43: 6 | B43: Tempat | D43: Ruang Konseling BK SMA Paramitra
A44: 7 | B44: Gejala yang nampak/keluhan | D44: 1. Terlihat keringat konseli banyak sekali
D45: 2. Konseli terlihat marah
D46: 3. Konseli mengemukakan permasalahan dengan temannya
B49: Mengetahui | D49: =HOME!G14 -> SAWANG, JULI 2019
B50: Kepala Sekolah | D50: Guru BK/Konselor
B54: =HOME!$G$10 -> ASNAWI S.Pd | D54: =HOME!$G$12 -> MILLA AMIR, S.Pd., Gr. Kons
B55: =HOME!$G$11 -> 196704031990031005 | D55: =HOME!$G$13 -> 198512232015042001

Sheet RPL KELAS BESAR
A1: =HOME!$G$4 -> PEMERINTAH PROVINSI ACEH
A2: =HOME!$G$5 -> DINAS PENDIDIKAN PROVINSI ACEH
A3: =HOME!$G$6 -> SMA NEGERI 1 SAWANG
A4: =HOME!$G$7 -> JL. TAPAKTUAN - MEULABOH KM. 20 DESA MEULIGO KEC. SAWANG
A5: RENCANA PELAKSANAAN LAYANAN (RPL)
A6: BIMBINGAN KELAS BESAR/LINTAS KELAS
A7: SEMESTER GANJIL TAHUN PELAJARAN 2019/2020
A9: A | B9: Komponen Layanan | F9: Layanan Dasar
A10: B | B10: Bidang Layanan | F10: Belajar
A11: C | B11: Topik / Tema Layanan | F11: Srtuktur kurikulum sekolah
A12: D | B12: Fungsi Layanan | F12: Pemahaman
A13: E | B13: Tujuan Umum | F13: Peserta didik/konseli dapat memahami tentang struktur kurikulum sekolah
A14: F | B14: Tujuan Khusus | E14: 1 | F14: Peserta didik/konseli dapat memahami tentang pengertian kurikulum
E15: 2 | F15: Peserta didik/konseli dapat memahami tentang isi kurikulum
E16: 3 | F16: Peserta didik/konseli dapat memahami tentang standarkompetensi kelulusan
A17: G | B17: Sasaran Layanan | E17: Kelas 10
A18: H | B18: Materi Layanan | F18: Pengertian kurikulum
F19: Isi kurikulum
F20: Standar kompetensi kelulusan
A21: I | B21: Waktu | E21: 2 x 45 Menit
A22: J | B22: Sumber | F22: Permendiknas
A24: K | B24: Metode/Teknik | E24: Ceramah, Curah pendapat dan tanya jawab
A25: L | B25: Media / Alat | E25: LCD, Power Point
A26: M | B26: PELAKSANAAN
B27: 1 | C27: Tahap Awal/Pendahuluan
C28: a | D28: Pernyataan Tujuan | E28: - | F28: Salam
E29: - | F29: Menanyakan kabar
E30: - | F30: Ice breaker ( berbagai macam variasi).
E31: - | F31: Menyampaikan tujuan yang akan dicapai
C32: b | D32: Penjelasan tentang langkah-langkah kegiatan | E32: - | F32: Memberikan langkah-langkah kegiatan, tugas dan tanggung jawab peserta didik
E33: - | F33: Kontrak layanan ( kesepakatan layanan ), hari ini kita akan melakukan kegiatan selama 1 jam pelayanan, kita sepakat akan melakukan dengan baik.
C34: c | D34: Mengarahkan kegiatan (konsolidasi) | E34: - | F34: Guru BK/Konselor memberikan penejelasan tentang topik yang akan dibicarakan
C35: d | D35: Tahap peralihan ( Transisi) | E35: - | F35: Guru BK/Konselor menanyakan kesiapan peserta didik melaksanakan kegiatan, dan memulai ke tahap inti
B36: 2 | C36: Tahap Inti
C37: a | D37: Kegiatan Peserta Didik | E37: - | F37: Peserta didik melakukan kegiatan sesuai dengan langkah dan
C38: b | D38: Kegiatan Guru BK/Konselor | E38: - | F38: Guru Bimbingan dan Konseling/Narasumber menyajikan materi dengan menggunakan media BK (bila ada)
B39: 3 | C39: Tahap Penutup | E39: - | F39: Guru Bimbingan dan Konseling atau Konselor memberikan penguatan terhadap pengalaman belajar peserta didik
A40: N | B40: Evaluasi
B41: 1 | C41: Evaluasi Proses | E41: - | F41: Melakukan Refleksi hasil, setiap peserta didik menuliskan di kertas yang sudah disiapkan.
E42: - | F42: Sikap atau atusias peserta didik dalam mengikuti kegiatan
E43: - | F43: Cara peserta didik dalam menyampaikan pendapat atau bertanya
E44: - | F44: Cara peserta didik memberikan penjelasan dari pertanyaan guru BK
B45: 2 | C45: Evaluasi Hasil | E45: - | F45: Merasakan suasana pertemuan: menyenangkan/kurang menyenangkan/tidak menyenangkan
E46: - | F46: Topik yang dibahas:sangat penting/kurang penting/tidak penting
E47: - | F47: Penyampaian Guru BK/Konselor: mudah dipahami/sulit dipahami
E48: - | F48: Kegiatan yang diikuti:menarik/kurang menarik/tidak menarik untuk diikuti
A50: LAMPIRAN-LAMPIRAN
A51: 1 | B51: Uraian materi/Slide power point
A52: 2 | B52: File Kurikulum sekolah
B54: Mengetahui | F54: =HOME!G14 -> SAWANG, JULI 2019
B55: Kepala Sekolah | F55: Guru BK/Konselor
B59: =HOME!$G$10 -> ASNAWI S.Pd | F59: =HOME!$G$12 -> MILLA AMIR, S.Pd., Gr. Kons
B60: =HOME!$G$11 -> 196704031990031005 | F60: =HOME!$G$13 -> 198512232015042001
A68: =HOME!$G$4 -> PEMERINTAH PROVINSI ACEH
A69: =HOME!$G$5 -> DINAS PENDIDIKAN PROVINSI ACEH
A70: =HOME!$G$6 -> SMA NEGERI 1 SAWANG
A71: =HOME!$G$7 -> JL. TAPAKTUAN - MEULABOH KM. 20 DESA MEULIGO KEC. SAWANG
A72: RENCANA PELAKSANAAN LAYANAN (RPL)
A73: BIMBINGAN KELAS BESAR/LINTAS KELAS
A74: SEMESTER GANJIL TAHUN PELAJARAN 2019/2020
A76: A | B76: Komponen Layanan
A77: B | B77: Bidang Layanan
A78: C | B78: Topik / Tema Layanan
A79: D | B79: Fungsi Layanan | E79: Pemahaman
A80: E | B80: Tujuan Umum | E80: Peserta didik/konseli mampu mengidentifikasi sekolah lanjutan tingkat atas ( SLTA)
A81: F | B81: Tujuan Khusus | E81: 1
E82: 2
E83: 3
A84: G | B84: Sasaran Layanan | E84: Kelas 10...
A85: H | B85: Materi Layanan | E85: 1
E86: 2
E87: 3
A88: I | B88: Waktu | E88: 1 Kali Pertemuan x 45 Menit
E89: 1
E90: 2
E91: 3
A92: K | B92: Metode/Teknik | E92: Ceramah, Curah pendapat dan tanya jawab
A93: L | B93: Media / Alat | E93: LCD, Power Point
A94: M | B94: PELAKSANAAN
B95: 1 | C95: Tahap Awal/Pendahuluan
C96: a | D96: Pernyataan Tujuan | E96: - | F96: Salam
E97: - | F97: Menanyakan kabar
E98: - | F98: Ice breaker ( berbagai macam variasi).
E99: - | F99: Menyampaikan tujuan yang akan dicapai
C100: b | D100: Penjelasan tentang langkah-langkah kegiatan | E100: - | F100: Memberikan langkah-langkah kegiatan, tugas dan tanggung jawab peserta didik
E101: - | F101: Kontrak layanan ( kesepakatan layanan ), hari ini kita akan melakukan kegiatan selama 1 jam pelayanan, kita sepakat akan melakukan dengan baik.
C102: c | D102: Mengarahkan kegiatan (konsolidasi) | E102: - | F102: Guru BK/Konselor memberikan penejelasan tentang topik yang akan dibicarakan
C103: d | D103: Tahap peralihan ( Transisi) | E103: - | F103: Guru BK/Konselor menanyakan kesiapan peserta didik melaksanakan kegiatan, dan memulai ke tahap inti
B104: 2 | C104: Tahap Inti
C105: a | D105: Kegiatan Peserta Didik | E105: - | F105: Peserta didik melakukan kegiatan sesuai dengan langkah dan
C106: b | D106: Kegiatan Guru BK/Konselor | E106: - | F106: Guru Bimbingan dan Konseling/Narasumber menyajikan materi dengan menggunakan media BK (bila ada)
B107: 3 | C107: Tahap Penutup | E107: - | F107: Guru Bimbingan dan Konseling atau Konselor memberikan penguatan terhadap pengalaman belajar peserta didik
A108: N | B108: Evaluasi
B109: 1 | C109: Evaluasi Proses | E109: - | F109: Melakukan Refleksi hasil, setiap peserta didik menuliskan di kertas yang sudah disiapkan.
E110: - | F110: Sikap atau atusias peserta didik dalam mengikuti kegiatan
E111: - | F111: Cara peserta didik dalam menyampaikan pendapat atau bertanya
E112: - | F112: Cara peserta didik memberikan penjelasan dari pertanyaan guru BK
B113: 2 | C113: Evaluasi Hasil | E113: - | F113: Merasakan suasana pertemuan: menyenangkan/kurang menyenangkan/tidak menyenangkan
E114: - | F114: Topik yang dibahas:sangat penting/kurang penting/tidak penting
E115: - | F115: Penyampaian Guru BK/Konselor: mudah dipahami/sulit dipahami
...

Sheet AKPD
A2: PENYUSUNAN BUTIR ANGKET KEBUTUHAN PESERTA DIDIK SMA KELAS 10
A4: NO | B4: BIDANG | C4: SKKPD | D4: Tataran/Internalisasi Tujuan | G4: NOMOR ITEM | H4: BUTIR ANGKET KONSELI | I4: BIDANG | J4: RUMUSAN KEBUTUHAN | K4: PENGEMBANGAN TOPIK/MATERI | L4: TUJUAN LAYANAN | M4: KOMPONEN LAYANAN | N4: STRATEGI LAYANAN
D5: Pengenalan | E5: Akomodasi | F5: Tindakan
A6: 1 | B6: PRIBADI | C6: Landasan Hidup Religius | D6: Mempelajari hal ihwal ibadah | E6: Mengembangkan pemikiran tentang kehidupan beragama | F6: Melaksanakan ibadah atas keyakinan sendiri disertai sikap toleransi | G6: 1 | H6: Saya merasa belum disiplin dalam beribadah pada Tuhan YME | I6: P | J6: Kesadaran untuk beriman dan bertakwa pada Tuhan YME | K6: Implementasi Iman dan Taqwa dalam kehidupan modern | L6: Peserta didik/konseli mampu memahami pentingnya iman dan taqwa pada Tuhan YME serta dapat hidup rukun, damai dan saling menghormati antar umat beragama | M6: Dasar | N6: Bimbingan klasikal
C7: Landasan Perilaku Etis | D7: Mengenal keragaman sumber norma yang berlaku di masyaraakat | E7: Menghargai Keragaman sumber norma sebagai rujukan pengambilan | F7: Berperilaku atas dasar keputusan yang mempertimbangkan aspek-aspek etis | G7: 2 | H7: Saya kadang-kadang berperilaku dan bertutur kata tidak jujur | I7: P | J7: Kebiasaan bersikap jujur | K7: Kejujuran dan Integritas | L7: Peserta didik/konseli dapat menjadi individu yang memiliki integritas diri serta dapat memancarkan kepercayaan diri dan sikap yang tidak mementingkan diri sendiri | M7: Dasar | N7: Bimbingan klasikal
G8: 3 | H8: Saya kadang-kadang masih suka menyontek pada waktu tes | I8: P | J8: Kemampuan memiliki kebiasaan jujur dan tidak mencontek saat tes | K8: Kebiasaan mencontek dan akibatnya | L8: Peserta didik/konseli dapat menjadi individu yang memiliki sikap jujur dan tidak mencontek | M8: Dasar | N8: Bimbingan Kelompok
C9: Kematangan Emosi | D9: Mempelajari cara-cara menghindari konflik dengan orang lain | E9: Bersikap toleran terhadap ragam ekspresi perasaan diri sendiri dan orang lain | F9: Mengekspresikan perasaan dalam cara-cara yang bebas,terbuka dan tidak menimbulkan konflik | G9: 4 | H9: Saya merasa belum bisa mengendalikan emosi dengan baik | I9: P | J9: Kemampuan mengelola emosi dengan baik | K9: Mengelola emosi dengan baik | L9: Peserta didik/konseli dapat menjadi individu yang mampu mengendalikan emosi | M9: Responsif | N9: Konseling Individual
G10: 5 | H10: Saya belum paham tentang sikap dan perilaku asertif | I10: P | J10: Komunikasi yang jujur dan tetap menjaga perasaan | K10: Sikap dan Perilaku Asertif | L10: Peserta didik/konseli mampu membedakan perilaku agresif dan asertif, menerapkan prilaku asertif dengan teman-temannya serta mengembangkan sikap asertif untuk menunjang prestasi | M10: Dasar | N10: Bimbingan klasikal
C11: Pengembangan Pribadi | D11: Mempelajari keunikan diri dalam konteks kehidupan sosial | E11: Menerima keunikan diri dengan segala kelebihan dan kekurangannya | F11: Menampilkan keunikan diri secara harmonis dalam keragaman | G11: 6 | H11: Saya belum tahu cara mengenal dan memahami diri sendiri | I11: P | J11: Melakukan pengenalan/pemahaman diri | K11: Konsep diri remaja | L11: Peserta didik/konseli dapat memahami dan menemukan unsur-unsur konsep diri serta memahami dan menerima kelebihan dan kekurangan secara wajar dan penuh rasa syukur | M11: Dasar | N11: Bimbingan klasikal
G12: 7 | H12: Saya belum memahami potensi diri | I12: P | J12: Memahami potensi diri | K12: Potensi diri remaja | L12: Peserta didik/konseli dapat mengenal dan menggali potensi diri serta berusaha mengoptimalkannya untuk meraih sukses masa depan | M12: Dasar | N12: Bimbingan klasikal
G13: 8 | H13: Saya belum tahu perubahan dan permasalahan yang terjadi pada masa remaja | I13: P | J13: Masa perkembangan remaja dan permasalahannya | K13: Psikologi remaja dan permasalahannya | L13: Peserta didik/konseli mampu mengenal ciri-ciri perkembangan remaja, dapat memahami tugas perkembangan, mengatasi masalah yang dihadapi dalam perkembangan | M13: Dasar | N13: Bimbingan klasikal
G14: 9 | H14: Saya belum mengenal tentang macam-macam kepribadian | I14: P | J14: Mengenal kepribadian yang dimiliki manusia | K14: Kepribadian Manusia | L14: Peserta didik/konseli mampu mengenal tipe-tipe kepribadian manusia, mengenal kepribadian yang dimiliki serta dapat tumbuh menjadi pribadi yang matang | M14: Dasar | N14: Bimbingan klasikal
G15: 10 | H15: Saya kurang memiliki rasa percaya diri | I15: P | J15: Memiliki kepercayaan diri | K15: Membangun Rasa Percaya Diri | L15: Peserta didik/konseli dapat memahami ciri-ciri pribadi yang memiliki rasa percaya diri serta dapat meningkatkan percaya diri dengan baik untuk mencapai tujuan hidupnya | M15: Dasar | N15: Bimbingan klasikal
G16: 11 | H16: Saya kadang kurang menjaga kesehatan diri | I16: P | J16: Kemampuan menjaga kesehatan dengan baik | K16: Pola Hidup Bersih dan Sehat | L16: Peserta didik/konseli mampu memahami pentingnya polah hidup bersih dan sehat serta dapat melakukan kebiasaan hidup bersih dan sehat sehari-hari yang dapat mempengaruhi kesehatan | M16: Dasar | N16: Bimbingan klasikal
G17: 12 | H17: Saya belum tahu ciri-ciri/sifat/prilaku pribadi yang berkarakter | I17: P | J17: Memiliki ciri-ciri/sifat pribadi yang berkarakter | K17: Menjadi pribadi yang berkarakter | L17: Peserta didik/konseli mampu memiliki perasaan positif untuk membangun pribadi yang berkarakter yang akan berkontribusi pada peningkatan mutu karakter bangsa | M17: Dasar | N17: Bimbingan klasikal
G18: 13 | H18: Saya merasa kurang memilki tanggung jawab pada diri sendiri | I18: P | J18: Memiliki rasa tanggung jawab | K18: Rasa tanggung jawab | L18: Peserta didik/konseli mampu memiliki rasa tanggung jawab pada diri sendiri dan orang lain | M18: Responsif | N18: Konseling Individual
G19: 14 | H19: Saya kesulitan mengatur waktu belajar dan bermain | I19: P | J19: Mengatur jadwal kegiatan sehari-hari | K19: Mengatur jadwal kegiatan sehari-hari | L19: Peserta didik/konseli mampu mengatur jadwal kegiatan sehari-hari dengan baik | M19: Dasar | N19: Bimbingan Kelompok
G20: 15 | H20: Kondisi orang tua saya sedang tidak harmonis | I20: P | J20: Memiliki keluarga yang harmonis | K20: Keluarga yang harmonis | L20: Peserta didik/konseli memiliki keluarga yang harmonis | M20: Responsif | N20: Konseling Individual
G21: 16 | H21: Saya merasa tidak betah tinggal di rumah sendiri | I21: P | J21: Merasa nyaman,aman tinggal di rumah sendiri | K21: Rumahku surgaku | L21: Peserta didik/konseli merasa nyaman,aman tinggal di rumah sendiri | M21: Responsif | N21: Konseling Individual
G22: 17 | H22: Saya mempunyai masalah dengan anggota keluarga di rumah | I22: P | J22: Mampu menyelesaikan masalah dengan kekeluargaan | K22: Mengatasi masalah dengan anggota keluarga | L22: Peserta didik/konseli dapat menyelesaikan masalah dengan kekeluargaan | M22: Responsif | N22: Konseling Individual
G23: 18 | H23: Saya belum bisa menjadi pribadi yang mandiri | I23: P | J23: Menjadi pribadi yang mandiri | K23: Menjadi pribadi mandiri | L23: Peserta didik/konseli mampu menjadi pribadi yang mandiri | M23: Responsif | N23: Konseling Individual
G24: 19 | H24: Saya sedang memiliki konflik pribadi | I24: P | J24: Mampu menyelesaikan konflik pribadi | K24: Kiat mengatasi konflik pribadi | L24: Peserta didik/konseli mampu menyelesaikan konflik pribadi | M24: Responsif | N24: Konseling Individual
C25: Kesiapan Diri untuk Menikah dan Berkeluarga | D25: Mengenal norma- norma pernikahan dan berkeluarga | E25: Mengharagai norma-norma pernikahan dan berkeluarga sebagai landasan bagi terciptanya kehidupan masyarakat yang harmonis | F25: Mengekspresikan keinginannya untuk mempelajari lebih intensif tentang norma pernikahan dan berkeluarga | G25: 20 | H25: Saya belum memahami tentang norma/cara membangun berkeluarga | I25: P | J25: Memiliki pengetahuan tentang norma berkeluarga | K25: Norma keluarga | L25: Peserta didik/konseli memiliki pengetahuan tentang norma berkeluarga | M25: Responsif | N25: Konseling Individual
A26: 2 | B26: SOSIAL | C26: Kesadaran Tanggung Jawab Sosial | D26: Mempelajari keragaman interaksi sosial | E26: Menyadari nilai-nilai persahabatan dan keharmonisan dalam konteks keragaman interaksi sosial | F26: Berinteraksi dengan orang lain atas dasar kesamaan | G26: 21 | H26: Saya belum banyak mengenal lingkungan sekolah baru | I26: S | J26: Mengenal lingkungan sekolah baru | K26: Penyesuaian Diri Remaja di Sekolah Baru | L26: Peserta didik/konseli dapat mengenal aspek-aspek penyesuaian diri serta dapat menerapkan sikap dan kebiasaan dengan lingkungannya | M26: Dasar | N26: Bimbinngan klasikal
G27: 22 | H27: Saya belum memahami tentang kenakalan remaja | I27: S | J27: Memiliki pemahaman tentang kenakalan remaja | K27: Kenakalan Remaja dan Cara Menghindarinya | L27: Peserta didik/konseli dapat mengetahui bentuk atau jenis kenakalan remaja, dampak terhadap pribadi dan lingkungan serta berusaha untuk menghindarinya | M27: Dasar | N27: Bimbingan klasikal
G28: 23 | H28: Saya masih sedikit mengetahui tentang dampak atau bahaya rokok | I28: S | J28: Memiliki pemahaman tentang bahaya rokok | K28: Bahaya rokok dan dampaknya | L28: Peserta didik/konseli memiliki pemahaman tentang bahaya dan dampak rokok bagi kesehatan tubuh dan lingkungan serta cara untuk menolak ajakan untuk merokok dalam bentuk apapun | M28: Dasar | N28: Bimbingan klasikal
G29: 24 | H29: Saya belum banyak mengenal tentang perilaku sosial yang bertanggung jawab | I29: S | J29: Memiliki perilaku sosial yang bertanggung jawab | K29: Prilaku sosial yang bertanggung jawab | L29: Peserta didik/konseli mampu memahami pentingnya berprilaku sosial yang baik, serta memiliki sikap untuk hidup bersosial yang bertanggung jawab dalam sebuah masyarakat | M29: Dasar | N29: Bimbingan klasikal
C30: Kematangan Hubungan dengan Teman Sebaya | D30: Mempelajari cara-cara membina dan kerjasama dan toleransi dalam pergaulan dengan teman sebaya | E30: Menghargai nilai-nilai kerjasama dan toleransi sebagai dasar untuk menjalin persahabatan dengan teman sebaya | F30: Mempererat jalinan persahabatan yang lebih akrab dengan memperhatikan norma yang berlaku | G30: 25 | H30: Saya belum tahu tentang bullying dan cara mensikapinya | I30: S | J30: Memahami tentang bullying | K30: Stop Bullying ! | L30: Peserta didik/konseli mampu memahami tentang bullying, bahaya prilaku bullying, sebab dan dampak bullying, serta berani cara melawan tindakan bullying | M30: Dasar | N30: Bimbingan klasikal
G31: 26 | H31: Saya sukar bergaul dengan teman-teman di sekolah | I31: S | J31: Memiliki etika bergaul dengan teman sebaya | K31: Etika pergaulan dengan teman sebaya | L31: Peserta didik/konseli mampu memahami norma-norma dalam masyarakat serta dapat bersosialisasidan bergaul dengan teman sebaya sesuai dengan etika yang baik | M31: Dasar | N31: Bimbingan klasikal
G32: 27 | H32: Sering saya dianggap tidak sopan pada orang lain | I32: S | J32: Memiliki sikap sopan santun pada orang lain | K32: Sikap sopan santun dalam kehidupan | L32: Peserta didik/konseli mampu memahami nilai-nilai dan cara bertingkah laku sopan santun dalam kehidupan di luar kelompok teman sebaya | M32: Dasar | N32: Bimbingan klasikal
G33: 28 | H33: Saya kurang memahami dampak dari media sosial | I33: S | J33: Memiliki pemahaman tentang dampak dari media sosial | K33: Dampak handphone (medsos) | L33: Peserta didik/konseli dapat memahami dampak positif dan negatif bermain handphone atau media sosial | M33: Dasar | N33: Bimbingan klasikal
G34: 29 | H34: Saya jarang bermain/berteman di lingkungan tempat saya tinggal | I34: S | J34: Kesadaran sebagai makhluk sosial yang harus berinteraksi | K34: Interaksi sebagai makhluk sosial | L34: Peserta didik/konseli memiliki Kesadaran sebagai makhluk sosial yang harus berinteraksi | M34: Responsif | N34: Konseling Individual
G35: 30 | H35: Saya belum banyak teman atau sahabat | I35: S | J35: Kemudahan mencari dan disenangi teman | K35: Kiat mencari teman | L35: Peserta didik/konseli mudah mencari dan disenangi teman | M35: Dasar | N35: Bimbingan Kelompok
C36: Kesadaran Gender | D36: Mempelajari perilaku kolaborasi antar jenis dalam ragam kehidupan | E36: Menghargai keragaman peraan laki-laki atau perempuan sebagai aset kolaborasi dan keharmonisan hidup | F36: Berkolaborasi secara harmonis dengan lain jenis dalam keragaman peran | G36: 31 | H36: Saya kurang suka berkomunikasi dengan teman lawan jenis | I36: S | J36: Memiliki pemahaman tentang hubungan komunikasi dengan lawan jenis | K36: Hubungan komunikasi dengan lawan jenis | L36: Peserta didik/konseli memiliki pemahaman tentang norma hubungan komunikasi dengan lawan jenis | M36: Responsif | N36: Konseling Individual
A37: 3 | B37: BELAJAR | C37: Kematangan Intelektual | D37: Mempelajari cara-cara pengambilan keputusan dan pemecahan masalah secara objektif | E37: Menyadari akan keragaman alternatif keputusan dan konsekuensi yang dihadapinya | F37: Mengambil keputusan dan pemecahan masalah atas dasar informasi/data secara obyektif | G37: 32 | H37: Saya belum tahu cara belajar yang baik dan benar di SMA/MA | I37: B | J37: Memahami belajar yang benar di SMA/MA | K37: Kiat sukses belajar di SMA-MA | L37: Peserta didik/konseli dapat mengenal sikap dalam belajar serta menerapkan sikap dan kebiasaan dalam belajar yang baik di SMA-MA hingga mencapai prestasi yang lebih luas | M37: Dasar | N37: Bimbingan klasikal
G38: 33 | H38: Saya belum tahu cara meraih prestasi di sekolah | I38: B | J38: Memiliki motivasi untuk berprestasi | K38: Motivasi berprestasi | L38: Peserta didik/konseli mampu memahami pengertian motivasi berprestasi, mengetahui dan menerapkan cara untuk meningkatkan motivasi berprestasi | M38: Dasar | N38: Bimbingan klasikal
G39: 34 | H39: Saya belum paham tentang gaya belajar dan strategi yang sesuai dengannya | I39: B | J39: Menemukan cara belajar yang sesuai dengan gaya belajar | K39: Strategi belajar sesuai dengan gaya belajar | L39: Peserta didik/konseli dapat memahami dan mengetahui tentang gaya belajar serta strategi belajarnya untuk masing-masing gaya belajar tersebut | M39: Dasar | N39: Bimbingan klasikal
G40: 35 | H40: Orang tua saya tidak peduli dengan kegiatan belajar saya | I40: B | J40: Kepedulian orang tua pada kegiatan belajar | K40: Kepedulian orang tua terhadap belajar anak | L40: Peserta didik/konseli selalu mendapat perhatian orang tua dalam belajarnya | M40: Responsif | N40: Konseling Individual
G41: 36 | H41: Saya masih sering menunda-nunda tugas sekolah/pekerjaan rumah (PR) | I41: B | J41: Melaksanakan Tugas Sekolah / PR tepat waktu | K41: Disiplin Mengerjakan Tugas | L41: Peserta didik/konseli memiliki kedisiplinan dalam belajar | M41: Responsif | N41: Konseling Individual
G42: 37 | H42: Saya merasa kesulitan dalam memahami pelajaran tertentu | I42: B | J42: Mudah memahami pelajaran | K42: Tips memahami pelajaran | L42: Peserta didik/konseli dapat memahami teknik memahami pelajaran | M42: Responsif | N42: Konseling Individual
G43: 38 | H43: Saya belum tahu cara memanfaatkan sumber belajar | I43: B | J43: Mampu memanfaatkan sumber belajar | K43: Manfaat sumber belajar | L43: Peserta didik/konseli dapat memanfaatkan sumber belajar dalam kegiatan belajarnya | M43: Responsif | N43: Konseling Individual
G44: 39 | H44: Saya belajarnya jika akan ada tes atau ujian saja | I44: B | J44: Kesadaran belajar sesuai jadwal | K44: Belajar sesuai jadwal | L44: Peserta didik/konseli dapat mengatur waktu belajarnya | M44: Responsif | N44: Konseling Individual
G45: 40 | H45: Saya belum tahu tentang struktur kurikulum yang ada di sekolah | I45: B | J45: Memahami struktru kurikulum sekolah | K45: Srtuktur kurikulum sekolah | L45: Peserta didik/konseli dapat memahami tentang struktur kurikulum sekolah | M45: Dasar | N45: Lintas Kelas
G46: 41 | H46: Saya merasa malas belajar dan kalau belajar sering ngantuk | I46: B | J46: Memiliki semangat belajar | K46: Motivasi belajar | L46: Peserta didik/konseli memiliki motivasi dalam belajar | M46: Responsif | N46: Konseling Individual
G47: 42 | H47: Saya belum terbiasa belajar bersama atau belajar kelompok | I47: B | J47: Membentuk belajar kelompok | K47: Belajar kelompok yang efektif | L47: Peserta didik/konseli dapat belajar kelompok dengan temannya | M47: Dasar | N47: Bimbingan Kelompok
G48: 43 | H48: Saya belum paham cara memilih lembaga bimbingan belajar yang baik | I48: B | J48: Mengetahui cara memilih lembaga bimbil yang baik | K48: Memilih lembaga bimbel yang tepat | L48: Peserta didik/konseli dapat memilih lembaga bimbingan belajar yang tepat | M48: Responsif | N48: Konseling Individual
G49: 44 | H49: Saya belum dapat memanfaatkan teknologi informasi untuk belajar | I49: B | J49: Pemanfaatan perkembangan teknologi informasi | K49: Memanfaatkan IT untuk meraih prestasi | L49: Peserta didik/konseli dapat memanfaatkan teknologi informasi untuk belajar | M49: Responsif | N49: Konseling Individual
A50: 4 | B50: KARIR | C50: Perilaku Kewirausahaan/Kemandirian Perilaku Ekonomis | D50: Mempelajari strategi dan peluang untuk berperilaku hemat,ulet, sengguh-sungguh dan kompetitif dalam keragaman kehidupan | E50: Menerima nilai-nilai hidup hemat,ulet sungguh-sungguh dan kompetitif sebagai aset untuk mencapai hidup mandiri | F50: Menampilkan hidup hemat, ulet, sungguh- sungguh dan kompetitif atas dasar kesadaran sendiri | G50: 45 | H50: Saya belum tahu cara memperoleh bantuan pendidikan (beasiswa) | I50: K | J50: Memperoleh informasi bantuan/beasiswa | K50: Strategi memperoleh Beasiswa | L50: Peserta didik/konseli dapat memanfaatkan peluang beasiswa yang ada | M50: Pem&Perenc Indv | N50: Konseling Individual
G51: 46 | H51: Saya terpaksa harus bekerja untuk mencukupi kebutuhan hidup | I51: K | J51: Memperoleh penghasilan untuk biaya hidup | K51: Kiat belajar sambil bekerja | L51: Peserta didik/ konseli mampu mengatur kegiatan antara belajar sambil bekerja | M51: Pem&Perenc Indv | N51: Konseling Individual
C52: Wawasan dan Kesiapan Karir | D52: Mempelajari kemampuan diri, peluang dan ragam pekerjaan, pendidikan, dan aktifitas yang terfokus pada pengembangan alternatif karir yang lebih terarah | E52: Internalisasi nilai- niolai yang melandasi pertimbangan pemilihan alternatif karir | F52: Mengembangkan alternatif perencanaan karir dengan mempertimbangkan kemampuan, peluang dan ragam karir | G52: 47 | H52: Saya merasa bingung memilih kegiatan esktrakurikuler di sekolah | I52: K | J52: Memiliki kemampuan untuk memilih kegiatan ekstra kurikuler | K52: Cara memilih Ekskul | L52: Peserta didik/konseli mampu memilih kegiatan ekstra kurikuler yang sesuai dengan bakat, minat dan kemampuannya | M52: Pem&Perenc Indv | N52: Konseling Individual
G53: 48 | H53: Saya merasa belum mantap pada pilihan peminatan yang diambil | I53: K | J53: Memiliki kemantapan pada pilihan peminatan yang diambil | K53: Mantap pada pilihan peminatan | L53: Peserta didik/konseli mantap pada pilihan peminatan yang telah diambil | M53: Pem&Perenc Indv | N53: Konseling Individual
G54: 49 | H54: Saya merasa belum paham hubungan antara hobi, bakat, minat, kemampuan dan karir | I54: K | J54: Memahami hubungan hobi, bakat, minat, kemampuan dan karir | K54: Hobi, bakat, minat, kemamapuan dan Karir | L54: Peserta didik/konseli mampu memahami peranan hobi, bakat, minat dalam karir masa depannya | M54: Pem&Perenc Indv | N54: Konseling Individual
G55: 50 | H55: Saya belum memiliki perencanaan karir masa depan | I55: K | J55: Memiliki perencanaan karir yang baik | K55: Perencanaan Karir Masa Depan | L55: Peserta didik/konseli mampu memahami pentingnya perencanaan karir, langkah-langkah dalam merencanakan karir serta mililiki sikap positif dalam meraih kesuksesan masa depan | M55: Pem&Perenc Indv | N55: Bimbingan klasikal

Sheet Analisis1
A3: Kode/item | B3: 1 | C3: 2 | D3: 3 | E3: 4 | F3: 5 | G3: 6 | H3: 7 | I3: 8 | J3: 9 | K3: 10 | L3: 11 | M3: 12 | N3: 13 | O3: 14 | P3: 15 | Q3: 16 | R3: 17 | S3: 18 | T3: 19 | U3: 20 | V3: 21 | W3: 22 | X3: 23 | Y3: 24 | Z3: 25 | AA3: 26 | AB3: 27 | AC3: 28 | AD3: 29 | AE3: 30 | AF3: 31 | AG3: 32 | AH3: 33 | AI3: 34 | AJ3: 35 | AK3: 36 | AL3: 37 | AM3: 38 | AN3: 39 | AO3: 40 | AP3: 41 | AQ3: 42 | AR3: 43 | AS3: 44 | AT3: 45 | AU3: 46 | AV3: 47 | AW3: 48 | AX3: 49 | AY3: 50
A4: =ENTRI!C10 -> A1 | B4: =IF(ENTRI!G10=1,Analisis1!$A4&", ","") | C4: =IF(ENTRI!H10=1,Analisis1!$A4&", ","") | D4: =IF(ENTRI!I10=1,Analisis1!$A4&", ","") | E4: =IF(ENTRI!J10=1,Analisis1!$A4&", ","") | F4: =IF(ENTRI!K10=1,Analisis1!$A4&", ","") | G4: =IF(ENTRI!L10=1,Analisis1!$A4&", ","") | H4: =IF(ENTRI!M10=1,Analisis1!$A4&", ","") | I4: =IF(ENTRI!N10=1,Analisis1!$A4&", ","") | ... AY4: =IF(ENTRI!BD10=1,Analisis1!$A4&", ","")
A5: =ENTRI!C11 -> A2 | B5: =IF(ENTRI!G11=1,Analisis1!$A5&", ","") | C5: =IF(ENTRI!H11=1,Analisis1!$A5&", ","") | D5: =IF(ENTRI!I11=1,Analisis1!$A5&", ","") | E5: =IF(ENTRI!J11=1,Analisis1!$A5&", ","") | F5: =IF(ENTRI!K11=1,Analisis1!$A5&", ","") | G5: =IF(ENTRI!L11=1,Analisis1!$A5&", ","") | H5: =IF(ENTRI!M11=1,Analisis1!$A5&", ","") | I5: =IF(ENTRI!N11=1,Analisis1!$A5&", ","") | ... AY5: =IF(ENTRI!BD11=1,Analisis1!$A5&", ","")
A6: =ENTRI!C12 -> A3 | B6: =IF(ENTRI!G12=1,Analisis1!$A6&", ","") | C6: =IF(ENTRI!H12=1,Analisis1!$A6&", ","") | D6: =IF(ENTRI!I12=1,Analisis1!$A6&", ","") | E6: =IF(ENTRI!J12=1,Analisis1!$A6&", ","") | F6: =IF(ENTRI!K12=1,Analisis1!$A6&", ","") | G6: =IF(ENTRI!L12=1,Analisis1!$A6&", ","") | H6: =IF(ENTRI!M12=1,Analisis1!$A6&", ","") | I6: =IF(ENTRI!N12=1,Analisis1!$A6&", ","") | ... AY6: =IF(ENTRI!BD12=1,Analisis1!$A6&", ","")
A7: =ENTRI!C13 -> A4 | B7: =IF(ENTRI!G13=1,Analisis1!$A7&", ","") | C7: =IF(ENTRI!H13=1,Analisis1!$A7&", ","") | D7: =IF(ENTRI!I13=1,Analisis1!$A7&", ","") | E7: =IF(ENTRI!J13=1,Analisis1!$A7&", ","") | F7: =IF(ENTRI!K13=1,Analisis1!$A7&", ","") | G7: =IF(ENTRI!L13=1,Analisis1!$A7&", ","") | H7: =IF(ENTRI!M13=1,Analisis1!$A7&", ","") | I7: =IF(ENTRI!N13=1,Analisis1!$A7&", ","") | ... AY7: =IF(ENTRI!BD13=1,Analisis1!$A7&", ","")
A8: =ENTRI!C14 -> A5 | B8: =IF(ENTRI!G14=1,Analisis1!$A8&", ","") | C8: =IF(ENTRI!H14=1,Analisis1!$A8&", ","") | D8: =IF(ENTRI!I14=1,Analisis1!$A8&", ","") | E8: =IF(ENTRI!J14=1,Analisis1!$A8&", ","") | F8: =IF(ENTRI!K14=1,Analisis1!$A8&", ","") | G8: =IF(ENTRI!L14=1,Analisis1!$A8&", ","") | H8: =IF(ENTRI!M14=1,Analisis1!$A8&", ","") | I8: =IF(ENTRI!N14=1,Analisis1!$A8&", ","") | ... AY8: =IF(ENTRI!BD14=1,Analisis1!$A8&", ","")
A9: =ENTRI!C15 -> A6 | B9: =IF(ENTRI!G15=1,Analisis1!$A9&", ","") | C9: =IF(ENTRI!H15=1,Analisis1!$A9&", ","") | D9: =IF(ENTRI!I15=1,Analisis1!$A9&", ","") | E9: =IF(ENTRI!J15=1,Analisis1!$A9&", ","") | F9: =IF(ENTRI!K15=1,Analisis1!$A9&", ","") | G9: =IF(ENTRI!L15=1,Analisis1!$A9&", ","") | H9: =IF(ENTRI!M15=1,Analisis1!$A9&", ","") | I9: =IF(ENTRI!N15=1,Analisis1!$A9&", ","") | ... AY9: =IF(ENTRI!BD15=1,Analisis1!$A9&", ","")
A10: =ENTRI!C16 -> A7 | B10: =IF(ENTRI!G16=1,Analisis1!$A10&", ","") | C10: =IF(ENTRI!H16=1,Analisis1!$A10&", ","") | D10: =IF(ENTRI!I16=1,Analisis1!$A10&", ","") | E10: =IF(ENTRI!J16=1,Analisis1!$A10&", ","") | F10: =IF(ENTRI!K16=1,Analisis1!$A10&", ","") | G10: =IF(ENTRI!L16=1,Analisis1!$A10&", ","") | H10: =IF(ENTRI!M16=1,Analisis1!$A10&", ","") | I10: =IF(ENTRI!N16=1,Analisis1!$A10&", ","") | ... AY10: =IF(ENTRI!BD16=1,Analisis1!$A10&", ","")
A11: =ENTRI!C17 -> A8 | B11: =IF(ENTRI!G17=1,Analisis1!$A11&", ","") | C11: =IF(ENTRI!H17=1,Analisis1!$A11&", ","") | D11: =IF(ENTRI!I17=1,Analisis1!$A11&", ","") | E11: =IF(ENTRI!J17=1,Analisis1!$A11&", ","") | F11: =IF(ENTRI!K17=1,Analisis1!$A11&", ","") | G11: =IF(ENTRI!L17=1,Analisis1!$A11&", ","") | H11: =IF(ENTRI!M17=1,Analisis1!$A11&", ","") | I11: =IF(ENTRI!N17=1,Analisis1!$A11&", ","") | ... AY11: =IF(ENTRI!BD17=1,Analisis1!$A11&", ","")
A12: =ENTRI!C18 -> A9 | B12: =IF(ENTRI!G18=1,Analisis1!$A12&", ","") | C12: =IF(ENTRI!H18=1,Analisis1!$A12&", ","") | D12: =IF(ENTRI!I18=1,Analisis1!$A12&", ","") | E12: =IF(ENTRI!J18=1,Analisis1!$A12&", ","") | F12: =IF(ENTRI!K18=1,Analisis1!$A12&", ","") | G12: =IF(ENTRI!L18=1,Analisis1!$A12&", ","") | H12: =IF(ENTRI!M18=1,Analisis1!$A12&", ","") | I12: =IF(ENTRI!N18=1,Analisis1!$A12&", ","") | ... AY12: =IF(ENTRI!BD18=1,Analisis1!$A12&", ","")
A13: =ENTRI!C19 -> A10 | B13: =IF(ENTRI!G19=1,Analisis1!$A13&", ","") | C13: =IF(ENTRI!H19=1,Analisis1!$A13&", ","") | D13: =IF(ENTRI!I19=1,Analisis1!$A13&", ","") | E13: =IF(ENTRI!J19=1,Analisis1!$A13&", ","") | F13: =IF(ENTRI!K19=1,Analisis1!$A13&", ","") | G13: =IF(ENTRI!L19=1,Analisis1!$A13&", ","") | H13: =IF(ENTRI!M19=1,Analisis1!$A13&", ","") | I13: =IF(ENTRI!N19=1,Analisis1!$A13&", ","") | ... AY13: =IF(ENTRI!BD19=1,Analisis1!$A13&", ","")
A14: =ENTRI!C20 -> A11 | B14: =IF(ENTRI!G20=1,Analisis1!$A14&", ","") | C14: =IF(ENTRI!H20=1,Analisis1!$A14&", ","") | D14: =IF(ENTRI!I20=1,Analisis1!$A14&", ","") | E14: =IF(ENTRI!J20=1,Analisis1!$A14&", ","") | F14: =IF(ENTRI!K20=1,Analisis1!$A14&", ","") | G14: =IF(ENTRI!L20=1,Analisis1!$A14&", ","") | H14: =IF(ENTRI!M20=1,Analisis1!$A14&", ","") | I14: =IF(ENTRI!N20=1,Analisis1!$A14&", ","") | ... AY14: =IF(ENTRI!BD20=1,Analisis1!$A14&", ","")
A15: =ENTRI!C21 -> A12 | B15: =IF(ENTRI!G21=1,Analisis1!$A15&", ","") | C15: =IF(ENTRI!H21=1,Analisis1!$A15&", ","") | D15: =IF(ENTRI!I21=1,Analisis1!$A15&", ","") | E15: =IF(ENTRI!J21=1,Analisis1!$A15&", ","") | F15: =IF(ENTRI!K21=1,Analisis1!$A15&", ","") | G15: =IF(ENTRI!L21=1,Analisis1!$A15&", ","") | H15: =IF(ENTRI!M21=1,Analisis1!$A15&", ","") | I15: =IF(ENTRI!N21=1,Analisis1!$A15&", ","") | ... AY15: =IF(ENTRI!BD21=1,Analisis1!$A15&", ","")
... A22: =ENTRI!C28 -> A19 | B22: =IF(ENTRI!G28=1,Analisis1!$A22&", ","") | C22: =IF(ENTRI!H28=1,Analisis1!$A22&", ","") | D22: =IF(ENTRI!I28=1,Analisis1!$A22&", ","") | E22: =IF(ENTRI!J28=1,Analisis1!$A22&", ","") | F22: =IF(ENTRI!K28=1,Analisis1!$A22&", ","") | G22: =IF(ENTRI!L28=1,Analisis1!$A22&", ","") | H22: =IF(ENTRI!M28=1,Analisis1!$A22&", ","") | I22: =IF(ENTRI!N28=1,Analisis1!$A22&", ","") | ... AY22: =IF(ENTRI!BD28=1,Analisis1!$A22&", ","")
A23: =ENTRI!C38 -> A29 | B23: =IF(ENTRI!G38=1,Analisis1!$A23&", ","") | C23: =IF(ENTRI!H38=1,Analisis1!$A23&", ","") | D23: =IF(ENTRI!I38=1,Analisis1!$A23&", ","") | E23: =IF(ENTRI!J38=1,Analisis1!$A23&", ","") | F23: =IF(ENTRI!K38=1,Analisis1!$A23&", ","") | G23: =IF(ENTRI!L38=1,Analisis1!$A23&", ","") | H23: =IF(ENTRI!M38=1,Analisis1!$A23&", ","") | I23: =IF(ENTRI!N38=1,Analisis1!$A23&", ","") | ... AY23: =IF(ENTRI!BD38=1,Analisis1!$A23&", ","")
A24: =ENTRI!#REF! -> #REF! | B24: =IF(ENTRI!#REF!=1,Analisis1!$A24&", ","") -> #REF! | C24: =IF(ENTRI!#REF!=1,Analisis1!$A24&", ","") -> #REF! | D24: =IF(ENTRI!#REF!=1,Analisis1!$A24&", ","") -> #REF! | E24: =IF(ENTRI!#REF!=1,Analisis1!$A24&", ","") -> #REF! | F24: =IF(ENTRI!#REF!=1,Analisis1!$A24&", ","") -> #REF! | G24: =IF(ENTRI!#REF!=1,Analisis1!$A24&", ","") -> #REF! | H24: =IF(ENTRI!#REF!=1,Analisis1!$A24&", ","") -> #REF! | I24: =IF(ENTRI!#REF!=1,Analisis1!$A24&", ","") -> #REF! | ... AY24: =IF(ENTRI!#REF!=1,Analisis1!$A24&", ","") -> #REF!
A25: =ENTRI!#REF! -> #REF! | B25: =IF(ENTRI!#REF!=1,Analisis1!$A25&", ","") -> #REF! | C25: =IF(ENTRI!#REF!=1,Analisis1!$A25&", ","") -> #REF! | D25: =IF(ENTRI!#REF!=1,Analisis1!$A25&", ","") -> #REF! | E25: =IF(ENTRI!#REF!=1,Analisis1!$A25&", ","") -> #REF! | F25: =IF(ENTRI!#REF!=1,Analisis1!$A25&", ","") -> #REF! | G25: =IF(ENTRI!#REF!=1,Analisis1!$A25&", ","") -> #REF! | H25: =IF(ENTRI!#REF!=1,Analisis1!$A25&", ","") -> #REF! | I25: =IF(ENTRI!#REF!=1,Analisis1!$A25&", ","") -> #REF! | ... AY25: =IF(ENTRI!#REF!=1,Analisis1!$A25&", ","") -> #REF!
A26: =ENTRI!#REF! -> #REF! | B26: =IF(ENTRI!#REF!=1,Analisis1!$A26&", ","") -> #REF! | C26: =IF(ENTRI!#REF!=1,Analisis1!$A26&", ","") -> #REF! | D26: =IF(ENTRI!#REF!=1,Analisis1!$A26&", ","") -> #REF! | E26: =IF(ENTRI!#REF!=1,Analisis1!$A26&", ","") -> #REF! | F26: =IF(ENTRI!#REF!=1,Analisis1!$A26&", ","") -> #REF! | G26: =IF(ENTRI!#REF!=1,Analisis1!$A26&", ","") -> #REF! | H26: =IF(ENTRI!#REF!=1,Analisis1!$A26&", ","") -> #REF! | I26: =IF(ENTRI!#REF!=1,Analisis1!$A26&", ","") -> #REF! | ... AY26: =IF(ENTRI!#REF!=1,Analisis1!$A26&", ","") -> #REF!
A27: =ENTRI!#REF! -> #REF! | B27: =IF(ENTRI!#REF!=1,Analisis1!$A27&", ","") -> #REF! | C27: =IF(ENTRI!#REF!=1,Analisis1!$A27&", ","") -> #REF! | D27: =IF(ENTRI!#REF!=1,Analisis1!$A27&", ","") -> #REF! | E27: =IF(ENTRI!#REF!=1,Analisis1!$A27&", ","") -> #REF! | F27: =IF(ENTRI!#REF!=1,Analisis1!$A27&", ","") -> #REF! | G27: =IF(ENTRI!#REF!=1,Analisis1!$A27&", ","") -> #REF! | H27: =IF(ENTRI!#REF!=1,Analisis1!$A27&", ","") -> #REF! | I27: =IF(ENTRI!#REF!=1,Analisis1!$A27&", ","") -> #REF! | ... AY27: =IF(ENTRI!#REF!=1,Analisis1!$A27&", ","") -> #REF!
A28: =ENTRI!#REF! -> #REF! | B28: =IF(ENTRI!#REF!=1,Analisis1!$A28&", ","") -> #REF! | C28: =IF(ENTRI!#REF!=1,Analisis1!$A28&", ","") -> #REF! | D28: =IF(ENTRI!#REF!=1,Analisis1!$A28&", ","") -> #REF! | E28: =IF(ENTRI!#REF!=1,Analisis1!$A28&", ","") -> #REF! | F28: =IF(ENTRI!#REF!=1,Analisis1!$A28&", ","") -> #REF! | G28: =IF(ENTRI!#REF!=1,Analisis1!$A28&", ","") -> #REF! | H28: =IF(ENTRI!#REF!=1,Analisis1!$A28&", ","") -> #REF! | I28: =IF(ENTRI!#REF!=1,Analisis1!$A28&", ","") -> #REF! | ... AY28: =IF(ENTRI!#REF!=1,Analisis1!$A28&", ","") -> #REF!
A29: =ENTRI!#REF! -> #REF! | B29: =IF(ENTRI!#REF!=1,Analisis1!$A29&", ","") -> #REF! | C29: =IF(ENTRI!#REF!=1,Analisis1!$A29&", ","") -> #REF! | D29: =IF(ENTRI!#REF!=1,Analisis1!$A29&", ","") -> #REF! | E29: =IF(ENTRI!#REF!=1,Analisis1!$A29&", ","") -> #REF! | F29: =IF(ENTRI!#REF!=1,Analisis1!$A29&", ","") -> #REF! | G29: =IF(ENTRI!#REF!=1,Analisis1!$A29&", ","") -> #REF! | H29: =IF(ENTRI!#REF!=1,Analisis1!$A29&", ","") -> #REF! | I29: =IF(ENTRI!#REF!=1,Analisis1!$A29&", ","") -> #REF! | ... AY29: =IF(ENTRI!#REF!=1,Analisis1!$A29&", ","") -> #REF!
A30: =ENTRI!#REF! -> #REF! | B30: =IF(ENTRI!#REF!=1,Analisis1!$A30&", ","") -> #REF! | C30: =IF(ENTRI!#REF!=1,Analisis1!$A30&", ","") -> #REF! | D30: =IF(ENTRI!#REF!=1,Analisis1!$A30&", ","") -> #REF! | E30: =IF(ENTRI!#REF!=1,Analisis1!$A30&", ","") -> #REF! | F30: =IF(ENTRI!#REF!=1,Analisis1!$A30&", ","") -> #REF! | G30: =IF(ENTRI!#REF!=1,Analisis1!$A30&", ","") -> #REF! | H30: =IF(ENTRI!#REF!=1,Analisis1!$A30&", ","") -> #REF! | I30: =IF(ENTRI!#REF!=1,Analisis1!$A30&", ","") -> #REF! | ... AY30: =IF(ENTRI!#REF!=1,Analisis1!$A30&", ","") -> #REF!
A31: =ENTRI!#REF! -> #REF! | B31: =IF(ENTRI!#REF!=1,Analisis1!$A31&", ","") -> #REF! | C31: =IF(ENTRI!#REF!=1,Analisis1!$A31&", ","") -> #REF! | D31: =IF(ENTRI!#REF!=1,Analisis1!$A31&", ","") -> #REF! | E31: =IF(ENTRI!#REF!=1,Analisis1!$A31&", ","") -> #REF! | F31: =IF(ENTRI!#REF!=1,Analisis1!$A31&", ","") -> #REF! | G31: =IF(ENTRI!#REF!=1,Analisis1!$A31&", ","") -> #REF! | H31: =IF(ENTRI!#REF!=1,Analisis1!$A31&", ","") -> #REF! | I31: =IF(ENTRI!#REF!=1,Analisis1!$A31&", ","") -> #REF! | ... AY31: =IF(ENTRI!#REF!=1,Analisis1!$A31&", ","") -> #REF!
A32: =ENTRI!#REF! -> #REF! | B32: =IF(ENTRI!#REF!=1,Analisis1!$A32&", ","") -> #REF! | C32: =IF(ENTRI!#REF!=1,Analisis1!$A32&", ","") -> #REF! | D32: =IF(ENTRI!#REF!=1,Analisis1!$A32&", ","") -> #REF! | E32: =IF(ENTRI!#REF!=1,Analisis1!$A32&", ","") -> #REF! | F32: =IF(ENTRI!#REF!=1,Analisis1!$A32&", ","") -> #REF! | G32: =IF(ENTRI!#REF!=1,Analisis1!$A32&", ","") -> #REF! | H32: =IF(ENTRI!#REF!=1,Analisis1!$A32&", ","") -> #REF! | I32: =IF(ENTRI!#REF!=1,Analisis1!$A32&", ","") -> #REF! | ... AY32: =IF(ENTRI!#REF!=1,Analisis1!$A32&", ","") -> #REF!
A33: =ENTRI!#REF! -> #REF! | B33: =IF(ENTRI!#REF!=1,Analisis1!$A33&", ","") -> #REF! | C33: =IF(ENTRI!#REF!=1,Analisis1!$A33&", ","") -> #REF! | D33: =IF(ENTRI!#REF!=1,Analisis1!$A33&", ","") -> #REF! | E33: =IF(ENTRI!#REF!=1,Analisis1!$A33&", ","") -> #REF! | F33: =IF(ENTRI!#REF!=1,Analisis1!$A33&", ","") -> #REF! | G33: =IF(ENTRI!#REF!=1,Analisis1!$A33&", ","") -> #REF! | H33: =IF(ENTRI!#REF!=1,Analisis1!$A33&", ","") -> #REF! | I33: =IF(ENTRI!#REF!=1,Analisis1!$A33&", ","") -> #REF! | ... AY33: =IF(ENTRI!#REF!=1,Analisis1!$A33&", ","") -> #REF!
A34: =ENTRI!#REF! -> #REF! | B34: =IF(ENTRI!#REF!=1,Analisis1!$A34&", ","") -> #REF! | C34: =IF(ENTRI!#REF!=1,Analisis1!$A34&", ","") -> #REF! | D34: =IF(ENTRI!#REF!=1,Analisis1!$A34&", ","") -> #REF! | E34: =IF(ENTRI!#REF!=1,Analisis1!$A34&", ","") -> #REF! | F34: =IF(ENTRI!#REF!=1,Analisis1!$A34&", ","") -> #REF! | G34: =IF(ENTRI!#REF!=1,Analisis1!$A34&", ","") -> #REF! | H34: =IF(ENTRI!#REF!=1,Analisis1!$A34&", ","") -> #REF! | I34: =IF(ENTRI!#REF!=1,Analisis1!$A34&", ","") -> #REF! | ... AY34: =IF(ENTRI!#REF!=1,Analisis1!$A34&", ","") -> #REF!
A35: =ENTRI!#REF! -> #REF! | B35: =IF(ENTRI!#REF!=1,Analisis1!$A35&", ","") -> #REF! | C35: =IF(ENTRI!#REF!=1,Analisis1!$A35&", ","") -> #REF! | D35: =IF(ENTRI!#REF!=1,Analisis1!$A35&", ","") -> #REF! | E35: =IF(ENTRI!#REF!=1,Analisis1!$A35&", ","") -> #REF! | F35: =IF(ENTRI!#REF!=1,Analisis1!$A35&", ","") -> #REF! | G35: =IF(ENTRI!#REF!=1,Analisis1!$A35&", ","") -> #REF! | H35: =IF(ENTRI!#REF!=1,Analisis1!$A35&", ","") -> #REF! | I35: =IF(ENTRI!#REF!=1,Analisis1!$A35&", ","") -> #REF! | ... AY35: =IF(ENTRI!#REF!=1,Analisis1!$A35&", ","") -> #REF!
... A43: =ENTRI!#REF! -> #REF! | B43: =IF(ENTRI!#REF!=1,Analisis1!$A43&", ","") -> #REF! | C43: =IF(ENTRI!#REF!=1,Analisis1!$A43&", ","") -> #REF! | D43: =IF(ENTRI!#REF!=1,Analisis1!$A43&", ","") -> #REF! | E43: =IF(ENTRI!#REF!=1,Analisis1!$A43&", ","") -> #REF! | F43: =IF(ENTRI!#REF!=1,Analisis1!$A43&", ","") -> #REF! | G43: =IF(ENTRI!#REF!=1,Analisis1!$A43&", ","") -> #REF! | H43: =IF(ENTRI!#REF!=1,Analisis1!$A43&", ","") -> #REF! | I43: =IF(ENTRI!#REF!=1,Analisis1!$A43&", ","") -> #REF! | ... AY43: =IF(ENTRI!#REF!=1,Analisis1!$A43&", ","") -> #REF!
B44: 1 | C44: =B44+1 -> 2 | D44: =C44+1 -> 3 | E44: =D44+1 -> 4 | F44: =E44+1 -> 5 | G44: =F44+1 -> 6 | H44: =G44+1 -> 7 | I44: =H44+1 -> 8 | J44: =I44+1 -> 9 | ... AY44: =AX44+1 -> 50
A45: JUMLAH | B45: =B4&B5&B6&B7&B8&B9&B10&B11&B12&B13&B14&B15&B16&B17&B18&B19&B20&B21&B22&B23&B24&B25&B26&B27&B28&B29&B30&B31&B32&B33&B34&B35&B36&B37&B38&B39&B40&B41&B42&B43 -> #REF! | C45: =C4&C5&C6&C7&C8&C9&C10&C11&C12&C13&C14&C15&C16&C17&C18&C19&C20&C21&C22&C23&C24&C25&C26&C27&C28&C29&C30&C31&C32&C33&C34&C35&C36&C37&C38&C39&C40&C41&C42&C43 -> #REF! | D45: =D4&D5&D6&D7&D8&D9&D10&D11&D12&D13&D14&D15&D16&D17&D18&D19&D20&D21&D22&D23&D24&D25&D26&D27&D28&D29&D30&D31&D32&D33&D34&D35&D36&D37&D38&D39&D40&D41&D42&D43 -> #REF! | E45: =E4&E5&E6&E7&E8&E9&E10&E11&E12&E13&E14&E15&E16&E17&E18&E19&E20&E21&E22&E23&E24&E25&E26&E27&E28&E29&E30&E31&E32&E33&E34&E35&E36&E37&E38&E39&E40&E41&E42&E43 -> #REF! | F45: =F4&F5&F6&F7&F8&F9&F10&F11&F12&F13&F14&F15&F16&F17&F18&F19&F20&F21&F22&F23&F24&F25&F26&F27&F28&F29&F30&F31&F32&F33&F34&F35&F36&F37&F38&F39&F40&F41&F42&F43 -> #REF! | G45: =G4&G5&G6&G7&G8&G9&G10&G11&G12&G13&G14&G15&G16&G17&G18&G19&G20&G21&G22&G23&G24&G25&G26&G27&G28&G29&G30&G31&G32&G33&G34&G35&G36&G37&G38&G39&G40&G41&G42&G43 -> #REF! | H45: =H4&H5&H6&H7&H8&H9&H10&H11&H12&H13&H14&H15&H16&H17&H18&H19&H20&H21&H22&H23&H24&H25&H26&H27&H28&H29&H30&H31&H32&H33&H34&H35&H36&H37&H38&H39&H40&H41&H42&H43 -> #REF! | I45: =I4&I5&I6&I7&I8&I9&I10&I11&I12&I13&I14&I15&I16&I17&I18&I19&I20&I21&I22&I23&I24&I25&I26&I27&I28&I29&I30&I31&I32&I33&I34&I35&I36&I37&I38&I39&I40&I41&I42&I43 -> #REF! | ... AY45: =AY4&AY5&AY6&AY7&AY8&AY9&AY10&AY11&AY12&AY13&AY14&AY15&AY16&AY17&AY18&AY19&AY20&AY21&AY22&AY23&AY24&AY25&AY26&AY27&AY28&AY29&AY30&AY31&AY32&AY33&AY34&AY35&AY36&AY37&AY38&AY39&AY40&AY41&AY42&AY43 -> #REF!
A46: JUMLAH KONSELI | B46: =ENTRI!G291 -> 0 | C46: =ENTRI!H291 -> 0 | D46: =ENTRI!I291 -> 0 | E46: =ENTRI!J291 -> 0 | F46: =ENTRI!K291 -> 0 | G46: =ENTRI!L291 -> 0 | H46: =ENTRI!M291 -> 0 | I46: =ENTRI!N291 -> 0 | ... AY46: =ENTRI!BD291 -> 0

Sheet Analisis 2
A2: NO.ITEM | B2: PERNYATAAN | C2: KODE PESERTA DIDIK / KONSELI | D2: JUMLAH | E2: PROSENTASE | F2: PRIORITAS
A3: 1 | B3: =AKPD!H6 -> Saya merasa belum disiplin dalam beribadah pada Tuhan YME | C3: =HLOOKUP(A3,analisis1,2) -> #REF! | D3: =HLOOKUP(A3,hasilangket,2) -> 0 | E3: =HLOOKUP(A3,hasilangket,3) -> #DIV/0! | F3: =IF(E3>=2 %,"TINGGI",IF(E3>=1 %,"SEDANG","RENDAH")) -> #DIV/0!
A4: 2 | B4: =AKPD!H7 -> Saya kadang-kadang berperilaku dan bertutur kata tidak jujur | C4: =HLOOKUP(A4,analisis1,2) -> #REF! | D4: =HLOOKUP(A4,hasilangket,2) -> 0 | E4: =HLOOKUP(A4,hasilangket,3) -> #DIV/0! | F4: =IF(E4>=2 %,"TINGGI",IF(E4>=1 %,"SEDANG","RENDAH")) -> #DIV/0!
A5: 3 | B5: =AKPD!H8 -> Saya kadang-kadang masih suka menyontek pada waktu tes | C5: =HLOOKUP(A5,analisis1,2) -> #REF! | D5: =HLOOKUP(A5,hasilangket,2) -> 0 | E5: =HLOOKUP(A5,hasilangket,3) -> #DIV/0! | F5: =IF(E5>=2 %,"TINGGI",IF(E5>=1 %,"SEDANG","RENDAH")) -> #DIV/0!
A6: 4 | B6: =AKPD!H9 -> Saya merasa belum bisa mengendalikan emosi dengan baik | C6: =HLOOKUP(A6,analisis1,2) -> #REF! | D6: =HLOOKUP(A6,hasilangket,2) -> 0 | E6: =HLOOKUP(A6,hasilangket,3) -> #DIV/0! | F6: =IF(E6>=2 %,"TINGGI",IF(E6>=1 %,"SEDANG","RENDAH")) -> #DIV/0!
A7: 5 | B7: =AKPD!H10 -> Saya belum paham tentang sikap dan perilaku asertif | C7: =HLOOKUP(A7,analisis1,2) -> #REF! | D7: =HLOOKUP(A7,hasilangket,2) -> 0 | E7: =HLOOKUP(A7,hasilangket,3) -> #DIV/0! | F7: =IF(E7>=2 %,"TINGGI",IF(E7>=1 %,"SEDANG","RENDAH")) -> #DIV/0!
A8: 6 | B8: =AKPD!H11 -> Saya belum tahu cara mengenal dan memahami diri sendiri | C8: =HLOOKUP(A8,analisis1,2) -> #REF! | D8: =HLOOKUP(A8,hasilangket,2) -> 0 | E8: =HLOOKUP(A8,hasilangket,3) -> #DIV/0! | F8: =IF(E8>=2 %,"TINGGI",IF(E8>=1 %,"SEDANG","RENDAH")) -> #DIV/0!
A9: 7 | B9: =AKPD!H12 -> Saya belum memahami potensi diri | C9: =HLOOKUP(A9,analisis1,2) -> #REF! | D9: =HLOOKUP(A9,hasilangket,2) -> 0 | E9: =HLOOKUP(A9,hasilangket,3) -> #DIV/0! | F9: =IF(E9>=2 %,"TINGGI",IF(E9>=1 %,"SEDANG","RENDAH")) -> #DIV/0!
A10: 8 | B10: =AKPD!H13 -> Saya belum tahu perubahan dan permasalahan yang terjadi pada masa remaja | C10: =HLOOKUP(A10,analisis1,2) -> #REF! | D10: =HLOOKUP(A10,hasilangket,2) -> 0 | E10: =HLOOKUP(A10,hasilangket,3) -> #DIV/0! | F10: =IF(E10>=2 %,"TINGGI",IF(E10>=1 %,"SEDANG","RENDAH")) -> #DIV/0!
A11: 9 | B11: =AKPD!H14 -> Saya belum mengenal tentang macam-macam kepribadian | C11: =HLOOKUP(A11,analisis1,2) -> #REF! | D11: =HLOOKUP(A11,hasilangket,2) -> 0 | E11: =HLOOKUP(A11,hasilangket,3) -> #DIV/0! | F11: =IF(E11>=2 %,"TINGGI",IF(E11>=1 %,"SEDANG","RENDAH")) -> #DIV/0!
A12: 10 | B12: =AKPD!H15 -> Saya kurang memiliki rasa percaya diri | C12: =HLOOKUP(A12,analisis1,2) -> #REF! | D12: =HLOOKUP(A12,hasilangket,2) -> 0 | E12: =HLOOKUP(A12,hasilangket,3) -> #DIV/0! | F12: =IF(E12>=2 %,"TINGGI",IF(E12>=1 %,"SEDANG","RENDAH")) -> #DIV/0!
A13: 11 | B13: =AKPD!H16 -> Saya kadang kurang menjaga kesehatan diri | C13: =HLOOKUP(A13,analisis1,2) -> #REF! | D13: =HLOOKUP(A13,hasilangket,2) -> 0 | E13: =HLOOKUP(A13,hasilangket,3) -> #DIV/0! | F13: =IF(E13>=2 %,"TINGGI",IF(E13>=1 %,"SEDANG","RENDAH")) -> #DIV/0!
A14: 12 | B14: =AKPD!H17 -> Saya belum tahu ciri-ciri/sifat/prilaku pribadi yang berkarakter | C14: =HLOOKUP(A14,analisis1,2) -> #REF! | D14: =HLOOKUP(A14,hasilangket,2) -> 0 | E14: =HLOOKUP(A14,hasilangket,3) -> #DIV/0! | F14: =IF(E14>=2 %,"TINGGI",IF(E14>=1 %,"SEDANG","RENDAH")) -> #DIV/0!
... A51: 49 | B51: =AKPD!H54 -> Saya merasa belum paham hubungan antara hobi, bakat, minat, kemampuan dan karir | C51: =HLOOKUP(A51,analisis1,2) -> #REF! | D51: =HLOOKUP(A51,hasilangket,2) -> 0 | E51: =HLOOKUP(A51,hasilangket,3) -> #DIV/0! | F51: =IF(E51>=2 %,"TINGGI",IF(E51>=1 %,"SEDANG","RENDAH")) -> #DIV/0!
A52: 50 | B52: =AKPD!H55 -> Saya belum memiliki perencanaan karir masa depan | C52: =HLOOKUP(A52,analisis1,2) -> #REF! | D52: =HLOOKUP(A52,hasilangket,2) -> 0 | E52: =HLOOKUP(A52,hasilangket,3) -> #DIV/0! | F52: =IF(E52>=3 %,"TINGGI",IF(E52>=1 %,"SEDANG","RENDAH")) -> #DIV/0!
D53: TINGGI | F53: =COUNTIF(F3:F52,"TINGGI") -> 0
A54: CATATAN | D54: SEDANG | F54: =COUNTIF(F3:F52,"SEDANG") -> 0
A55: UNTIK KOLOM KETERANGAN (SEGERA, TINGGI, SEDANG, RENDAH) TOLONG DI CEK RUMUSNYA | D55: RENDAH | F55: =COUNTIF(F3:F52,"RENDAH") -> 0
A56: DIBUAT 3 KRITERIA SAJA (RENDAH, SEDANG DAN TINGGI) | D56: JUMLAH | F56: =SUM(F53:F55) -> 0

Sheet Hasil Analisis_2
B1: HASIL ANALISIS KEBUTUHAN PESERTA DIDIK
A4: BIDANG LAYANAN | B4: NO ITEM | C4: ITEM PERNYATAAN | D4: JUMLAH PEMILIH | E4: JUMLAH PEMILIH PER BIDANG | F4: % BUTIR | G4: % BIDANG | H4: KOMPONEN LAYANAN | I4: RUMUSAN KEBUTUHAN | J4: RUMUSAN TUJUAN
A5: =AKPD!I6 -> P | B5: 1 | C5: =AKPD!H6 -> Saya merasa belum disiplin dalam beribadah pada Tuhan YME | D5: =HLOOKUP(B5,hasilangket,2) -> 0 | E5: =SUM(D5:D24) -> 0 | F5: =HLOOKUP(B5,hasilangket,3) -> #DIV/0! | G5: =SUM(F5:F24) -> #DIV/0! | H5: =AKPD!M6 -> Dasar | I5: =AKPD!J6 -> Kesadaran untuk beriman dan bertakwa pada Tuhan YME | J5: =AKPD!L6 -> Peserta didik/konseli mampu memahami pentingnya iman dan taqwa pada Tuhan YME serta dapat hidup rukun, damai dan saling menghormati antar umat beragama
A6: =AKPD!I7 -> P | B6: 2 | C6: =AKPD!H7 -> Saya kadang-kadang berperilaku dan bertutur kata tidak jujur | D6: =HLOOKUP(B6,hasilangket,2) -> 0 | F6: =HLOOKUP(B6,hasilangket,3) -> #DIV/0! | H6: =AKPD!M7 -> Dasar | I6: =AKPD!J7 -> Kebiasaan bersikap jujur | J6: =AKPD!L7 -> Peserta didik/konseli dapat menjadi individu yang memiliki integritas diri serta dapat memancarkan kepercayaan diri dan sikap yang tidak mementingkan diri sendiri
A7: =AKPD!I8 -> P | B7: 3 | C7: =AKPD!H8 -> Saya kadang-kadang masih suka menyontek pada waktu tes | D7: =HLOOKUP(B7,hasilangket,2) -> 0 | F7: =HLOOKUP(B7,hasilangket,3) -> #DIV/0! | H7: =AKPD!M8 -> Dasar | I7: =AKPD!J8 -> Kemampuan memiliki kebiasaan jujur dan tidak mencontek saat tes | J7: =AKPD!L8 -> Peserta didik/konseli dapat menjadi individu yang memiliki sikap jujur dan tidak mencontek
A8: =AKPD!I9 -> P | B8: 4 | C8: =AKPD!H9 -> Saya merasa belum bisa mengendalikan emosi dengan baik | D8: =HLOOKUP(B8,hasilangket,2) -> 0 | F8: =HLOOKUP(B8,hasilangket,3) -> #DIV/0! | H8: =AKPD!M9 -> Responsif | I8: =AKPD!J9 -> Kemampuan mengelola emosi dengan baik | J8: =AKPD!L9 -> Peserta didik/konseli dapat menjadi individu yang mampu mengendalikan emosi
A9: =AKPD!I10 -> P | B9: 5 | C9: =AKPD!H10 -> Saya belum paham tentang sikap dan perilaku asertif | D9: =HLOOKUP(B9,hasilangket,2) -> 0 | F9: =HLOOKUP(B9,hasilangket,3) -> #DIV/0! | H9: =AKPD!M10 -> Dasar | I9: =AKPD!J10 -> Komunikasi yang jujur dan tetap menjaga perasaan | J9: =AKPD!L10 -> Peserta didik/konseli mampu membedakan perilaku agresif dan asertif, menerapkan prilaku asertif dengan teman-temannya serta mengembangkan sikap asertif untuk menunjang prestasi
A10: =AKPD!I11 -> P | B10: 6 | C10: =AKPD!H11 -> Saya belum tahu cara mengenal dan memahami diri sendiri | D10: =HLOOKUP(B10,hasilangket,2) -> 0 | F10: =HLOOKUP(B10,hasilangket,3) -> #DIV/0! | H10: =AKPD!M11 -> Dasar | I10: =AKPD!J11 -> Melakukan pengenalan/pemahaman diri | J10: =AKPD!L11 -> Peserta didik/konseli dapat memahami dan menemukan unsur-unsur konsep diri serta memahami dan menerima kelebihan dan kekurangan secara wajar dan penuh rasa syukur
A11: =AKPD!I12 -> P | B11: 7 | C11: =AKPD!H12 -> Saya belum memahami potensi diri | D11: =HLOOKUP(B11,hasilangket,2) -> 0 | F11: =HLOOKUP(B11,hasilangket,3) -> #DIV/0! | H11: =AKPD!M12 -> Dasar | I11: =AKPD!J12 -> Memahami potensi diri | J11: =AKPD!L12 -> Peserta didik/konseli dapat mengenal dan menggali potensi diri serta berusaha mengoptimalkannya untuk meraih sukses masa depan
A12: =AKPD!I13 -> P | B12: 8 | C12: =AKPD!H13 -> Saya belum tahu perubahan dan permasalahan yang terjadi pada masa remaja | D12: =HLOOKUP(B12,hasilangket,2) -> 0 | F12: =HLOOKUP(B12,hasilangket,3) -> #DIV/0! | H12: =AKPD!M13 -> Dasar | I12: =AKPD!J13 -> Masa perkembangan remaja dan permasalahannya | J12: =AKPD!L13 -> Peserta didik/konseli mampu mengenal ciri-ciri perkembangan remaja, dapat memahami tugas perkembangan, mengatasi masalah yang dihadapi dalam perkembangan
A13: =AKPD!I14 -> P | B13: 9 | C13: =AKPD!H14 -> Saya belum mengenal tentang macam-macam kepribadian | D13: =HLOOKUP(B13,hasilangket,2) -> 0 | F13: =HLOOKUP(B13,hasilangket,3) -> #DIV/0! | H13: =AKPD!M14 -> Dasar | I13: =AKPD!J14 -> Mengenal kepribadian yang dimiliki manusia | J13: =AKPD!L14 -> Peserta didik/konseli mampu mengenal tipe-tipe kepribadian manusia, mengenal kepribadian yang dimiliki serta dapat tumbuh menjadi pribadi yang matang
A14: =AKPD!I15 -> P | B14: 10 | C14: =AKPD!H15 -> Saya kurang memiliki rasa percaya diri | D14: =HLOOKUP(B14,hasilangket,2) -> 0 | F14: =HLOOKUP(B14,hasilangket,3) -> #DIV/0! | H14: =AKPD!M15 -> Dasar | I14: =AKPD!J15 -> Memiliki kepercayaan diri | J14: =AKPD!L15 -> Peserta didik/konseli dapat memahami ciri-ciri pribadi yang memiliki rasa percaya diri serta dapat meningkatkan percaya diri dengan baik untuk mencapai tujuan hidupnya
A15: =AKPD!I16 -> P | B15: 11 | C15: =AKPD!H16 -> Saya kadang kurang menjaga kesehatan diri | D15: =HLOOKUP(B15,hasilangket,2) -> 0 | F15: =HLOOKUP(B15,hasilangket,3) -> #DIV/0! | H15: =AKPD!M16 -> Dasar | I15: =AKPD!J16 -> Kemampuan menjaga kesehatan dengan baik | J15: =AKPD!L16 -> Peserta didik/konseli mampu memahami pentingnya polah hidup bersih dan sehat serta dapat melakukan kebiasaan hidup bersih dan sehat sehari-hari yang dapat mempengaruhi kesehatan
A16: =AKPD!I17 -> P | B16: 12 | C16: =AKPD!H17 -> Saya belum tahu ciri-ciri/sifat/prilaku pribadi yang berkarakter | D16: =HLOOKUP(B16,hasilangket,2) -> 0 | F16: =HLOOKUP(B16,hasilangket,3) -> #DIV/0! | H16: =AKPD!M17 -> Dasar | I16: =AKPD!J17 -> Memiliki ciri-ciri/sifat pribadi yang berkarakter | J16: =AKPD!L17 -> Peserta didik/konseli mampu memiliki perasaan positif untuk membangun pribadi yang berkarakter yang akan berkontribusi pada peningkatan mutu karakter bangsa
A17: =AKPD!I18 -> P | B17: 13 | C17: =AKPD!H18 -> Saya merasa kurang memilki tanggung jawab pada diri sendiri | D17: =HLOOKUP(B17,hasilangket,2) -> 0 | F17: =HLOOKUP(B17,hasilangket,3) -> #DIV/0! | H17: =AKPD!M18 -> Responsif | I17: =AKPD!J18 -> Memiliki rasa tanggung jawab | J17: =AKPD!L18 -> Peserta didik/konseli mampu memiliki rasa tanggung jawab pada diri sendiri dan orang lain
... A24: =AKPD!I25 -> P | B24: 20 | C24: =AKPD!H25 -> Saya belum memahami tentang norma/cara membangun berkeluarga | D24: =HLOOKUP(B24,hasilangket,2) -> 0 | F24: =HLOOKUP(B24,hasilangket,3) -> #DIV/0! | H24: =AKPD!M25 -> Responsif | I24: =AKPD!J25 -> Memiliki pengetahuan tentang norma berkeluarga | J24: =AKPD!L25 -> Peserta didik/konseli memiliki pengetahuan tentang norma berkeluarga
A25: =AKPD!I26 -> S | B25: 21 | C25: =AKPD!H26 -> Saya belum banyak mengenal lingkungan sekolah baru | D25: =HLOOKUP(B25,hasilangket,2) -> 0 | E25: =SUM(D25:D35) -> 0 | F25: =HLOOKUP(B25,hasilangket,3) -> #DIV/0! | G25: =SUM(F25:F35) -> #DIV/0! | H25: =AKPD!M26 -> Dasar | I25: =AKPD!J26 -> Mengenal lingkungan sekolah baru | J25: =AKPD!L26 -> Peserta didik/konseli dapat mengenal aspek-aspek penyesuaian diri serta dapat menerapkan sikap dan kebiasaan dengan lingkungannya
A26: =AKPD!I27 -> S | B26: 22 | C26: =AKPD!H27 -> Saya belum memahami tentang kenakalan remaja | D26: =HLOOKUP(B26,hasilangket,2) -> 0 | F26: =HLOOKUP(B26,hasilangket,3) -> #DIV/0! | H26: =AKPD!M27 -> Dasar | I26: =AKPD!J27 -> Memiliki pemahaman tentang kenakalan remaja | J26: =AKPD!L27 -> Peserta didik/konseli dapat mengetahui bentuk atau jenis kenakalan remaja, dampak terhadap pribadi dan lingkungan serta berusaha untuk menghindarinya
A27: =AKPD!I28 -> S | B27: 23 | C27: =AKPD!H28 -> Saya masih sedikit mengetahui tentang dampak atau bahaya rokok | D27: =HLOOKUP(B27,hasilangket,2) -> 0 | F27: =HLOOKUP(B27,hasilangket,3) -> #DIV/0! | H27: =AKPD!M28 -> Dasar | I27: =AKPD!J28 -> Memiliki pemahaman tentang bahaya rokok | J27: =AKPD!L28 -> Peserta didik/konseli memiliki pemahaman tentang bahaya dan dampak rokok bagi kesehatan tubuh dan lingkungan serta cara untuk menolak ajakan untuk merokok dalam bentuk apapun
A28: =AKPD!I29 -> S | B28: 24 | C28: =AKPD!H29 -> Saya belum banyak mengenal tentang perilaku sosial yang bertanggung jawab | D28: =HLOOKUP(B28,hasilangket,2) -> 0 | F28: =HLOOKUP(B28,hasilangket,3) -> #DIV/0! | H28: =AKPD!M29 -> Dasar | I28: =AKPD!J29 -> Memiliki perilaku sosial yang bertanggung jawab | J28: =AKPD!L29 -> Peserta didik/konseli mampu memahami pentingnya berprilaku sosial yang baik, serta memiliki sikap untuk hidup bersosial yang bertanggung jawab dalam sebuah masyarakat
A29: =AKPD!I30 -> S | B29: 25 | C29: =AKPD!H30 -> Saya belum tahu tentang bullying dan cara mensikapinya | D29: =HLOOKUP(B29,hasilangket,2) -> 0 | F29: =HLOOKUP(B29,hasilangket,3) -> #DIV/0! | H29: =AKPD!M30 -> Dasar | I29: =AKPD!J30 -> Memahami tentang bullying | J29: =AKPD!L30 -> Peserta didik/konseli mampu memahami tentang bullying, bahaya prilaku bullying, sebab dan dampak bullying, serta berani cara melawan tindakan bullying
A30: =AKPD!I31 -> S | B30: 26 | C30: =AKPD!H31 -> Saya sukar bergaul dengan teman-teman di sekolah | D30: =HLOOKUP(B30,hasilangket,2) -> 0 | F30: =HLOOKUP(B30,hasilangket,3) -> #DIV/0! | H30: =AKPD!M31 -> Dasar | I30: =AKPD!J31 -> Memiliki etika bergaul dengan teman sebaya | J30: =AKPD!L31 -> Peserta didik/konseli mampu memahami norma-norma dalam masyarakat serta dapat bersosialisasidan bergaul dengan teman sebaya sesuai dengan etika yang baik
A31: =AKPD!I32 -> S | B31: 27 | C31: =AKPD!H32 -> Sering saya dianggap tidak sopan pada orang lain | D31: =HLOOKUP(B31,hasilangket,2) -> 0 | F31: =HLOOKUP(B31,hasilangket,3) -> #DIV/0! | H31: =AKPD!M32 -> Dasar | I31: =AKPD!J32 -> Memiliki sikap sopan santun pada orang lain | J31: =AKPD!L32 -> Peserta didik/konseli mampu memahami nilai-nilai dan cara bertingkah laku sopan santun dalam kehidupan di luar kelompok teman sebaya
A32: =AKPD!I33 -> S | B32: 28 | C32: =AKPD!H33 -> Saya kurang memahami dampak dari media sosial | D32: =HLOOKUP(B32,hasilangket,2) -> 0 | F32: =HLOOKUP(B32,hasilangket,3) -> #DIV/0! | H32: =AKPD!M33 -> Dasar | I32: =AKPD!J33 -> Memiliki pemahaman tentang dampak dari media sosial | J32: =AKPD!L33 -> Peserta didik/konseli dapat memahami dampak positif dan negatif bermain handphone atau media sosial
A33: =AKPD!I34 -> S | B33: 29 | C33: =AKPD!H34 -> Saya jarang bermain/berteman di lingkungan tempat saya tinggal | D33: =HLOOKUP(B33,hasilangket,2) -> 0 | F33: =HLOOKUP(B33,hasilangket,3) -> #DIV/0! | H33: =AKPD!M34 -> Responsif | I33: =AKPD!J34 -> Kesadaran sebagai makhluk sosial yang harus berinteraksi | J33: =AKPD!L34 -> Peserta didik/konseli memiliki Kesadaran sebagai makhluk sosial yang harus berinteraksi
A34: =AKPD!I35 -> S | B34: 30 | C34: =AKPD!H35 -> Saya belum banyak teman atau sahabat | D34: =HLOOKUP(B34,hasilangket,2) -> 0 | F34: =HLOOKUP(B34,hasilangket,3) -> #DIV/0! | H34: =AKPD!M35 -> Dasar | I34: =AKPD!J35 -> Kemudahan mencari dan disenangi teman | J34: =AKPD!L35 -> Peserta didik/konseli mudah mencari dan disenangi teman
A35: =AKPD!I36 -> S | B35: 31 | C35: =AKPD!H36 -> Saya kurang suka berkomunikasi dengan teman lawan jenis | D35: =HLOOKUP(B35,hasilangket,2) -> 0 | F35: =HLOOKUP(B35,hasilangket,3) -> #DIV/0! | H35: =AKPD!M36 -> Responsif | I35: =AKPD!J36 -> Memiliki pemahaman tentang hubungan komunikasi dengan lawan jenis | J35: =AKPD!L36 -> Peserta didik/konseli memiliki pemahaman tentang norma hubungan komunikasi dengan lawan jenis
A36: =AKPD!I37 -> B | B36: 32 | C36: =AKPD!H37 -> Saya belum tahu cara belajar yang baik dan benar di SMA/MA | D36: =HLOOKUP(B36,hasilangket,2) -> 0 | E36: =SUM(D36:D48) -> 0 | F36: =HLOOKUP(B36,hasilangket,3) -> #DIV/0! | G36: =SUM(F36:F48) -> #DIV/0! | H36: =AKPD!M37 -> Dasar | I36: =AKPD!J37 -> Memahami belajar yang benar di SMA/MA | J36: =AKPD!L37 -> Peserta didik/konseli dapat mengenal sikap dalam belajar serta menerapkan sikap dan kebiasaan dalam belajar yang baik di SMA-MA hingga mencapai prestasi yang lebih luas
A37: =AKPD!I38 -> B | B37: 33 | C37: =AKPD!H38 -> Saya belum tahu cara meraih prestasi di sekolah | D37: =HLOOKUP(B37,hasilangket,2) -> 0 | F37: =HLOOKUP(B37,hasilangket,3) -> #DIV/0! | H37: =AKPD!M38 -> Dasar | I37: =AKPD!J38 -> Memiliki motivasi untuk berprestasi | J37: =AKPD!L38 -> Peserta didik/konseli mampu memahami pengertian motivasi berprestasi, mengetahui dan menerapkan cara untuk meningkatkan motivasi berprestasi
A38: =AKPD!I39 -> B | B38: 34 | C38: =AKPD!H39 -> Saya belum paham tentang gaya belajar dan strategi yang sesuai dengannya | D38: =HLOOKUP(B38,hasilangket,2) -> 0 | F38: =HLOOKUP(B38,hasilangket,3) -> #DIV/0! | H38: =AKPD!M39 -> Dasar | I38: =AKPD!J39 -> Menemukan cara belajar yang sesuai dengan gaya belajar | J38: =AKPD!L39 -> Peserta didik/konseli dapat memahami dan mengetahui tentang gaya belajar serta strategi belajarnya untuk masing-masing gaya belajar tersebut
A39: =AKPD!I40 -> B | B39: 35 | C39: =AKPD!H40 -> Orang tua saya tidak peduli dengan kegiatan belajar saya | D39: =HLOOKUP(B39,hasilangket,2) -> 0 | F39: =HLOOKUP(B39,hasilangket,3) -> #DIV/0! | H39: =AKPD!M40 -> Responsif | I39: =AKPD!J40 -> Kepedulian orang tua pada kegiatan belajar | J39: =AKPD!L40 -> Peserta didik/konseli selalu mendapat perhatian orang tua dalam belajarnya
A40: =AKPD!I41 -> B | B40: 36 | C40: =AKPD!H41 -> Saya masih sering menunda-nunda tugas sekolah/pekerjaan rumah (PR) | D40: =HLOOKUP(B40,hasilangket,2) -> 0 | F40: =HLOOKUP(B40,hasilangket,3) -> #DIV/0! | H40: =AKPD!M41 -> Responsif | I40: =AKPD!J41 -> Melaksanakan Tugas Sekolah / PR tepat waktu | J40: =AKPD!L41 -> Peserta didik/konseli memiliki kedisiplinan dalam belajar
A41: =AKPD!I42 -> B | B41: 37 | C41: =AKPD!H42 -> Saya merasa kesulitan dalam memahami pelajaran tertentu | D41: =HLOOKUP(B41,hasilangket,2) -> 0 | F41: =HLOOKUP(B41,hasilangket,3) -> #DIV/0! | H41: =AKPD!M42 -> Responsif | I41: =AKPD!J42 -> Mudah memahami pelajaran | J41: =AKPD!L42 -> Peserta didik/konseli dapat memahami teknik memahami pelajaran
A42: =AKPD!I43 -> B | B42: 38 | C42: =AKPD!H43 -> Saya belum tahu cara memanfaatkan sumber belajar | D42: =HLOOKUP(B42,hasilangket,2) -> 0 | F42: =HLOOKUP(B42,hasilangket,3) -> #DIV/0! | H42: =AKPD!M43 -> Responsif | I42: =AKPD!J43 -> Mampu memanfaatkan sumber belajar | J42: =AKPD!L43 -> Peserta didik/konseli dapat memanfaatkan sumber belajar dalam kegiatan belajarnya
A43: =AKPD!I44 -> B | B43: 39 | C43: =AKPD!H44 -> Saya belajarnya jika akan ada tes atau ujian saja | D43: =HLOOKUP(B43,hasilangket,2) -> 0 | F43: =HLOOKUP(B43,hasilangket,3) -> #DIV/0! | H43: =AKPD!M44 -> Responsif | I43: =AKPD!J44 -> Kesadaran belajar sesuai jadwal | J43: =AKPD!L44 -> Peserta didik/konseli dapat mengatur waktu belajarnya
A44: =AKPD!I45 -> B | B44: 40 | C44: =AKPD!H45 -> Saya belum tahu tentang struktur kurikulum yang ada di sekolah | D44: =HLOOKUP(B44,hasilangket,2) -> 0 | F44: =HLOOKUP(B44,hasilangket,3) -> #DIV/0! | H44: =AKPD!M45 -> Dasar | I44: =AKPD!J45 -> Memahami struktru kurikulum sekolah | J44: =AKPD!L45 -> Peserta didik/konseli dapat memahami tentang struktur kurikulum sekolah
A45: =AKPD!I46 -> B | B45: 41 | C45: =AKPD!H46 -> Saya merasa malas belajar dan kalau belajar sering ngantuk | D45: =HLOOKUP(B45,hasilangket,2) -> 0 | F45: =HLOOKUP(B45,hasilangket,3) -> #DIV/0! | H45: =AKPD!M46 -> Responsif | I45: =AKPD!J46 -> Memiliki semangat belajar | J45: =AKPD!L46 -> Peserta didik/konseli memiliki motivasi dalam belajar
A46: =AKPD!I47 -> B | B46: 42 | C46: =AKPD!H47 -> Saya belum terbiasa belajar bersama atau belajar kelompok | D46: =HLOOKUP(B46,hasilangket,2) -> 0 | F46: =HLOOKUP(B46,hasilangket,3) -> #DIV/0! | H46: =AKPD!M47 -> Dasar | I46: =AKPD!J47 -> Membentuk belajar kelompok | J46: =AKPD!L47 -> Peserta didik/konseli dapat belajar kelompok dengan temannya
A47: =AKPD!I48 -> B | B47: 43 | C47: =AKPD!H48 -> Saya belum paham cara memilih lembaga bimbingan belajar yang baik | D47: =HLOOKUP(B47,hasilangket,2) -> 0 | F47: =HLOOKUP(B47,hasilangket,3) -> #DIV/0! | H47: =AKPD!M48 -> Responsif | I47: =AKPD!J48 -> Mengetahui cara memilih lembaga bimbil yang baik | J47: =AKPD!L48 -> Peserta didik/konseli dapat memilih lembaga bimbingan belajar yang tepat
A48: =AKPD!I49 -> B | B48: 44 | C48: =AKPD!H49 -> Saya belum dapat memanfaatkan teknologi informasi untuk belajar | D48: =HLOOKUP(B48,hasilangket,2) -> 0 | F48: =HLOOKUP(B48,hasilangket,3) -> #DIV/0! | H48: =AKPD!M49 -> Responsif | I48: =AKPD!J49 -> Pemanfaatan perkembangan teknologi informasi | J48: =AKPD!L49 -> Peserta didik/konseli dapat memanfaatkan teknologi informasi untuk belajar
A49: =AKPD!I50 -> K | B49: 45 | C49: =AKPD!H50 -> Saya belum tahu cara memperoleh bantuan pendidikan (beasiswa) | D49: =HLOOKUP(B49,hasilangket,2) -> 0 | E49: =SUM(D49:D54) -> 0 | F49: =HLOOKUP(B49,hasilangket,3) -> #DIV/0! | G49: =SUM(F49:F54) -> #DIV/0! | H49: =AKPD!M50 -> Pem&Perenc Indv | I49: =AKPD!J50 -> Memperoleh informasi bantuan/beasiswa | J49: =AKPD!L50 -> Peserta didik/konseli dapat memanfaatkan peluang beasiswa yang ada
A50: =AKPD!I51 -> K | B50: 46 | C50: =AKPD!H51 -> Saya terpaksa harus bekerja untuk mencukupi kebutuhan hidup | D50: =HLOOKUP(B50,hasilangket,2) -> 0 | F50: =HLOOKUP(B50,hasilangket,3) -> #DIV/0! | H50: =AKPD!M51 -> Pem&Perenc Indv | I50: =AKPD!J51 -> Memperoleh penghasilan untuk biaya hidup | J50: =AKPD!L51 -> Peserta didik/ konseli mampu mengatur kegiatan antara belajar sambil bekerja
A51: =AKPD!I52 -> K | B51: 47 | C51: =AKPD!H52 -> Saya merasa bingung memilih kegiatan esktrakurikuler di sekolah | D51: =HLOOKUP(B51,hasilangket,2) -> 0 | F51: =HLOOKUP(B51,hasilangket,3) -> #DIV/0! | H51: =AKPD!M52 -> Pem&Perenc Indv | I51: =AKPD!J52 -> Memiliki kemampuan untuk memilih kegiatan ekstra kurikuler | J51: =AKPD!L52 -> Peserta didik/konseli mampu memilih kegiatan ekstra kurikuler yang sesuai dengan bakat, minat dan kemampuannya
A52: =AKPD!I53 -> K | B52: 48 | C52: =AKPD!H53 -> Saya merasa belum mantap pada pilihan peminatan yang diambil | D52: =HLOOKUP(B52,hasilangket,2) -> 0 | F52: =HLOOKUP(B52,hasilangket,3) -> #DIV/0! | H52: =AKPD!M53 -> Pem&Perenc Indv | I52: =AKPD!J53 -> Memiliki kemantapan pada pilihan peminatan yang diambil | J52: =AKPD!L53 -> Peserta didik/konseli mantap pada pilihan peminatan yang telah diambil
A53: =AKPD!I54 -> K | B53: 49 | C53: =AKPD!H54 -> Saya merasa belum paham hubungan antara hobi, bakat, minat, kemampuan dan karir | D53: =HLOOKUP(B53,hasilangket,2) -> 0 | F53: =HLOOKUP(B53,hasilangket,3) -> #DIV/0! | H53: =AKPD!M54 -> Pem&Perenc Indv | I53: =AKPD!J54 -> Memahami hubungan hobi, bakat, minat, kemampuan dan karir | J53: =AKPD!L54 -> Peserta didik/konseli mampu memahami peranan hobi, bakat, minat dalam karir masa depannya
A54: =AKPD!I55 -> K | B54: 50 | C54: =AKPD!H55 -> Saya belum memiliki perencanaan karir masa depan | D54: =HLOOKUP(B54,hasilangket,2) -> 0 | F54: =HLOOKUP(B54,hasilangket,3) -> #DIV/0! | H54: =AKPD!M55 -> Pem&Perenc Indv | I54: =AKPD!J55 -> Memiliki perencanaan karir yang baik | J54: =AKPD!L55 -> Peserta didik/konseli mampu memahami pentingnya perencanaan karir, langkah-langkah dalam merencanakan karir serta mililiki sikap positif dalam meraih kesuksesan masa depan
D55: =SUM(D5:D54) -> 0 | E55: =SUM(E5:E54) -> 0 | F55: =SUM(F5:F54) -> #DIV/0! | G55: =SUM(G5:G54) -> #DIV/0!
G57: Dasar | H57: =COUNTIF(H5:H54,"Dasar") -> 26
G58: Responsif | H58: =COUNTIF(H6:H55,"Responsif") -> 18
G59: Pem&Perenc Indv | H59: =COUNTIF(H7:H56,"Pem&Perenc Indv") -> 6
G60: Jumlah | H60: =SUM(H57:H59) -> 50
I61: =SUM(J57:J60) -> 0

Sheet Hasil Analisis_1
A2: HASIL ANALISIS KEBUTUHAN PESERTA DIDIK
A4: NO ITEM | B4: ITEM PERNYATAAN | C4: BIDANG LAYANAN | D4: JUMLAH PEMILIH | E4: JUMLAH PEMILIH PER BIDANG | F4: % BUTIR | G4: % BIDANG | H4: KODE PESERTA DIDIK / KONSELI | I4: KOMPONEN LAYANAN | J4: RUMUSAN KEBUTUHAN
A5: 1 | B5: =ANGKET!B15 -> Saya merasa belum disiplin dalam beribadah pada Tuhan YME | C5: =AKPD!I6 -> P | D5: =HLOOKUP(A5,hasilangket,2) -> 0 | E5: =SUM(D5:D24) -> 0 | F5: =HLOOKUP(A5,hasilangket,3) -> #DIV/0! | G5: =SUM(F5:F24) -> #DIV/0! | H5: =HLOOKUP(A5,analisis1,2) -> #REF! | I5: =AKPD!M6 -> Dasar | J5: =AKPD!J6 -> Kesadaran untuk beriman dan bertakwa pada Tuhan YME
A6: 2 | B6: =ANGKET!B16 -> Saya kadang-kadang berperilaku dan bertutur kata tidak jujur | C6: =AKPD!I7 -> P | D6: =HLOOKUP(A6,hasilangket,2) -> 0 | F6: =HLOOKUP(A6,hasilangket,3) -> #DIV/0! | H6: =HLOOKUP(A6,analisis1,2) -> #REF! | I6: =AKPD!M7 -> Dasar | J6: =AKPD!J7 -> Kebiasaan bersikap jujur
A7: 3 | B7: =ANGKET!B17 -> Saya kadang-kadang masih suka menyontek pada waktu tes | C7: =AKPD!I8 -> P | D7: =HLOOKUP(A7,hasilangket,2) -> 0 | F7: =HLOOKUP(A7,hasilangket,3) -> #DIV/0! | H7: =HLOOKUP(A7,analisis1,2) -> #REF! | I7: =AKPD!M8 -> Dasar | J7: =AKPD!J8 -> Kemampuan memiliki kebiasaan jujur dan tidak mencontek saat tes
A8: 4 | B8: =ANGKET!B18 -> Saya merasa belum bisa mengendalikan emosi dengan baik | C8: =AKPD!I9 -> P | D8: =HLOOKUP(A8,hasilangket,2) -> 0 | F8: =HLOOKUP(A8,hasilangket,3) -> #DIV/0! | H8: =HLOOKUP(A8,analisis1,2) -> #REF! | I8: =AKPD!M9 -> Responsif | J8: =AKPD!J9 -> Kemampuan mengelola emosi dengan baik
A9: 5 | B9: =ANGKET!B19 -> Saya belum paham tentang sikap dan perilaku asertif | C9: =AKPD!I10 -> P | D9: =HLOOKUP(A9,hasilangket,2) -> 0 | F9: =HLOOKUP(A9,hasilangket,3) -> #DIV/0! | H9: =HLOOKUP(A9,analisis1,2) -> #REF! | I9: =AKPD!M10 -> Dasar | J9: =AKPD!J10 -> Komunikasi yang jujur dan tetap menjaga perasaan
A10: 6 | B10: =ANGKET!B20 -> Saya belum tahu cara mengenal dan memahami diri sendiri | C10: =AKPD!I11 -> P | D10: =HLOOKUP(A10,hasilangket,2) -> 0 | F10: =HLOOKUP(A10,hasilangket,3) -> #DIV/0! | H10: =HLOOKUP(A10,analisis1,2) -> #REF! | I10: =AKPD!M11 -> Dasar | J10: =AKPD!J11 -> Melakukan pengenalan/pemahaman diri
A11: 7 | B11: =ANGKET!B21 -> Saya belum memahami potensi diri | C11: =AKPD!I12 -> P | D11: =HLOOKUP(A11,hasilangket,2) -> 0 | F11: =HLOOKUP(A11,hasilangket,3) -> #DIV/0! | H11: =HLOOKUP(A11,analisis1,2) -> #REF! | I11: =AKPD!M12 -> Dasar | J11: =AKPD!J12 -> Memahami potensi diri
