Workbook
Name analisis1: Analisis1!$B$44:$AY$45
Name hasilangket: ENTRI!$G$290:$BD$292

Sheet HOME
B2: APLIKASI ANGKET KEBUTUHAN PESERTA DIDIK LINTAS KELAS UNTUK SMA / MA
D4: PEMERINTAH | G4: PEMERINTAH PROVINSI ACEH
D5: DINAS | G5: DINAS PENDIDIKAN PROVINSI ACEH
D6: NAMA SEKOLAH | G6: SMA NEGERI 1 SAWANG
D7: ALAMAT | G7: JL. TAPAKTUAN - MEULABOH KM. 20 DESA MEULIGO KEC. SAWANG
D8: KELAS | G8: X MIA 1, X MIA 2, X MIA 3, X MIA 4, X IIS
D9: TAHUN PELAJARAN | G9: 2019/2020
D10: NAMA KEPALA SEKOLAH | G10: ASNAWI S.Pd
D11: NIP KEPALA SEKOLAH | G11: 196704031990031005
D12: NAMA GURU BK/KONSELOR | G12: MILLA AMIR, S.Pd., Gr. Kons
D13: NIP GURU BK/KONSELOR | G13: 198512232015042001
D14: TEMPAT DAN TANGGAL | G14: SAWANG, JULI 2019
B16: LANGKAH MENGGUNAKAN APLIKASI AKPD
B17: 1 | C17: Isikan Identitas Sekolah pada sheet HOME
B18: 2 | C18: Susun atau sesuaikan butir angket, deskripsi kebutuhan, rumusan tujuan dan topik/materi pada Sheet AKPD
B19: 3 | C19: Print out Angket Kebutuhan Peserta Didiki(AKPD) pada sheet ANGKET, sesuai dengan jumlah kelas dan setiap kelas diambil sampel 10 siswa secara acak
B20: 4 | C20: Isikan kode konseli, nomor induk, nama siswa dan jenis kelamin pada Sheet ENTRI dari masing masing-masing kelas
B21: 5 | C21: Masukan hasil jawaban konseli pada Sheet ENTRI dengan cara mengisi angka 1 (satu) pada item yang dipilih atau 0 (nol) apabila tidak dipilih
B22: 6 | C22: Jawaban konseli secara otomatis akan dianalisa dan menjadi PROFIL LINTAS KELAS, PROFIL TIAP KELAS dan PROFIL KONSELI. Deskripsikan hasil analisis AKPD ke dalam Program BK
B23: 7 | C23: Pilihlah Topik/materi untuk dimasukkan ke dalam Program Semester sesuai dengan prioritas
B24: 8 | C24: Print out untuk dilampirkan pada Program BK:
C25: a. Profil Kelas | H25: e. Action plan
C26: b. Deskripsi Kebutuhan dari hasil AKPD dan Sekolah | H26: f. Jadwal Kegiatan
C27: c. Rumusan Tujuan | H27: g. Program Semester
C28: d. Komponen Program | H28: h. Rencana Pelaksanaan Layanan
B118: disusun oleh : Milla Amir

Sheet ANGKET
A1: ANGKET KEBUTUHAN PESERTA DIDIK SMA ( KELAS X )
B2: SMA NEGERI 1 TAPAKTUAN
A4: NAMA : ________________________________________________, KELAS : _________________________________
A6: Petunjuk :
A7: 1. Dibawah ini bukan alat tes, tetapi angket yang berisi tentang berbagai masalah yang sering dihadapi siswa.
A8: 2. Jawaban Anda sangat bermanfaat untuk membantu keberhasilan belajar di sekolah ini
A9: 3. Pilihlah jawaban yang paling sesuai dengan kondisi Anda saat ini, dengan cara memberikan tanda ( √ )
A10: pada kolom YA atau TIDAK
A11: 4. Jawaban Anda akan kami rahasiakan, untuk itu jawablah dengan sungguh-sungguh.
A12: 5. Selamat mengerjakan
A14: NO | B14: P E R N Y A T A A N | C14: YA | D14: TIDAK | E14: Rumusan Kebutuhan
A15: 1 | B15: =AKPD!H6 -> Saya merasa belum disiplin dalam beribadah pada Tuhan YME | E15: Tuhan selalu hadir dalam hidupku
A16: 2 | B16: =AKPD!H7 -> Saya kadang-kadang berperilaku dan bertutur kata tidak jujur | E16: Nilai suatu sikap kejujuran
A17: 3 | B17: =AKPD!H8 -> Saya kadang-kadang masih suka menyontek pada waktu tes | E17: Bersyukur dengan hati yang ikhlas
A18: 4 | B18: =AKPD!H9 -> Saya merasa belum bisa mengendalikan emosi dengan baik | E18: Menghilangkan kebiasan menyontek
A19: 5 | B19: =AKPD!H10 -> Saya belum paham tentang sikap dan perilaku asertif | E19: Sikap percaya diri
A20: 6 | B20: =AKPD!H11 -> Saya belum tahu cara mengenal dan memahami diri sendiri | E20: Melakukan Pola hidup bersih dan sehat
A21: 7 | B21: =AKPD!H12 -> Saya belum memahami potensi diri | E21: Pemahaman diri / konsep diri
A22: 8 | B22: =AKPD!H13 -> Saya belum tahu perubahan dan permasalahan yang terjadi pada masa remaja | E22: Cinta budaya Indonesia
A23: 9 | B23: =AKPD!H14 -> Saya belum mengenal tentang macam-macam kepribadian | E23: Tanggung jawab seorang siswa
A24: 10 | B24: =AKPD!H15 -> Saya kurang memiliki rasa percaya diri | E24: Cara Mengatur Waktu
A25: 11 | B25: =AKPD!H16 -> Saya kadang kurang menjaga kesehatan diri | E25: Membentuk keluarga yang harmonis
A26: 12 | B26: =AKPD!H17 -> Saya belum tahu ciri-ciri/sifat/prilaku pribadi yang berkarakter | E26: Nyaman berkumpul keluarga
... A64: 50 | B64: =AKPD!H55 -> Saya belum memiliki perencanaan karir masa depan | E64: hubungan hobi, bakat, minat dan kemampuan

Sheet ENTRI
G1: HASIL LEMBAR JAWAB AKPD LINTAS KELAS SMA/MA
G2: SEKOLAH | K2: : | L2: SMA NEGERI 1 TAPAKTUAN
G3: KELAS | K3: : | L3: Cut nyak Dien, Teuku Umar, Cut meutia, Laksamana malahayati,TR angkasa, Panglima RL, T.Cut Ali
G4: JUMLAH SISWA | K4: : | L4: 240 ORANG | N4: (WAJIB DIISI)
G5: TAHUN PELAJARAN | K5: : | L5: 2026 / 2027
A7: KELAS | B7: Nomor | E7: Nama Siswa | F7: JK | G7: ITEM ANGKET / PERNYATAAN | BE7: Total
G8: BIDANG PRIBADI | AA8: BIDANG SOSIAL | AL8: BIDANG BELAJAR | AY8: BIDANG KARIR
B9: Urut | C9: Kode | D9: Kelas | G9: 1 | H9: 2 | I9: 3 | J9: 4 | K9: 5 | L9: 6 | M9: 7 | N9: 8 | O9: 9 | P9: 10 | Q9: 11 | R9: 12 | S9: 13 | T9: 14 | U9: 15 | V9: 16 | W9: 17 | X9: 18 | Y9: 19 | Z9: 20 | AA9: 21 | AB9: 22 | AC9: 23 | AD9: 24 | AE9: 25 | AF9: 26 | AG9: 27 | AH9: 28 | AI9: 29 | AJ9: 30 | AK9: 31 | AL9: 32 | AM9: 33 | AN9: 34 | AO9: 35 | AP9: 36 | AQ9: 37 | AR9: 38 | AS9: 39 | AT9: 40 | AU9: 41 | AV9: 42 | AW9: 43 | AX9: 44 | AY9: 45 | AZ9: 46 | BA9: 47 | BB9: 48 | BC9: 49 | BD9: 50
A10: Cut Nyak Dien | B10: 1 | C10: A1 | E10: ARKAN AL-MUBARRAQ | F10: L
B11: =B10+1 -> 2 | C11: A2 | D11: X | E11: AKSYA AKILIA | F11: P
B12: =B11+1 -> 3 | C12: A3 | E12: AMIRATUL SYAKIRA | F12: P
B13: =B12+1 -> 4 | C13: A4 | E13: ANGGI DWI SAFIRA | F13: P
B14: =B13+1 -> 5 | C14: A5 | E14: ASYRAFI NURMAHMUDI | F14: L
B15: =B14+1 -> 6 | C15: A6 | E15: ATHIYA SABRINA OKTI | F15: P
B16: =B15+1 -> 7 | C16: A7 | E16: DAFFA ARIF HAIKAL | F16: L
B17: =B16+1 -> 8 | C17: A8 | E17: DHABIT ALFAWAZI | F17: L
B18: =B17+1 -> 9 | C18: A9 | E18: FARISYAA SALSABILLA | F18: P
B19: =B18+1 -> 10 | C19: A10 | E19: FATHAN FIDIANSYAH | F19: L
B20: =B19+1 -> 11 | C20: A11 | E20: FATHIA AZZAHIRA | F20: L
B21: =B20+1 -> 12 | C21: A12 | E21: HAFIZ AL HADI | F21: L
B22: =B21+1 -> 13 | C22: A13 | E22: HAIKAL STEVANO | F22: L
B23: =B22+1 -> 14 | C23: A14 | E23: INTAN ADELYA | F23: P
... B28: =B27+1 -> 19 | C28: A19 | E28: MUHAMMAD DAFFA PRABUDI | F28: L
B29: 20 | C29: A20 | E29: MUHAMMAD RANDY AL-FIDI | F29: L
B30: 21 | C30: A21 | E30: MUHAMMAD RAZA AL FATIH | F30: P
B31: 22 | C31: A22 | E31: NABILA FATIN HUMAIRA | F31: P
B32: 23 | C32: A23 | E32: QAIREEN IFFAH ALKANSA | F32: P
B33: 24 | C33: A24 | E33: QORI'AH NADHIFA AL HUSNA | F33: P
B34: 25 | C34: A25 | E34: RADHID QALBI | F34: L
B35: 26 | C35: A26 | E35: REZA VAHLEVI | F35: L
B36: 27 | C36: A27 | E36: SHAFA AISARAH | F36: P
B37: 28 | C37: A28 | E37: SHIREN NIBRAS | F37: P
B38: 29 | C38: A29 | E38: TALITHA AMIRA SAKHI | F38: P
B39: 30 | C39: A30 | E39: TAUFIQUR RAHMAN | F39: L
B40: 31 | C40: A31 | E40: YOLANDA KADZIYA | F40: P
... B43: 34 | C43: A34 | E43: ZIKRA ADIVA RAIHANA | F43: P
A44: Teuku Umar | B44: 1 | C44: T1 | E44: ABIM ALFATTAH RAIS | F44: L
B45: 2 | C45: T2 | E45: AIRIN RAHADATUL AISY | F45: P
B46: 3 | C46: T3 | E46: AISYAH KHAIRA ALAINA | F46: P
B47: 4 | C47: T4 | E47: AL FURQAN | F47: L
...

Sheet PROFIL LINTAS
A1: PROFIL KELAS DARI HASIL ANALISA ANGKET KEBUTUHAN PESERTA DIDIK
A2: SMA NEGERI 1 TAPAKTUAN
C3: KELAS : | D3: Cut Nyak dien, Teuku Umar, Cut Meutia, Laksamana malahayati, TR Angkasa, Panglima RL, T.Cut Ali
C4: TAHUN : | D4: 2026 / 2027
A6: NO | B6: BUTIR ANGKET KEBUTUHAN PESERTA DIDIK | C6: JML RESPONDEN | D6: PROSENTASE | E6: PRIORITAS | F6: WAKTU LAYANAN (BULAN) | G6: BIDANG LAYANAN
G7: PRIBADI | H7: SOSIAL | I7: BELAJAR | J7: KARIR
A8: 1 | B8: =AKPD!H6 -> Saya merasa belum disiplin dalam beribadah pada Tuhan YME | C8: ='Analisis 2'!D3 -> 0 | D8: ='Analisis 2'!E3 -> #DIV/0! | E8: ='Analisis 2'!F3 -> #DIV/0! | F8: Agustus | G8: =ENTRI!G294 -> #DIV/0! | H8: =ENTRI!AA294 -> #DIV/0! | I8: =ENTRI!AL294 -> #DIV/0! | J8: =ENTRI!AY294 -> #DIV/0!
A9: 7 | B9: =AKPD!H12 -> Saya belum memahami potensi diri | C9: ='Analisis 2'!D9 -> 0 | D9: ='Analisis 2'!E9 -> #DIV/0! | E9: ='Analisis 2'!F9 -> #DIV/0! | F9: September | G9: =ENTRI!G293 -> 0 | H9: =ENTRI!AA293 -> 0 | I9: =ENTRI!AL293 -> 0 | J9: =ENTRI!AY293 -> 0
A10: 10 | B10: =AKPD!H15 -> Saya kurang memiliki rasa percaya diri | C10: ='Analisis 2'!D12 -> 0 | D10: ='Analisis 2'!E12 -> #DIV/0! | E10: ='Analisis 2'!F12 -> #DIV/0! | F10: September
A11: 14 | B11: =AKPD!H19 -> Saya kesulitan mengatur waktu belajar dan bermain | C11: ='Analisis 2'!D16 -> 0 | D11: ='Analisis 2'!E16 -> #DIV/0! | E11: ='Analisis 2'!F16 -> #DIV/0! | F11: Oktober
A12: 20 | B12: =AKPD!H25 -> Saya belum memahami tentang norma/cara membangun berkeluarga | C12: ='Analisis 2'!D22 -> 0 | D12: ='Analisis 2'!E22 -> #DIV/0! | E12: ='Analisis 2'!F22 -> #DIV/0! | F12: November
A13: 2 | B13: =AKPD!H7 -> Saya kadang-kadang berperilaku dan bertutur kata tidak jujur | C13: ='Analisis 2'!D4 -> 0 | D13: ='Analisis 2'!E4 -> #DIV/0! | E13: ='Analisis 2'!F4 -> #DIV/0! | F13: Oktober
A14: 6 | B14: =AKPD!H11 -> Saya belum tahu cara mengenal dan memahami diri sendiri | C14: ='Analisis 2'!D8 -> 0 | D14: ='Analisis 2'!E8 -> #DIV/0! | E14: ='Analisis 2'!F8 -> #DIV/0! | F14: November
A15: 18 | B15: =AKPD!H23 -> Saya belum bisa menjadi pribadi yang mandiri | C15: ='Analisis 2'!D20 -> 0 | D15: ='Analisis 2'!E20 -> #DIV/0! | E15: ='Analisis 2'!F20 -> #DIV/0! | F15: November
A16: 9 | B16: =AKPD!H14 -> Saya belum mengenal tentang macam-macam kepribadian | C16: ='Analisis 2'!D11 -> 0 | D16: ='Analisis 2'!E11 -> #DIV/0! | E16: ='Analisis 2'!F11 -> #DIV/0! | F16: Februari
A17: 23 | B17: =AKPD!H28 -> Saya masih sedikit mengetahui tentang dampak atau bahaya rokok | C17: ='Analisis 2'!D25 -> 0 | D17: ='Analisis 2'!E25 -> #DIV/0! | E17: ='Analisis 2'!F25 -> #DIV/0! | F17: Januari
A18: 21 | B18: =AKPD!H26 -> Saya belum banyak mengenal lingkungan sekolah baru | C18: ='Analisis 2'!D23 -> 0 | D18: ='Analisis 2'!E23 -> #DIV/0! | E18: ='Analisis 2'!F23 -> #DIV/0! | F18: Juli
A19: 5 | B19: =AKPD!H10 -> Saya belum paham tentang sikap dan perilaku asertif | C19: ='Analisis 2'!D7 -> 0 | D19: ='Analisis 2'!E7 -> #DIV/0! | E19: ='Analisis 2'!F7 -> #DIV/0! | F19: Januari
A20: 47 | B20: =AKPD!H52 -> Saya merasa bingung memilih kegiatan esktrakurikuler di sekolah | C20: ='Analisis 2'!D49 -> 0 | D20: ='Analisis 2'!E49 -> #DIV/0! | E20: ='Analisis 2'!F49 -> #DIV/0! | F20: Juli
A21: 31 | B21: =AKPD!H36 -> Saya kurang suka berkomunikasi dengan teman lawan jenis | C21: ='Analisis 2'!D33 -> 0 | D21: ='Analisis 2'!E33 -> #DIV/0! | E21: ='Analisis 2'!F33 -> #DIV/0! | F21: Februari
A22: 12 | B22: =AKPD!H17 -> Saya belum tahu ciri-ciri/sifat/prilaku pribadi yang berkarakter | C22: ='Analisis 2'!D14 -> 0 | D22: ='Analisis 2'!E14 -> #DIV/0! | E22: ='Analisis 2'!F14 -> #DIV/0! | F22: Februari
A23: 22 | B23: =AKPD!H27 -> Saya belum memahami tentang kenakalan remaja | C23: ='Analisis 2'!D24 -> 0 | D23: ='Analisis 2'!E24 -> #DIV/0! | E23: ='Analisis 2'!F24 -> #DIV/0! | F23: Februari
A24: 41 | B24: =AKPD!H46 -> Saya merasa malas belajar dan kalau belajar sering ngantuk | C24: ='Analisis 2'!D43 -> 0 | D24: ='Analisis 2'!E43 -> #DIV/0! | E24: ='Analisis 2'!F43 -> #DIV/0! | F24: Desember
A25: 8 | B25: =AKPD!H13 -> Saya belum tahu perubahan dan permasalahan yang terjadi pada masa remaja | C25: ='Analisis 2'!D10 -> 0 | D25: ='Analisis 2'!E10 -> #DIV/0! | E25: ='Analisis 2'!F10 -> #DIV/0! | F25: Agustus
A26: 11 | B26: =AKPD!H16 -> Saya kadang kurang menjaga kesehatan diri | C26: ='Analisis 2'!D13 -> 0 | D26: ='Analisis 2'!E13 -> #DIV/0! | E26: ='Analisis 2'!F13 -> #DIV/0! | F26: Maret
A27: 24 | B27: =AKPD!H29 -> Saya belum banyak mengenal tentang perilaku sosial yang bertanggung jawab | C27: ='Analisis 2'!D26 -> 0 | D27: ='Analisis 2'!E26 -> #DIV/0! | E27: ='Analisis 2'!F26 -> #DIV/0! | F27: Maret
A28: 28 | B28: =AKPD!H33 -> Saya kurang memahami dampak dari media sosial | C28: ='Analisis 2'!D30 -> 0 | D28: ='Analisis 2'!E30 -> #DIV/0! | E28: ='Analisis 2'!F30 -> #DIV/0! | F28: Maret
A29: 35 | B29: =AKPD!H40 -> Orang tua saya tidak peduli dengan kegiatan belajar saya | C29: ='Analisis 2'!D37 -> 0 | D29: ='Analisis 2'!E37 -> #DIV/0! | E29: ='Analisis 2'!F37 -> #DIV/0! | F29: Agustus
A30: 17 | B30: =AKPD!H22 -> Saya mempunyai masalah dengan anggota keluarga di rumah | C30: ='Analisis 2'!D19 -> 0 | D30: ='Analisis 2'!E19 -> #DIV/0! | E30: ='Analisis 2'!F19 -> #DIV/0! | F30: Agustus
A31: 29 | B31: =AKPD!H34 -> Saya jarang bermain/berteman di lingkungan tempat saya tinggal | C31: ='Analisis 2'!D31 -> 0 | D31: ='Analisis 2'!E31 -> #DIV/0! | E31: ='Analisis 2'!F31 -> #DIV/0! | F31: Februari
A32: 25 | B32: =AKPD!H30 -> Saya belum tahu tentang bullying dan cara mensikapinya | C32: ='Analisis 2'!D27 -> 0 | D32: ='Analisis 2'!E27 -> #DIV/0! | E32: ='Analisis 2'!F27 -> #DIV/0! | F32: Oktober
A33: 40 | B33: =AKPD!H45 -> Saya belum tahu tentang struktur kurikulum yang ada di sekolah | C33: ='Analisis 2'!D42 -> 0 | D33: ='Analisis 2'!E42 -> #DIV/0! | E33: ='Analisis 2'!F42 -> #DIV/0! | F33: Juli
A34: 45 | B34: =AKPD!H50 -> Saya belum tahu cara memperoleh bantuan pendidikan (beasiswa) | C34: ='Analisis 2'!D47 -> 0 | D34: ='Analisis 2'!E47 -> #DIV/0! | E34: ='Analisis 2'!F47 -> #DIV/0! | F34: Januari
A35: 3 | B35: =AKPD!H8 -> Saya kadang-kadang masih suka menyontek pada waktu tes | C35: ='Analisis 2'!D5 -> 0 | D35: ='Analisis 2'!E5 -> #DIV/0! | E35: ='Analisis 2'!F5 -> #DIV/0! | F35: November
A36: 39 | B36: =AKPD!H44 -> Saya belajarnya jika akan ada tes atau ujian saja | C36: ='Analisis 2'!D41 -> 0 | D36: ='Analisis 2'!E41 -> #DIV/0! | E36: ='Analisis 2'!F41 -> #DIV/0! | F36: Agustus
A37: 19 | B37: =AKPD!H24 -> Saya sedang memiliki konflik pribadi | C37: ='Analisis 2'!D21 -> 0 | D37: ='Analisis 2'!E21 -> #DIV/0! | E37: ='Analisis 2'!F21 -> #DIV/0! | F37: September
A38: 48 | B38: =AKPD!H53 -> Saya merasa belum mantap pada pilihan peminatan yang diambil | C38: ='Analisis 2'!D50 -> 0 | D38: ='Analisis 2'!E50 -> #DIV/0! | E38: ='Analisis 2'!F50 -> #DIV/0! | F38: Maret
A39: 38 | B39: =AKPD!H43 -> Saya belum tahu cara memanfaatkan sumber belajar | C39: ='Analisis 2'!D40 -> 0 | D39: ='Analisis 2'!E40 -> #DIV/0! | E39: ='Analisis 2'!F40 -> #DIV/0!
A40: 37 | B40: =AKPD!H42 -> Saya merasa kesulitan dalam memahami pelajaran tertentu | C40: ='Analisis 2'!D39 -> 0 | D40: ='Analisis 2'!E39 -> #DIV/0! | E40: ='Analisis 2'!F39 -> #DIV/0!
A41: 16 | B41: =AKPD!H21 -> Saya merasa tidak betah tinggal di rumah sendiri | C41: ='Analisis 2'!D18 -> 0 | D41: ='Analisis 2'!E18 -> #DIV/0! | E41: ='Analisis 2'!F18 -> #DIV/0! | F41: Agustus
...

Sheet PROFIL TIAP KLS
A1: PROFIL TIAP KELAS DARI HASIL ANALISA ANGKET KEBUTUHAN PESERTA DIDIK
A2: SMA NEGERI 1 TAPAKTUAN
C3: KELAS : | D3: Cut Nyak dien, Teuku Umar, Cut Meutia, Laksamana malahayati, TR Angkasa, Panglima RL, T.Cut Ali
C4: TAHUN : | D4: =HOME!G9 -> 2019/2020
A6: NO | B6: BUTIR ANGKET KEBUTUHAN PESERTA DIDIK | C6: HASIL JAWABAN TIAP KELAS
C7: =ENTRI!A10 -> Cut Nyak Dien | E7: =ENTRI!#REF! -> #REF! | G7: =ENTRI!A250 -> 0 | I7: =ENTRI!A260 -> 0 | K7: =ENTRI!A270 -> 0 | M7: =ENTRI!A280 -> 0
C8: JML | D8: % | E8: JML | F8: % | G8: JML | H8: % | I8: JML | J8: % | K8: JML | L8: % | M8: JML | N8: %
A9: 1 | B9: =AKPD!H6 -> Saya merasa belum disiplin dalam beribadah pada Tuhan YME | C9: =ENTRI!$G$297 -> 0 | D9: =C9/50 -> 0 | E9: =ENTRI!$G$298 -> #REF! | F9: =E9/50 -> #REF! | G9: =ENTRI!$G$299 -> 0 | H9: =G9/50 -> 0 | I9: =ENTRI!$G$300 -> 0 | J9: =I9/50 -> 0 | K9: =ENTRI!$G$301 -> 0 | L9: =K9/50 -> 0 | M9: =ENTRI!$G$302 -> 0 | N9: =M9/50 -> 0
A10: 2 | B10: =AKPD!H7 -> Saya kadang-kadang berperilaku dan bertutur kata tidak jujur | C10: =ENTRI!$H$297 -> 0 | D10: =C10/50 -> 0 | E10: =ENTRI!$H$298 -> #REF! | F10: =E10/50 -> #REF! | G10: =ENTRI!$H$299 -> 0 | H10: =G10/50 -> 0 | I10: =ENTRI!$H$300 -> 0 | J10: =I10/50 -> 0 | K10: =ENTRI!$H$301 -> 0 | L10: =K10/50 -> 0 | M10: =ENTRI!$H$302 -> 0 | N10: =M10/50 -> 0
A11: 3 | B11: =AKPD!H8 -> Saya kadang-kadang masih suka menyontek pada waktu tes | C11: =ENTRI!$I$297 -> 0 | D11: =C11/50 -> 0 | E11: =ENTRI!$I$298 -> #REF! | F11: =E11/50 -> #REF! | G11: =ENTRI!$I$299 -> 0 | H11: =G11/50 -> 0 | I11: =ENTRI!$I$300 -> 0 | J11: =I11/50 -> 0 | K11: =ENTRI!$I$301 -> 0 | L11: =K11/50 -> 0 | M11: =ENTRI!$I$302 -> 0 | N11: =M11/50 -> 0
A12: 4 | B12: =AKPD!H9 -> Saya merasa belum bisa mengendalikan emosi dengan baik | C12: =ENTRI!$J$297 -> 0 | D12: =C12/50 -> 0 | E12: =ENTRI!$J$298 -> #REF! | F12: =E12/50 -> #REF! | G12: =ENTRI!$J$299 -> 0 | H12: =G12/50 -> 0 | I12: =ENTRI!$J$300 -> 0 | J12: =I12/50 -> 0 | K12: =ENTRI!$J$301 -> 0 | L12: =K12/50 -> 0 | M12: =ENTRI!$J$302 -> 0 | N12: =M12/50 -> 0
A13: 5 | B13: =AKPD!H10 -> Saya belum paham tentang sikap dan perilaku asertif | C13: =ENTRI!$K$297 -> 0 | D13: =C13/50 -> 0 | E13: =ENTRI!$K$298 -> #REF! | F13: =E13/50 -> #REF! | G13: =ENTRI!$K$299 -> 0 | H13: =G13/50 -> 0 | I13: =ENTRI!$K$300 -> 0 | J13: =I13/50 -> 0 | K13: =ENTRI!$K$301 -> 0 | L13: =K13/50 -> 0 | M13: =ENTRI!$K$302 -> 0 | N13: =M13/50 -> 0
A14: 6 | B14: =AKPD!H11 -> Saya belum tahu cara mengenal dan memahami diri sendiri | C14: =ENTRI!$L$297 -> 0 | D14: =C14/50 -> 0 | E14: =ENTRI!$L$298 -> #REF! | F14: =E14/50 -> #REF! | G14: =ENTRI!$L$299 -> 0 | H14: =G14/50 -> 0 | I14: =ENTRI!$L$300 -> 0 | J14: =I14/50 -> 0 | K14: =ENTRI!$L$301 -> 0 | L14: =K14/50 -> 0 | M14: =ENTRI!$L$302 -> 0 | N14: =M14/50 -> 0
A15: 7 | B15: =AKPD!H12 -> Saya belum memahami potensi diri | C15: =ENTRI!$M$297 -> 0 | D15: =C15/50 -> 0 | E15: =ENTRI!$M$298 -> #REF! | F15: =E15/50 -> #REF! | G15: =ENTRI!$M$299 -> 0 | H15: =G15/50 -> 0 | I15: =ENTRI!$M$300 -> 0 | J15: =I15/50 -> 0 | K15: =ENTRI!$M$301 -> 0 | L15: =K15/50 -> 0 | M15: =ENTRI!$M$302 -> 0 | N15: =M15/50 -> 0
A16: 8 | B16: =AKPD!H13 -> Saya belum tahu perubahan dan permasalahan yang terjadi pada masa remaja | C16: =ENTRI!$N$297 -> 0 | D16: =C16/50 -> 0 | E16: =ENTRI!$N$298 -> #REF! | F16: =E16/50 -> #REF! | G16: =ENTRI!$N$299 -> 0 | H16: =G16/50 -> 0 | I16: =ENTRI!$N$300 -> 0 | J16: =I16/50 -> 0 | K16: =ENTRI!$N$301 -> 0 | L16: =K16/50 -> 0 | M16: =ENTRI!$N$302 -> 0 | N16: =M16/50 -> 0
A17: 9 | B17: =AKPD!H14 -> Saya belum mengenal tentang macam-macam kepribadian | C17: =ENTRI!$O$297 -> 0 | D17: =C17/50 -> 0 | E17: =ENTRI!$O$298 -> #REF! | F17: =E17/50 -> #REF! | G17: =ENTRI!$O$299 -> 0 | H17: =G17/50 -> 0 | I17: =ENTRI!$O$300 -> 0 | J17: =I17/50 -> 0 | K17: =ENTRI!$O$301 -> 0 | L17: =K17/50 -> 0 | M17: =ENTRI!$O$302 -> 0 | N17: =M17/50 -> 0
A18: 10 | B18: =AKPD!H15 -> Saya kurang memiliki rasa percaya diri | C18: =ENTRI!$P$297 -> 0 | D18: =C18/50 -> 0 | E18: =ENTRI!$P$298 -> #REF! | F18: =E18/50 -> #REF! | G18: =ENTRI!$P$299 -> 0 | H18: =G18/50 -> 0 | I18: =ENTRI!$P$300 -> 0 | J18: =I18/50 -> 0 | K18: =ENTRI!$P$301 -> 0 | L18: =K18/50 -> 0 | M18: =ENTRI!$P$302 -> 0 | N18: =M18/50 -> 0
A19: 11 | B19: =AKPD!H16 -> Saya kadang kurang menjaga kesehatan diri | C19: =ENTRI!$Q$297 -> 0 | D19: =C19/50 -> 0 | E19: =ENTRI!$Q$298 -> #REF! | F19: =E19/50 -> #REF! | G19: =ENTRI!$Q$299 -> 0 | H19: =G19/50 -> 0 | I19: =ENTRI!$Q$300 -> 0 | J19: =I19/50 -> 0 | K19: =ENTRI!$Q$301 -> 0 | L19: =K19/50 -> 0 | M19: =ENTRI!$Q$302 -> 0 | N19: =M19/50 -> 0
A20: 12 | B20: =AKPD!H17 -> Saya belum tahu ciri-ciri/sifat/prilaku pribadi yang berkarakter | C20: =ENTRI!$R$297 -> 0 | D20: =C20/50 -> 0 | E20: =ENTRI!$R$298 -> #REF! | F20: =E20/50 -> #REF! | G20: =ENTRI!$R$299 -> 0 | H20: =G20/50 -> 0 | I20: =ENTRI!$R$300 -> 0 | J20: =I20/50 -> 0 | K20: =ENTRI!$R$301 -> 0 | L20: =K20/50 -> 0 | M20: =ENTRI!$R$302 -> 0 | N20: =M20/50 -> 0
A21: 13 | B21: =AKPD!H18 -> Saya merasa kurang memilki tanggung jawab pada diri sendiri | C21: =ENTRI!$S$297 -> 0 | D21: =C21/50 -> 0 | E21: =ENTRI!$S$298 -> #REF! | F21: =E21/50 -> #REF! | G21: =ENTRI!$S$299 -> 0 | H21: =G21/50 -> 0 | I21: =ENTRI!$S$300 -> 0 | J21: =I21/50 -> 0 | K21: =ENTRI!$S$301 -> 0 | L21: =K21/50 -> 0 | M21: =ENTRI!$S$302 -> 0 | N21: =M21/50 -> 0
A22: 14 | B22: =AKPD!H19 -> Saya kesulitan mengatur waktu belajar dan bermain | C22: =ENTRI!$T$297 -> 0 | D22: =C22/50 -> 0 | E22: =ENTRI!$T$298 -> #REF! | F22: =E22/50 -> #REF! | G22: =ENTRI!$T$299 -> 0 | H22: =G22/50 -> 0 | I22: =ENTRI!$T$300 -> 0 | J22: =I22/50 -> 0 | K22: =ENTRI!$T$301 -> 0 | L22: =K22/50 -> 0 | M22: =ENTRI!$T$302 -> 0 | N22: =M22/50 -> 0
A23: 15 | B23: =AKPD!H20 -> Kondisi orang tua saya sedang tidak harmonis | C23: =ENTRI!$U$297 -> 0 | D23: =C23/50 -> 0 | E23: =ENTRI!$U$298 -> #REF! | F23: =E23/50 -> #REF! | G23: =ENTRI!$U$299 -> 0 | H23: =G23/50 -> 0 | I23: =ENTRI!$U$300 -> 0 | J23: =I23/50 -> 0 | K23: =ENTRI!$U$301 -> 0 | L23: =K23/50 -> 0 | M23: =ENTRI!$U$302 -> 0 | N23: =M23/50 -> 0
A24: 16 | B24: =AKPD!H21 -> Saya merasa tidak betah tinggal di rumah sendiri | C24: =ENTRI!$V$297 -> 0 | D24: =C24/50 -> 0 | E24: =ENTRI!$V$298 -> #REF! | F24: =E24/50 -> #REF! | G24: =ENTRI!$V$299 -> 0 | H24: =G24/50 -> 0 | I24: =ENTRI!$V$300 -> 0 | J24: =I24/50 -> 0 | K24: =ENTRI!$V$301 -> 0 | L24: =K24/50 -> 0 | M24: =ENTRI!$V$302 -> 0 | N24: =M24/50 -> 0
A25: 17 | B25: =AKPD!H22 -> Saya mempunyai masalah dengan anggota keluarga di rumah | C25: =ENTRI!$W$297 -> 0 | D25: =C25/50 -> 0 | E25: =ENTRI!$W$298 -> #REF! | F25: =E25/50 -> #REF! | G25: =ENTRI!$W$299 -> 0 | H25: =G25/50 -> 0 | I25: =ENTRI!$W$300 -> 0 | J25: =I25/50 -> 0 | K25: =ENTRI!$W$301 -> 0 | L25: =K25/50 -> 0 | M25: =ENTRI!$W$302 -> 0 | N25: =M25/50 -> 0
A26: 18 | B26: =AKPD!H23 -> Saya belum bisa menjadi pribadi yang mandiri | C26: =ENTRI!$X$297 -> 0 | D26: =C26/50 -> 0 | E26: =ENTRI!$X$298 -> #REF! | F26: =E26/50 -> #REF! | G26: =ENTRI!$X$299 -> 0 | H26: =G26/50 -> 0 | I26: =ENTRI!$X$300 -> 0 | J26: =I26/50 -> 0 | K26: =ENTRI!$X$301 -> 0 | L26: =K26/50 -> 0 | M26: =ENTRI!$X$302 -> 0 | N26: =M26/50 -> 0
A27: 19 | B27: =AKPD!H24 -> Saya sedang memiliki konflik pribadi | C27: =ENTRI!$Y$297 -> 0 | D27: =C27/50 -> 0 | E27: =ENTRI!$Y$298 -> #REF! | F27: =E27/50 -> #REF! | G27: =ENTRI!$Y$299 -> 0 | H27: =G27/50 -> 0 | I27: =ENTRI!$Y$300 -> 0 | J27: =I27/50 -> 0 | K27: =ENTRI!$Y$301 -> 0 | L27: =K27/50 -> 0 | M27: =ENTRI!$Y$302 -> 0 | N27: =M27/50 -> 0
A28: 20 | B28: =AKPD!H25 -> Saya belum memahami tentang norma/cara membangun berkeluarga | C28: =ENTRI!$Z$297 -> 0 | D28: =C28/50 -> 0 | E28: =ENTRI!$Z$298 -> #REF! | F28: =E28/50 -> #REF! | G28: =ENTRI!$Z$299 -> 0 | H28: =G28/50 -> 0 | I28: =ENTRI!$Z$300 -> 0 | J28: =I28/50 -> 0 | K28: =ENTRI!$Z$301 -> 0 | L28: =K28/50 -> 0 | M28: =ENTRI!$Z$302 -> 0 | N28: =M28/50 -> 0
A29: 21 | B29: =AKPD!H26 -> Saya belum banyak mengenal lingkungan sekolah baru | C29: =ENTRI!$AA$297 -> 0 | D29: =C29/50 -> 0 | E29: =ENTRI!$AA$298 -> #REF! | F29: =E29/50 -> #REF! | G29: =ENTRI!$AA$299 -> 0 | H29: =G29/50 -> 0 | I29: =ENTRI!$AA$300 -> 0 | J29: =I29/50 -> 0 | K29: =ENTRI!$AA$301 -> 0 | L29: =K29/50 -> 0 | M29: =ENTRI!$AA$302 -> 0 | N29: =M29/50 -> 0
A30: 22 | B30: =AKPD!H27 -> Saya belum memahami tentang kenakalan remaja | C30: =ENTRI!$AB$297 -> 0 | D30: =C30/50 -> 0 | E30: =ENTRI!$AB$298 -> #REF! | F30: =E30/50 -> #REF! | G30: =ENTRI!$AB$299 -> 0 | H30: =G30/50 -> 0 | I30: =ENTRI!$AB$300 -> 0 | J30: =I30/50 -> 0 | K30: =ENTRI!$AB$301 -> 0 | L30: =K30/50 -> 0 | M30: =ENTRI!$AB$302 -> 0 | N30: =M30/50 -> 0
A31: 23 | B31: =AKPD!H28 -> Saya masih sedikit mengetahui tentang dampak atau bahaya rokok | C31: =ENTRI!$AC$297 -> 0 | D31: =C31/50 -> 0 | E31: =ENTRI!$AC$298 -> #REF! | F31: =E31/50 -> #REF! | G31: =ENTRI!$AC$299 -> 0 | H31: =G31/50 -> 0 | I31: =ENTRI!$AC$300 -> 0 | J31: =I31/50 -> 0 | K31: =ENTRI!$AC$301 -> 0 | L31: =K31/50 -> 0 | M31: =ENTRI!$AC$302 -> 0 | N31: =M31/50 -> 0
A32: 24 | B32: =AKPD!H29 -> Saya belum banyak mengenal tentang perilaku sosial yang bertanggung jawab | C32: =ENTRI!$AD$297 -> 0 | D32: =C32/50 -> 0 | E32: =ENTRI!$AD$298 -> #REF! | F32: =E32/50 -> #REF! | G32: =ENTRI!$AD$299 -> 0 | H32: =G32/50 -> 0 | I32: =ENTRI!$AD$300 -> 0 | J32: =I32/50 -> 0 | K32: =ENTRI!$AD$301 -> 0 | L32: =K32/50 -> 0 | M32: =ENTRI!$AD$302 -> 0 | N32: =M32/50 -> 0
A33: 25 | B33: =AKPD!H30 -> Saya belum tahu tentang bullying dan cara mensikapinya | C33: =ENTRI!$AE$297 -> 0 | D33: =C33/50 -> 0 | E33: =ENTRI!$AE$298 -> #REF! | F33: =E33/50 -> #REF! | G33: =ENTRI!$AE$299 -> 0 | H33: =G33/50 -> 0 | I33: =ENTRI!$AE$300 -> 0 | J33: =I33/50 -> 0 | K33: =ENTRI!$AE$301 -> 0 | L33: =K33/50 -> 0 | M33: =ENTRI!$AE$302 -> 0 | N33: =M33/50 -> 0
A34: 26 | B34: =AKPD!H31 -> Saya sukar bergaul dengan teman-teman di sekolah | C34: =ENTRI!$AF$297 -> 0 | D34: =C34/50 -> 0 | E34: =ENTRI!$AF$298 -> #REF! | F34: =E34/50 -> #REF! | G34: =ENTRI!$AF$299 -> 0 | H34: =G34/50 -> 0 | I34: =ENTRI!$AF$300 -> 0 | J34: =I34/50 -> 0 | K34: =ENTRI!$AF$301 -> 0 | L34: =K34/50 -> 0 | M34: =ENTRI!$AF$302 -> 0 | N34: =M34/50 -> 0
A35: 27 | B35: =AKPD!H32 -> Sering saya dianggap tidak sopan pada orang lain | C35: =ENTRI!$AG$297 -> 0 | D35: =C35/50 -> 0 | E35: =ENTRI!$AG$298 -> #REF! | F35: =E35/50 -> #REF! | G35: =ENTRI!$AG$299 -> 0 | H35: =G35/50 -> 0 | I35: =ENTRI!$AG$300 -> 0 | J35: =I35/50 -> 0 | K35: =ENTRI!$AG$301 -> 0 | L35: =K35/50 -> 0 | M35: =ENTRI!$AG$302 -> 0 | N35: =M35/50 -> 0
A36: 28 | B36: =AKPD!H33 -> Saya kurang memahami dampak dari media sosial | C36: =ENTRI!$AH$297 -> 0 | D36: =C36/50 -> 0 | E36: =ENTRI!$AH$298 -> #REF! | F36: =E36/50 -> #REF! | G36: =ENTRI!$AH$299 -> 0 | H36: =G36/50 -> 0 | I36: =ENTRI!$AH$300 -> 0 | J36: =I36/50 -> 0 | K36: =ENTRI!$AH$301 -> 0 | L36: =K36/50 -> 0 | M36: =ENTRI!$AH$302 -> 0 | N36: =M36/50 -> 0
A37: 29 | B37: =AKPD!H34 -> Saya jarang bermain/berteman di lingkungan tempat saya tinggal | C37: =ENTRI!$AI$297 -> 0 | D37: =C37/50 -> 0 | E37: =ENTRI!$AI$298 -> #REF! | F37: =E37/50 -> #REF! | G37: =ENTRI!$AI$299 -> 0 | H37: =G37/50 -> 0 | I37: =ENTRI!$AI$300 -> 0 | J37: =I37/50 -> 0 | K37: =ENTRI!$AI$301 -> 0 | L37: =K37/50 -> 0 | M37: =ENTRI!$AI$302 -> 0 | N37: =M37/50 -> 0
A38: 30 | B38: =AKPD!H35 -> Saya belum banyak teman atau sahabat | C38: =ENTRI!$AJ$297 -> 0 | D38: =C38/50 -> 0 | E38: =ENTRI!$AJ$298 -> #REF! | F38: =E38/50 -> #REF! | G38: =ENTRI!$AJ$299 -> 0 | H38: =G38/50 -> 0 | I38: =ENTRI!$AJ$300 -> 0 | J38: =I38/50 -> 0 | K38: =ENTRI!$AJ$301 -> 0 | L38: =K38/50 -> 0 | M38: =ENTRI!$AJ$302 -> 0 | N38: =M38/50 -> 0
A39: 31 | B39: =AKPD!H36 -> Saya kurang suka berkomunikasi dengan teman lawan jenis | C39: =ENTRI!$AK$297 -> 0 | D39: =C39/50 -> 0 | E39: =ENTRI!$AK$298 -> #REF! | F39: =E39/50 -> #REF! | G39: =ENTRI!$AK$299 -> 0 | H39: =G39/50 -> 0 | I39: =ENTRI!$AK$300 -> 0 | J39: =I39/50 -> 0 | K39: =ENTRI!$AK$301 -> 0 | L39: =K39/50 -> 0 | M39: =ENTRI!$AK$302 -> 0 | N39: =M39/50 -> 0
A40: 32 | B40: =AKPD!H37 -> Saya belum tahu cara belajar yang baik dan benar di SMA/MA | C40: =ENTRI!$AL$297 -> 0 | D40: =C40/50 -> 0 | E40: =ENTRI!$AL$298 -> #REF! | F40: =E40/50 -> #REF! | G40: =ENTRI!$AL$299 -> 0 | H40: =G40/50 -> 0 | I40: =ENTRI!$AL$300 -> 0 | J40: =I40/50 -> 0 | K40: =ENTRI!$AL$301 -> 0 | L40: =K40/50 -> 0 | M40: =ENTRI!$AL$302 -> 0 | N40: =M40/50 -> 0
A41: 33 | B41: =AKPD!H38 -> Saya belum tahu cara meraih prestasi di sekolah | C41: =ENTRI!$AM$297 -> 0 | D41: =C41/50 -> 0 | E41: =ENTRI!$AM$298 -> #REF! | F41: =E41/50 -> #REF! | G41: =ENTRI!$AM$299 -> 0 | H41: =G41/50 -> 0 | I41: =ENTRI!$AM$300 -> 0 | J41: =I41/50 -> 0 | K41: =ENTRI!$AM$301 -> 0 | L41: =K41/50 -> 0 | M41: =ENTRI!$AM$302 -> 0 | N41: =M41/50 -> 0
...

Sheet PROFIL KONSELI
A1: PROFIL KONSELI DARI HASIL ANGKET KEBUTUHAN PESERTA DIDIK
A2: SMA NEGERI 1 TAPAKTUAN
C3: KELAS : | D3: Cut Nyak dien, Teuku Umar, Cut Meutia, Laksamana malahayati, TR Angkasa, Panglima RL, T.Cut Ali
C4: TAHUN : | D4: 2026/ 2027
A5: NOMOR | B5: NAMA | D5: NAMA SISWA | E5: L/P | F5: JUMLAH | G5: %
A7: Urut | B7: Kode | C7: Induk
A8: =ENTRI!B10 -> 1 | B8: =ENTRI!C10 -> A1 | C8: =ENTRI!D10 -> 0 | D8: =ENTRI!E10 -> ARKAN AL-MUBARRAQ | E8: =ENTRI!F10 -> L | F8: =ENTRI!BE10 -> 0 | G8: =F8/50 -> 0
A9: =ENTRI!B11 -> 2 | B9: =ENTRI!C11 -> A2 | C9: =ENTRI!D11 -> X | D9: =ENTRI!E11 -> AKSYA AKILIA | E9: =ENTRI!F11 -> P | F9: =ENTRI!BE11 -> 0 | G9: =F9/50 -> 0
A10: =ENTRI!B12 -> 3 | B10: =ENTRI!C12 -> A3 | C10: =ENTRI!D12 -> 0 | D10: =ENTRI!E12 -> AMIRATUL SYAKIRA | E10: =ENTRI!F12 -> P | F10: =ENTRI!BE12 -> 0 | G10: =F10/50 -> 0
A11: =ENTRI!B13 -> 4 | B11: =ENTRI!C13 -> A4 | C11: =ENTRI!D13 -> 0 | D11: =ENTRI!E13 -> ANGGI DWI SAFIRA | E11: =ENTRI!F13 -> P | F11: =ENTRI!BE13 -> 0 | G11: =F11/50 -> 0
A12: =ENTRI!B14 -> 5 | B12: =ENTRI!C14 -> A5 | C12: =ENTRI!D14 -> 0 | D12: =ENTRI!E14 -> ASYRAFI NURMAHMUDI | E12: =ENTRI!F14 -> L | F12: =ENTRI!BE14 -> 0 | G12: =F12/50 -> 0
A13: =ENTRI!B15 -> 6 | B13: =ENTRI!C15 -> A6 | C13: =ENTRI!D15 -> 0 | D13: =ENTRI!E15 -> ATHIYA SABRINA OKTI | E13: =ENTRI!F15 -> P | F13: =ENTRI!BE15 -> 0 | G13: =F13/50 -> 0
A14: =ENTRI!B16 -> 7 | B14: =ENTRI!C16 -> A7 | C14: =ENTRI!D16 -> 0 | D14: =ENTRI!E16 -> DAFFA ARIF HAIKAL | E14: =ENTRI!F16 -> L | F14: =ENTRI!BE16 -> 0 | G14: =F14/50 -> 0
A15: =ENTRI!B17 -> 8 | B15: =ENTRI!C17 -> A8 | C15: =ENTRI!D17 -> 0 | D15: =ENTRI!E17 -> DHABIT ALFAWAZI | E15: =ENTRI!F17 -> L | F15: =ENTRI!BE17 -> 0 | G15: =F15/50 -> 0
A16: =ENTRI!B18 -> 9 | B16: =ENTRI!C18 -> A9 | C16: =ENTRI!D18 -> 0 | D16: =ENTRI!E18 -> FARISYAA SALSABILLA | E16: =ENTRI!F18 -> P | F16: =ENTRI!BE18 -> 0 | G16: =F16/50 -> 0
A17: =ENTRI!B19 -> 10 | B17: =ENTRI!C19 -> A10 | C17: =ENTRI!D19 -> 0 | D17: =ENTRI!E19 -> FATHAN FIDIANSYAH | E17: =ENTRI!F19 -> L | F17: =ENTRI!BE19 -> 0 | G17: =F17/50 -> 0
A18: =ENTRI!B20 -> 11 | B18: =ENTRI!C20 -> A11 | C18: =ENTRI!D20 -> 0 | D18: =ENTRI!E20 -> FATHIA AZZAHIRA | E18: =ENTRI!F20 -> L | F18: =ENTRI!BE20 -> 0 | G18: =F18/50 -> 0
A19: =ENTRI!B21 -> 12 | B19: =ENTRI!C21 -> A12 | C19: =ENTRI!D21 -> 0 | D19: =ENTRI!E21 -> HAFIZ AL HADI | E19: =ENTRI!F21 -> L | F19: =ENTRI!BE21 -> 0 | G19: =F19/50 -> 0
... A26: =ENTRI!B28 -> 19 | B26: =ENTRI!C28 -> A19 | C26: =ENTRI!D28 -> 0 | D26: =ENTRI!E28 -> MUHAMMAD DAFFA PRABUDI | E26: =ENTRI!F28 -> L | F26: =ENTRI!BE28 -> 0 | G26: =F26/50 -> 0
A27: =ENTRI!B38 -> 29 | B27: =ENTRI!C38 -> A29 | C27: =ENTRI!D38 -> 0 | D27: =ENTRI!E38 -> TALITHA AMIRA SAKHI | E27: =ENTRI!F38 -> P | F27: =ENTRI!BE38 -> 0 | G27: =F27/50 -> 0
A28: =ENTRI!#REF! -> #REF! | B28: =ENTRI!#REF! -> #REF! | C28: =ENTRI!#REF! -> #REF! | D28: =ENTRI!#REF! -> #REF! | E28: =ENTRI!#REF! -> #REF! | F28: =ENTRI!#REF! -> #REF! | G28: =F28/50 -> #REF!
A29: =ENTRI!#REF! -> #REF! | B29: =ENTRI!#REF! -> #REF! | C29: =ENTRI!#REF! -> #REF! | D29: =ENTRI!#REF! -> #REF! | E29: =ENTRI!#REF! -> #REF! | F29: =ENTRI!#REF! -> #REF! | G29: =F29/50 -> #REF!
A30: =ENTRI!#REF! -> #REF! | B30: =ENTRI!#REF! -> #REF! | C30: =ENTRI!#REF! -> #REF! | D30: =ENTRI!#REF! -> #REF! | E30: =ENTRI!#REF! -> #REF! | F30: =ENTRI!#REF! -> #REF! | G30: =F30/50 -> #REF!
A31: =ENTRI!#REF! -> #REF! | B31: =ENTRI!#REF! -> #REF! | C31: =ENTRI!#REF! -> #REF! | D31: =ENTRI!#REF! -> #REF! | E31: =ENTRI!#REF! -> #REF! | F31: =ENTRI!#REF! -> #REF! | G31: =F31/50 -> #REF!
A32: =ENTRI!#REF! -> #REF! | B32: =ENTRI!#REF! -> #REF! | C32: =ENTRI!#REF! -> #REF! | D32: =ENTRI!#REF! -> #REF! | E32: =ENTRI!#REF! -> #REF! | F32: =ENTRI!#REF! -> #REF! | G32: =F32/50 -> #REF!
A33: =ENTRI!#REF! -> #REF! | B33: =ENTRI!#REF! -> #REF! | C33: =ENTRI!#REF! -> #REF! | D33: =ENTRI!#REF! -> #REF! | E33: =ENTRI!#REF! -> #REF! | F33: =ENTRI!#REF! -> #REF! | G33: =F33/50 -> #REF!
A34: =ENTRI!#REF! -> #REF! | B34: =ENTRI!#REF! -> #REF! | C34: =ENTRI!#REF! -> #REF! | D34: =ENTRI!#REF! -> #REF! | E34: =ENTRI!#REF! -> #REF! | F34: =ENTRI!#REF! -> #REF! | G34: =F34/50 -> #REF!
A35: =ENTRI!#REF! -> #REF! | B35: =ENTRI!#REF! -> #REF! | C35: =ENTRI!#REF! -> #REF! | D35: =ENTRI!#REF! -> #REF! | E35: =ENTRI!#REF! -> #REF! | F35: =ENTRI!#REF! -> #REF! | G35: =F35/50 -> #REF!
A36: =ENTRI!#REF! -> #REF! | B36: =ENTRI!#REF! -> #REF! | C36: =ENTRI!#REF! -> #REF! | D36: =ENTRI!#REF! -> #REF! | E36: =ENTRI!#REF! -> #REF! | F36: =ENTRI!#REF! -> #REF! | G36: =F36/50 -> #REF!
A37: =ENTRI!#REF! -> #REF! | B37: =ENTRI!#REF! -> #REF! | C37: =ENTRI!#REF! -> #REF! | D37: =ENTRI!#REF! -> #REF! | E37: =ENTRI!#REF! -> #REF! | F37: =ENTRI!#REF! -> #REF! | G37: =F37/50 -> #REF!
A38: =ENTRI!#REF! -> #REF! | B38: =ENTRI!#REF! -> #REF! | C38: =ENTRI!#REF! -> #REF! | D38: =ENTRI!#REF! -> #REF! | E38: =ENTRI!#REF! -> #REF! | F38: =ENTRI!#REF! -> #REF! | G38: =F38/50 -> #REF!
A39: =ENTRI!#REF! -> #REF! | B39: =ENTRI!#REF! -> #REF! | C39: =ENTRI!#REF! -> #REF! | D39: =ENTRI!#REF! -> #REF! | E39: =ENTRI!#REF! -> #REF! | F39: =ENTRI!#REF! -> #REF! | G39: =F39/50 -> #REF!
... A47: =ENTRI!#REF! -> #REF! | B47: =ENTRI!#REF! -> #REF! | C47: =ENTRI!#REF! -> #REF! | D47: =ENTRI!#REF! -> #REF! | E47: =ENTRI!#REF! -> #REF! | F47: =ENTRI!#REF! -> #REF! | G47: =F47/50 -> #REF!

Sheet DESKRIPSI KEBTH AKPD
A1: DESKRIPSI KEBUTUHAN PESERTA DIDIK/KONSELI
A2: SMA NEGERI 1 TAPAKTUAN
A3: KELAS | B3: Cut Nyak dien, Teuku Umar, Cut Meutia, Laksamana malahayati, TR Angkasa, Panglima RL, T.Cut Ali
A4: TAHUN | B4: 2026/ 2027
A5: A. DESKRIPSI KEBUTUHAN PESERTA DIDIK DARI HASIL ASESMEN AKPD
A7: BIDANG LAYANAN | B7: ASSESMEN KEBUTUHAN | C7: RUMUSAN KEBUTUHAN
A8: PRIBADI | B8: =AKPD!H6 -> Saya merasa belum disiplin dalam beribadah pada Tuhan YME | C8: =AKPD!J6 -> Kesadaran untuk beriman dan bertakwa pada Tuhan YME
B9: =AKPD!H7 -> Saya kadang-kadang berperilaku dan bertutur kata tidak jujur | C9: =AKPD!J7 -> Kebiasaan bersikap jujur
B10: =AKPD!H8 -> Saya kadang-kadang masih suka menyontek pada waktu tes | C10: =AKPD!J8 -> Kemampuan memiliki kebiasaan jujur dan tidak mencontek saat tes
B11: =AKPD!H9 -> Saya merasa belum bisa mengendalikan emosi dengan baik | C11: =AKPD!J9 -> Kemampuan mengelola emosi dengan baik
B12: =AKPD!H10 -> Saya belum paham tentang sikap dan perilaku asertif | C12: =AKPD!J10 -> Komunikasi yang jujur dan tetap menjaga perasaan
B13: =AKPD!H11 -> Saya belum tahu cara mengenal dan memahami diri sendiri | C13: =AKPD!J11 -> Melakukan pengenalan/pemahaman diri
B14: =AKPD!H12 -> Saya belum memahami potensi diri | C14: =AKPD!J12 -> Memahami potensi diri
B15: =AKPD!H13 -> Saya belum tahu perubahan dan permasalahan yang terjadi pada masa remaja | C15: =AKPD!J13 -> Masa perkembangan remaja dan permasalahannya
B16: =AKPD!H14 -> Saya belum mengenal tentang macam-macam kepribadian | C16: =AKPD!J14 -> Mengenal kepribadian yang dimiliki manusia
B17: =AKPD!H15 -> Saya kurang memiliki rasa percaya diri | C17: =AKPD!J15 -> Memiliki kepercayaan diri
B18: =AKPD!H16 -> Saya kadang kurang menjaga kesehatan diri | C18: =AKPD!J16 -> Kemampuan menjaga kesehatan dengan baik
B19: =AKPD!H17 -> Saya belum tahu ciri-ciri/sifat/prilaku pribadi yang berkarakter | C19: =AKPD!J17 -> Memiliki ciri-ciri/sifat pribadi yang berkarakter
B20: =AKPD!H18 -> Saya merasa kurang memilki tanggung jawab pada diri sendiri | C20: =AKPD!J18 -> Memiliki rasa tanggung jawab
... B27: =AKPD!H25 -> Saya belum memahami tentang norma/cara membangun berkeluarga | C27: =AKPD!J25 -> Memiliki pengetahuan tentang norma berkeluarga
A28: SOSIAL | B28: =AKPD!H26 -> Saya belum banyak mengenal lingkungan sekolah baru | C28: =AKPD!J26 -> Mengenal lingkungan sekolah baru
B29: =AKPD!H27 -> Saya belum memahami tentang kenakalan remaja | C29: =AKPD!J27 -> Memiliki pemahaman tentang kenakalan remaja
B30: =AKPD!H28 -> Saya masih sedikit mengetahui tentang dampak atau bahaya rokok | C30: =AKPD!J28 -> Memiliki pemahaman tentang bahaya rokok
B31: =AKPD!H29 -> Saya belum banyak mengenal tentang perilaku sosial yang bertanggung jawab | C31: =AKPD!J29 -> Memiliki perilaku sosial yang bertanggung jawab
B32: =AKPD!H30 -> Saya belum tahu tentang bullying dan cara mensikapinya | C32: =AKPD!J30 -> Memahami tentang bullying
B33: =AKPD!H31 -> Saya sukar bergaul dengan teman-teman di sekolah | C33: =AKPD!J31 -> Memiliki etika bergaul dengan teman sebaya
B34: =AKPD!H32 -> Sering saya dianggap tidak sopan pada orang lain | C34: =AKPD!J32 -> Memiliki sikap sopan santun pada orang lain
B35: =AKPD!H33 -> Saya kurang memahami dampak dari media sosial | C35: =AKPD!J33 -> Memiliki pemahaman tentang dampak dari media sosial
B36: =AKPD!H34 -> Saya jarang bermain/berteman di lingkungan tempat saya tinggal | C36: =AKPD!J34 -> Kesadaran sebagai makhluk sosial yang harus berinteraksi
B37: =AKPD!H35 -> Saya belum banyak teman atau sahabat | C37: =AKPD!J35 -> Kemudahan mencari dan disenangi teman
B38: =AKPD!H36 -> Saya kurang suka berkomunikasi dengan teman lawan jenis | C38: =AKPD!J36 -> Memiliki pemahaman tentang hubungan komunikasi dengan lawan jenis
A39: BELAJAR | B39: =AKPD!H37 -> Saya belum tahu cara belajar yang baik dan benar di SMA/MA | C39: =AKPD!J37 -> Memahami belajar yang benar di SMA/MA
B40: =AKPD!H38 -> Saya belum tahu cara meraih prestasi di sekolah | C40: =AKPD!J38 -> Memiliki motivasi untuk berprestasi
B41: =AKPD!H39 -> Saya belum paham tentang gaya belajar dan strategi yang sesuai dengannya | C41: =AKPD!J39 -> Menemukan cara belajar yang sesuai dengan gaya belajar
B42: =AKPD!H40 -> Orang tua saya tidak peduli dengan kegiatan belajar saya | C42: =AKPD!J40 -> Kepedulian orang tua pada kegiatan belajar
B43: =AKPD!H41 -> Saya masih sering menunda-nunda tugas sekolah/pekerjaan rumah (PR) | C43: =AKPD!J41 -> Melaksanakan Tugas Sekolah / PR tepat waktu
B44: =AKPD!H42 -> Saya merasa kesulitan dalam memahami pelajaran tertentu | C44: =AKPD!J42 -> Mudah memahami pelajaran
B45: =AKPD!H43 -> Saya belum tahu cara memanfaatkan sumber belajar | C45: =AKPD!J43 -> Mampu memanfaatkan sumber belajar
B46: =AKPD!H44 -> Saya belajarnya jika akan ada tes atau ujian saja | C46: =AKPD!J44 -> Kesadaran belajar sesuai jadwal
B47: =AKPD!H45 -> Saya belum tahu tentang struktur kurikulum yang ada di sekolah | C47: =AKPD!J45 -> Memahami struktru kurikulum sekolah
...

Sheet DESKRIPSI KEB SARANA
A1: DESKRIPSI KEBUTUHAN SARANA DAN PRASARANA
A2: SMA NEGERI 1 TAPAKTUAN
A3: KELAS | B3: Cut Nyak dien, Teuku Umar, Cut Meutia, Laksamana malahayati, TR Angkasa, Panglima RL, T.Cut Ali
A4: TAHUN | B4: =HOME!G9 -> 2019/2020
A6: NO | B6: HASIL ASESMEN KEBUTUHAN | C6: RUMUSAN KEBUTUHAN DALAM BENTUK KEGIATAN
A7: 1 | B7: Ruang penyimpanan data yang rapih | C7: Membuat proposal pengadaan ruang penyimpanan data yang beserta almari kabinetnya
A8: 2 | B8: Instrumen BK yang standar | C8: Membuat proposal pengadaan instrument bk yang baku
A9: 3 | B9: Peralatan administrasi yang memadai | C9: Membuat proposal pengadaan komputer dan jaringan internet

Sheet Sheet1

Sheet RUMUSAN TUJUAN
A1: RUMUSAN TUJUAN PESERTA DIDIK
A2: SMA NEGERI 1 TAPAKTUAN
A3: KELAS | B3: Cut Nyak dien, Teuku Umar, Cut Meutia, Laksamana malahayati, TR Angkasa, Panglima RL, T.Cut Ali
A4: TAHUN | B4: =HOME!G9 -> 2019/2020
A6: BIDANG LAYANAN | B6: RUMUSAN KEBUTUHAN | C6: TUJUAN LAYANAN
A7: PRIBADI | B7: =AKPD!J6 -> Kesadaran untuk beriman dan bertakwa pada Tuhan YME | C7: =AKPD!L6 -> Peserta didik/konseli mampu memahami pentingnya iman dan taqwa pada Tuhan YME serta dapat hidup rukun, damai dan saling menghormati antar umat beragama
B8: =AKPD!J7 -> Kebiasaan bersikap jujur | C8: =AKPD!L7 -> Peserta didik/konseli dapat menjadi individu yang memiliki integritas diri serta dapat memancarkan kepercayaan diri dan sikap yang tidak mementingkan diri sendiri
B9: =AKPD!J8 -> Kemampuan memiliki kebiasaan jujur dan tidak mencontek saat tes | C9: =AKPD!L8 -> Peserta didik/konseli dapat menjadi individu yang memiliki sikap jujur dan tidak mencontek
B10: =AKPD!J9 -> Kemampuan mengelola emosi dengan baik | C10: =AKPD!L9 -> Peserta didik/konseli dapat menjadi individu yang mampu mengendalikan emosi
B11: =AKPD!J10 -> Komunikasi yang jujur dan tetap menjaga perasaan | C11: =AKPD!L10 -> Peserta didik/konseli mampu membedakan perilaku agresif dan asertif, menerapkan prilaku asertif dengan teman-temannya serta mengembangkan sikap asertif untuk menunjang prestasi
B12: =AKPD!J11 -> Melakukan pengenalan/pemahaman diri | C12: =AKPD!L11 -> Peserta didik/konseli dapat memahami dan menemukan unsur-unsur konsep diri serta memahami dan menerima kelebihan dan kekurangan secara wajar dan penuh rasa syukur
B13: =AKPD!J12 -> Memahami potensi diri | C13: =AKPD!L12 -> Peserta didik/konseli dapat mengenal dan menggali potensi diri serta berusaha mengoptimalkannya untuk meraih sukses masa depan
B14: =AKPD!J13 -> Masa perkembangan remaja dan permasalahannya | C14: =AKPD!L13 -> Peserta didik/konseli mampu mengenal ciri-ciri perkembangan remaja, dapat memahami tugas perkembangan, mengatasi masalah yang dihadapi dalam perkembangan
B15: =AKPD!J14 -> Mengenal kepribadian yang dimiliki manusia | C15: =AKPD!L14 -> Peserta didik/konseli mampu mengenal tipe-tipe kepribadian manusia, mengenal kepribadian yang dimiliki serta dapat tumbuh menjadi pribadi yang matang
B16: =AKPD!J15 -> Memiliki kepercayaan diri | C16: =AKPD!L15 -> Peserta didik/konseli dapat memahami ciri-ciri pribadi yang memiliki rasa percaya diri serta dapat meningkatkan percaya diri dengan baik untuk mencapai tujuan hidupnya
B17: =AKPD!J16 -> Kemampuan menjaga kesehatan dengan baik | C17: =AKPD!L16 -> Peserta didik/konseli mampu memahami pentingnya polah hidup bersih dan sehat serta dapat melakukan kebiasaan hidup bersih dan sehat sehari-hari yang dapat mempengaruhi kesehatan
B18: =AKPD!J17 -> Memiliki ciri-ciri/sifat pribadi yang berkarakter | C18: =AKPD!L17 -> Peserta didik/konseli mampu memiliki perasaan positif untuk membangun pribadi yang berkarakter yang akan berkontribusi pada peningkatan mutu karakter bangsa
B19: =AKPD!J18 -> Memiliki rasa tanggung jawab | C19: =AKPD!L18 -> Peserta didik/konseli mampu memiliki rasa tanggung jawab pada diri sendiri dan orang lain
... B26: =AKPD!J25 -> Memiliki pengetahuan tentang norma berkeluarga | C26: =AKPD!L25 -> Peserta didik/konseli memiliki pengetahuan tentang norma berkeluarga
A27: SOSIAL | B27: =AKPD!J26 -> Mengenal lingkungan sekolah baru | C27: =AKPD!L26 -> Peserta didik/konseli dapat mengenal aspek-aspek penyesuaian diri serta dapat menerapkan sikap dan kebiasaan dengan lingkungannya
B28: =AKPD!J27 -> Memiliki pemahaman tentang kenakalan remaja | C28: =AKPD!L27 -> Peserta didik/konseli dapat mengetahui bentuk atau jenis kenakalan remaja, dampak terhadap pribadi dan lingkungan serta berusaha untuk menghindarinya
B29: =AKPD!J28 -> Memiliki pemahaman tentang bahaya rokok | C29: =AKPD!L28 -> Peserta didik/konseli memiliki pemahaman tentang bahaya dan dampak rokok bagi kesehatan tubuh dan lingkungan serta cara untuk menolak ajakan untuk merokok dalam bentuk apapun
B30: =AKPD!J29 -> Memiliki perilaku sosial yang bertanggung jawab | C30: =AKPD!L29 -> Peserta didik/konseli mampu memahami pentingnya berprilaku sosial yang baik, serta memiliki sikap untuk hidup bersosial yang bertanggung jawab dalam sebuah masyarakat
B31: =AKPD!J30 -> Memahami tentang bullying | C31: =AKPD!L30 -> Peserta didik/konseli mampu memahami tentang bullying, bahaya prilaku bullying, sebab dan dampak bullying, serta berani cara melawan tindakan bullying
B32: =AKPD!J31 -> Memiliki etika bergaul dengan teman sebaya | C32: =AKPD!L31 -> Peserta didik/konseli mampu memahami norma-norma dalam masyarakat serta dapat bersosialisasidan bergaul dengan teman sebaya sesuai dengan etika yang baik
B33: =AKPD!J32 -> Memiliki sikap sopan santun pada orang lain | C33: =AKPD!L32 -> Peserta didik/konseli mampu memahami nilai-nilai dan cara bertingkah laku sopan santun dalam kehidupan di luar kelompok teman sebaya
B34: =AKPD!J33 -> Memiliki pemahaman tentang dampak dari media sosial | C34: =AKPD!L33 -> Peserta didik/konseli dapat memahami dampak positif dan negatif bermain handphone atau media sosial
B35: =AKPD!J34 -> Kesadaran sebagai makhluk sosial yang harus berinteraksi | C35: =AKPD!L34 -> Peserta didik/konseli memiliki Kesadaran sebagai makhluk sosial yang harus berinteraksi
B36: =AKPD!J35 -> Kemudahan mencari dan disenangi teman | C36: =AKPD!L35 -> Peserta didik/konseli mudah mencari dan disenangi teman
B37: =AKPD!J36 -> Memiliki pemahaman tentang hubungan komunikasi dengan lawan jenis | C37: =AKPD!L36 -> Peserta didik/konseli memiliki pemahaman tentang norma hubungan komunikasi dengan lawan jenis
A38: BELAJAR | B38: =AKPD!J37 -> Memahami belajar yang benar di SMA/MA | C38: =AKPD!L37 -> Peserta didik/konseli dapat mengenal sikap dalam belajar serta menerapkan sikap dan kebiasaan dalam belajar yang baik di SMA-MA hingga mencapai prestasi yang lebih luas
B39: =AKPD!J38 -> Memiliki motivasi untuk berprestasi | C39: =AKPD!L38 -> Peserta didik/konseli mampu memahami pengertian motivasi berprestasi, mengetahui dan menerapkan cara untuk meningkatkan motivasi berprestasi
B40: =AKPD!J39 -> Menemukan cara belajar yang sesuai dengan gaya belajar | C40: =AKPD!L39 -> Peserta didik/konseli dapat memahami dan mengetahui tentang gaya belajar serta strategi belajarnya untuk masing-masing gaya belajar tersebut
B41: =AKPD!J40 -> Kepedulian orang tua pada kegiatan belajar | C41: =AKPD!L40 -> Peserta didik/konseli selalu mendapat perhatian orang tua dalam belajarnya
B42: =AKPD!J41 -> Melaksanakan Tugas Sekolah / PR tepat waktu | C42: =AKPD!L41 -> Peserta didik/konseli memiliki kedisiplinan dalam belajar
B43: =AKPD!J42 -> Mudah memahami pelajaran | C43: =AKPD!L42 -> Peserta didik/konseli dapat memahami teknik memahami pelajaran
B44: =AKPD!J43 -> Mampu memanfaatkan sumber belajar | C44: =AKPD!L43 -> Peserta didik/konseli dapat memanfaatkan sumber belajar dalam kegiatan belajarnya
B45: =AKPD!J44 -> Kesadaran belajar sesuai jadwal | C45: =AKPD!L44 -> Peserta didik/konseli dapat mengatur waktu belajarnya
B46: =AKPD!J45 -> Memahami struktru kurikulum sekolah | C46: =AKPD!L45 -> Peserta didik/konseli dapat memahami tentang struktur kurikulum sekolah
B47: =AKPD!J46 -> Memiliki semangat belajar | C47: =AKPD!L46 -> Peserta didik/konseli memiliki motivasi dalam belajar
...

Sheet KOMPONEN 
A1: KOMPONEN PROGRAM
A2: SMA NEGERI 1 TAPAKTUAN
B4: KELAS | D4: Cut Nyak dien, Teuku Umar, Cut Meutia, Laksamana malahayati, TR Angkasa, Panglima RL, T.Cut Ali
B5: TAHUN | D5: 2026/2027
A7: NO | B7: KOMPONEN PROGRAM | C7: NO | D7: MATERI / TOPIK / KEGIATAN | E7: JUMLAH LAYANAN | F7: PROPORSI | G7: PERHITUNGAN WAKTU/JAM
A8: 1 | B8: Layanan Dasar | C8: 1 | D8: Implementasi Iman dan Taqwa dalam kehidupan modern | E8: ='Hasil Analisis_2'!H57 -> 26 | F8: =E8/E73 -> 0.45614035 | G8: 46% x 24 = 11,04
C9: 2 | D9: Kejujuran dan Integritas
C10: 3 | D10: Kebiasaan mencontek dan akibatnya
C11: 4 | D11: Sikap dan Perilaku Asertif
C12: 5 | D12: Konsep diri remaja
C13: 6 | D13: Potensi diri remaja
C14: 7 | D14: Psikologi remaja dan permasalahannya
C15: 8 | D15: Kepribadian Manusia
C16: 9 | D16: Membangun Rasa Percaya Diri
C17: 10 | D17: Pola Hidup Bersih dan Sehat
C18: 11 | D18: Menjadi pribadi yang berkarakter
C19: 12 | D19: Jadwal kegiatan sehari-hari
C20: 13 | D20: Penyesuaian Diri Remaja di Sekolah Baru
... C33: 26 | D33: Orientasi kurikulum sekolah
A36: 2 | B36: Layanan Peminatan dan Perencanaan Individual Peserta Didik | C36: 1 | D36: Informasi Beasiswa | E36: ='Hasil Analisis_2'!H59 -> 6 | F36: =E36/E73 -> 0.10526316 | G36: 11% x 24 = 2,64
C37: 2 | D37: Kiat belajar sambil bekerja
C38: 3 | D38: Cara memilih Ekskul
C39: 4 | D39: Mantap pada pilihan peminatan
C40: 5 | D40: Hobi, bakat, minat, kemamapuan dan Karir
C41: 6 | D41: Perencanaan Karir Masa Depan
A44: 3 | B44: Layanan Responsif | C44: 1 | D44: Mengelola emosi dengan baik | E44: ='Hasil Analisis_2'!H58 -> 18 | F44: =E44/E73 -> 0.31578947 | G44: 32% x 24 = 7,68
C45: 2 | D45: Rasa tanggung jawab
C46: 3 | D46: Keluarga yang harmonis
C47: 4 | D47: Rumahku surgaku
C48: 5 | D48: Mengatasi masalah dengan anggota keluarga
C49: 6 | D49: Menjadi pribadi mandiri
C50: 7 | D50: Kiat mengatasi konflik pribadi
C51: 8 | D51: Norma keluarga
C52: 9 | D52: Kita sebagai makhluk sosial
C53: 10 | D53: Norma hubungan dengan lawan jenis
C54: 11 | D54: Kepedulian orang tua
C55: 12 | D55: Disiplin Mengerjakan Tugas
C56: 13 | D56: Tips memahami pelajaran
... C61: 18 | D61: Memanfaatkan IT untuk meraih prestasi
A64: 4 | B64: Dukungan Sistem | C64: 1 | D64: Pengembangan Jejaring | E64: 7 | F64: =E64/E73 -> 0.12280702 | G64: 12% x 24 = 2,88
...

Sheet PENGEMB TEMA
A1: PENGEMBANGAN TEMA/TOPIK
A2: SMA NEGERI 1 TAPAKTUAN
A3: KELAS | B3: Cut Nyak dien, Teuku Umar, Cut Meutia, Laksamana malahayati, TR Angkasa, Panglima RL, T.Cut Ali
A4: TAHUN | B4: 2026/ 2027
A6: BIDANG LAYANAN | B6: RUMUSAN KEBUTUHAN | C6: TUJUAN LAYANAN | D6: TOPIK/TEMA
A7: PRIBADI | B7: =AKPD!J6 -> Kesadaran untuk beriman dan bertakwa pada Tuhan YME | C7: =AKPD!L6 -> Peserta didik/konseli mampu memahami pentingnya iman dan taqwa pada Tuhan YME serta dapat hidup rukun, damai dan saling menghormati antar umat beragama | D7: =AKPD!K6 -> Implementasi Iman dan Taqwa dalam kehidupan modern
B8: =AKPD!J7 -> Kebiasaan bersikap jujur | C8: =AKPD!L7 -> Peserta didik/konseli dapat menjadi individu yang memiliki integritas diri serta dapat memancarkan kepercayaan diri dan sikap yang tidak mementingkan diri sendiri | D8: =AKPD!K7 -> Kejujuran dan Integritas
B9: =AKPD!J8 -> Kemampuan memiliki kebiasaan jujur dan tidak mencontek saat tes | C9: =AKPD!L8 -> Peserta didik/konseli dapat menjadi individu yang memiliki sikap jujur dan tidak mencontek | D9: =AKPD!K8 -> Kebiasaan mencontek dan akibatnya
B10: =AKPD!J9 -> Kemampuan mengelola emosi dengan baik | C10: =AKPD!L9 -> Peserta didik/konseli dapat menjadi individu yang mampu mengendalikan emosi | D10: =AKPD!K9 -> Mengelola emosi dengan baik
B11: =AKPD!J10 -> Komunikasi yang jujur dan tetap menjaga perasaan | C11: =AKPD!L10 -> Peserta didik/konseli mampu membedakan perilaku agresif dan asertif, menerapkan prilaku asertif dengan teman-temannya serta mengembangkan sikap asertif untuk menunjang prestasi | D11: =AKPD!K10 -> Sikap dan Perilaku Asertif
B12: =AKPD!J11 -> Melakukan pengenalan/pemahaman diri | C12: =AKPD!L11 -> Peserta didik/konseli dapat memahami dan menemukan unsur-unsur konsep diri serta memahami dan menerima kelebihan dan kekurangan secara wajar dan penuh rasa syukur | D12: =AKPD!K11 -> Konsep diri remaja
B13: =AKPD!J12 -> Memahami potensi diri | C13: =AKPD!L12 -> Peserta didik/konseli dapat mengenal dan menggali potensi diri serta berusaha mengoptimalkannya untuk meraih sukses masa depan | D13: =AKPD!K12 -> Potensi diri remaja
B14: =AKPD!J13 -> Masa perkembangan remaja dan permasalahannya | C14: =AKPD!L13 -> Peserta didik/konseli mampu mengenal ciri-ciri perkembangan remaja, dapat memahami tugas perkembangan, mengatasi masalah yang dihadapi dalam perkembangan | D14: =AKPD!K13 -> Psikologi remaja dan permasalahannya
B15: =AKPD!J14 -> Mengenal kepribadian yang dimiliki manusia | C15: =AKPD!L14 -> Peserta didik/konseli mampu mengenal tipe-tipe kepribadian manusia, mengenal kepribadian yang dimiliki serta dapat tumbuh menjadi pribadi yang matang | D15: =AKPD!K14 -> Kepribadian Manusia
B16: =AKPD!J15 -> Memiliki kepercayaan diri | C16: =AKPD!L15 -> Peserta didik/konseli dapat memahami ciri-ciri pribadi yang memiliki rasa percaya diri serta dapat meningkatkan percaya diri dengan baik untuk mencapai tujuan hidupnya | D16: =AKPD!K15 -> Membangun Rasa Percaya Diri
B17: =AKPD!J16 -> Kemampuan menjaga kesehatan dengan baik | C17: =AKPD!L16 -> Peserta didik/konseli mampu memahami pentingnya polah hidup bersih dan sehat serta dapat melakukan kebiasaan hidup bersih dan sehat sehari-hari yang dapat mempengaruhi kesehatan | D17: =AKPD!K16 -> Pola Hidup Bersih dan Sehat
B18: =AKPD!J17 -> Memiliki ciri-ciri/sifat pribadi yang berkarakter | C18: =AKPD!L17 -> Peserta didik/konseli mampu memiliki perasaan positif untuk membangun pribadi yang berkarakter yang akan berkontribusi pada peningkatan mutu karakter bangsa | D18: =AKPD!K17 -> Menjadi pribadi yang berkarakter
B19: =AKPD!J18 -> Memiliki rasa tanggung jawab | C19: =AKPD!L18 -> Peserta didik/konseli mampu memiliki rasa tanggung jawab pada diri sendiri dan orang lain | D19: =AKPD!K18 -> Rasa tanggung jawab
... B26: =AKPD!J25 -> Memiliki pengetahuan tentang norma berkeluarga | C26: =AKPD!L25 -> Peserta didik/konseli memiliki pengetahuan tentang norma berkeluarga | D26: =AKPD!K25 -> Norma keluarga
A27: SOSIAL | B27: =AKPD!J26 -> Mengenal lingkungan sekolah baru | C27: =AKPD!L26 -> Peserta didik/konseli dapat mengenal aspek-aspek penyesuaian diri serta dapat menerapkan sikap dan kebiasaan dengan lingkungannya | D27: =AKPD!K26 -> Penyesuaian Diri Remaja di Sekolah Baru
B28: =AKPD!J27 -> Memiliki pemahaman tentang kenakalan remaja | C28: =AKPD!L27 -> Peserta didik/konseli dapat mengetahui bentuk atau jenis kenakalan remaja, dampak terhadap pribadi dan lingkungan serta berusaha untuk menghindarinya | D28: =AKPD!K27 -> Kenakalan Remaja dan Cara Menghindarinya
B29: =AKPD!J28 -> Memiliki pemahaman tentang bahaya rokok | C29: =AKPD!L28 -> Peserta didik/konseli memiliki pemahaman tentang bahaya dan dampak rokok bagi kesehatan tubuh dan lingkungan serta cara untuk menolak ajakan untuk merokok dalam bentuk apapun | D29: =AKPD!K28 -> Bahaya rokok dan dampaknya
B30: =AKPD!J29 -> Memiliki perilaku sosial yang bertanggung jawab | C30: =AKPD!L29 -> Peserta didik/konseli mampu memahami pentingnya berprilaku sosial yang baik, serta memiliki sikap untuk hidup bersosial yang bertanggung jawab dalam sebuah masyarakat | D30: =AKPD!K29 -> Prilaku sosial yang bertanggung jawab
B31: =AKPD!J30 -> Memahami tentang bullying | C31: =AKPD!L30 -> Peserta didik/konseli mampu memahami tentang bullying, bahaya prilaku bullying, sebab dan dampak bullying, serta berani cara melawan tindakan bullying | D31: =AKPD!K30 -> Stop Bullying !
B32: =AKPD!J31 -> Memiliki etika bergaul dengan teman sebaya | C32: =AKPD!L31 -> Peserta didik/konseli mampu memahami norma-norma dalam masyarakat serta dapat bersosialisasidan bergaul dengan teman sebaya sesuai dengan etika yang baik | D32: =AKPD!K31 -> Etika pergaulan dengan teman sebaya
B33: =AKPD!J32 -> Memiliki sikap sopan santun pada orang lain | C33: =AKPD!L32 -> Peserta didik/konseli mampu memahami nilai-nilai dan cara bertingkah laku sopan santun dalam kehidupan di luar kelompok teman sebaya | D33: =AKPD!K32 -> Sikap sopan santun dalam kehidupan
B34: =AKPD!J33 -> Memiliki pemahaman tentang dampak dari media sosial | C34: =AKPD!L33 -> Peserta didik/konseli dapat memahami dampak positif dan negatif bermain handphone atau media sosial | D34: =AKPD!K33 -> Dampak handphone (medsos)
B35: =AKPD!J34 -> Kesadaran sebagai makhluk sosial yang harus berinteraksi | C35: =AKPD!L34 -> Peserta didik/konseli memiliki Kesadaran sebagai makhluk sosial yang harus berinteraksi | D35: =AKPD!K34 -> Interaksi sebagai makhluk sosial
B36: =AKPD!J35 -> Kemudahan mencari dan disenangi teman | C36: =AKPD!L35 -> Peserta didik/konseli mudah mencari dan disenangi teman | D36: =AKPD!K35 -> Kiat mencari teman
B37: =AKPD!J36 -> Memiliki pemahaman tentang hubungan komunikasi dengan lawan jenis | C37: =AKPD!L36 -> Peserta didik/konseli memiliki pemahaman tentang norma hubungan komunikasi dengan lawan jenis | D37: =AKPD!K36 -> Hubungan komunikasi dengan lawan jenis
A38: BELAJAR | B38: =AKPD!J37 -> Memahami belajar yang benar di SMA/MA | C38: =AKPD!L37 -> Peserta didik/konseli dapat mengenal sikap dalam belajar serta menerapkan sikap dan kebiasaan dalam belajar yang baik di SMA-MA hingga mencapai prestasi yang lebih luas | D38: =AKPD!K37 -> Kiat sukses belajar di SMA-MA
B39: =AKPD!J38 -> Memiliki motivasi untuk berprestasi | C39: =AKPD!L38 -> Peserta didik/konseli mampu memahami pengertian motivasi berprestasi, mengetahui dan menerapkan cara untuk meningkatkan motivasi berprestasi | D39: =AKPD!K38 -> Motivasi berprestasi
B40: =AKPD!J39 -> Menemukan cara belajar yang sesuai dengan gaya belajar | C40: =AKPD!L39 -> Peserta didik/konseli dapat memahami dan mengetahui tentang gaya belajar serta strategi belajarnya untuk masing-masing gaya belajar tersebut | D40: =AKPD!K39 -> Strategi belajar sesuai dengan gaya belajar
B41: =AKPD!J40 -> Kepedulian orang tua pada kegiatan belajar | C41: =AKPD!L40 -> Peserta didik/konseli selalu mendapat perhatian orang tua dalam belajarnya | D41: =AKPD!K40 -> Kepedulian orang tua terhadap belajar anak
B42: =AKPD!J41 -> Melaksanakan Tugas Sekolah / PR tepat waktu | C42: =AKPD!L41 -> Peserta didik/konseli memiliki kedisiplinan dalam belajar | D42: =AKPD!K41 -> Disiplin Mengerjakan Tugas
B43: =AKPD!J42 -> Mudah memahami pelajaran | C43: =AKPD!L42 -> Peserta didik/konseli dapat memahami teknik memahami pelajaran | D43: =AKPD!K42 -> Tips memahami pelajaran
B44: =AKPD!J43 -> Mampu memanfaatkan sumber belajar | C44: =AKPD!L43 -> Peserta didik/konseli dapat memanfaatkan sumber belajar dalam kegiatan belajarnya | D44: =AKPD!K43 -> Manfaat sumber belajar
B45: =AKPD!J44 -> Kesadaran belajar sesuai jadwal | C45: =AKPD!L44 -> Peserta didik/konseli dapat mengatur waktu belajarnya | D45: =AKPD!K44 -> Belajar sesuai jadwal
B46: =AKPD!J45 -> Memahami struktru kurikulum sekolah | C46: =AKPD!L45 -> Peserta didik/konseli dapat memahami tentang struktur kurikulum sekolah | D46: =AKPD!K45 -> Srtuktur kurikulum sekolah
B47: =AKPD!J46 -> Memiliki semangat belajar | C47: =AKPD!L46 -> Peserta didik/konseli memiliki motivasi dalam belajar | D47: =AKPD!K46 -> Motivasi belajar
...

Sheet ACTION PLAN
A1: RENCANA KEGIATAN (ACTION PLAN) BIMBINGAN DAN KONSELING
A2: SMA NEGERI 1 TAPAKTUAN
C4: KELAS | D4: Cut Nyak dien, Teuku Umar, Cut Meutia, Laksamana malahayati, TR Angkasa, Panglima RL, T.Cut Ali
C5: TAHUN | D5: 2026/ 2027
A7: BIDANG LAYANAN | B7: TUJUAN LAYANAN | C7: KOMPONEN LAYANAN | D7: STRATEGI LAYANAN | E7: KELAS | F7: MATERI | G7: METODE | H7: MEDIA | I7: EVALUASI | J7: EKUIVALENSI
A8: PRIBADI | B8: =AKPD!L6 -> Peserta didik/konseli mampu memahami pentingnya iman dan taqwa pada Tuhan YME serta dapat hidup rukun, damai dan saling menghormati antar umat beragama | C8: =AKPD!M6 -> Dasar | E8: X | F8: =AKPD!K6 -> Implementasi Iman dan Taqwa dalam kehidupan modern | G8: Ceramah, Diskusi | H8: Slide Power Point | I8: Proses dan Hasil | J8: 2 Jam
B9: =AKPD!L7 -> Peserta didik/konseli dapat menjadi individu yang memiliki integritas diri serta dapat memancarkan kepercayaan diri dan sikap yang tidak mementingkan diri sendiri | C9: =AKPD!M7 -> Dasar | D9: =AKPD!N7 -> Bimbingan klasikal | E9: X | F9: =AKPD!K7 -> Kejujuran dan Integritas | G9: Ceramah, Diskusi | H9: Slide Power Point | I9: Proses dan Hasil | J9: 2 Jam
B10: =AKPD!L8 -> Peserta didik/konseli dapat menjadi individu yang memiliki sikap jujur dan tidak mencontek | C10: =AKPD!M8 -> Dasar | D10: =AKPD!N8 -> Bimbingan Kelompok | E10: X | F10: =AKPD!K8 -> Kebiasaan mencontek dan akibatnya | G10: Diskusi | H10: Kartu sikap | I10: Proses dan Hasil | J10: 2 Jam
B11: =AKPD!L9 -> Peserta didik/konseli dapat menjadi individu yang mampu mengendalikan emosi | C11: =AKPD!M9 -> Responsif | D11: =AKPD!N9 -> Konseling Individual | E11: X | F11: =AKPD!K9 -> Mengelola emosi dengan baik | G11: Disesuaikan dengan pendekatan yang digunakan | H11: Disesuaikan dengan pendekatan yang digunakan | I11: Proses dan Hasil | J11: 2 Jam
B12: =AKPD!L10 -> Peserta didik/konseli mampu membedakan perilaku agresif dan asertif, menerapkan prilaku asertif dengan teman-temannya serta mengembangkan sikap asertif untuk menunjang prestasi | C12: =AKPD!M10 -> Dasar | D12: =AKPD!N10 -> Bimbingan klasikal | E12: X | F12: =AKPD!K10 -> Sikap dan Perilaku Asertif | G12: Ceramah, Diskusi | H12: Slide Power Point | I12: Proses dan Hasil | J12: 2 Jam
B13: =AKPD!L11 -> Peserta didik/konseli dapat memahami dan menemukan unsur-unsur konsep diri serta memahami dan menerima kelebihan dan kekurangan secara wajar dan penuh rasa syukur | C13: =AKPD!M11 -> Dasar | D13: =AKPD!N11 -> Bimbingan klasikal | E13: X | F13: =AKPD!K11 -> Konsep diri remaja | G13: Ceramah, Diskusi | H13: Slide Power Point | I13: Proses dan Hasil | J13: 2 Jam
B14: =AKPD!L12 -> Peserta didik/konseli dapat mengenal dan menggali potensi diri serta berusaha mengoptimalkannya untuk meraih sukses masa depan | C14: =AKPD!M12 -> Dasar | D14: =AKPD!N12 -> Bimbingan klasikal | E14: X | F14: =AKPD!K12 -> Potensi diri remaja | G14: Ceramah, Diskusi | H14: Slide Power Point | I14: Proses dan Hasil | J14: 2 Jam
