Workbook

Sheet Laporan
C1: P E M E R I N T A H A C E H
C2: D I N A S P E N D I D I K A N
C3: SEKOLAH MENENGAH ATAS NEGERI 1 KEJURUAN MUDA
C4: Jalan Rantau - Kualasimpang, Desa Durian, Kec. Rantau Telp. (0641) 700849 Kode Pos 24474
C5: Website: www.sman1kejuruanmuda.sch.id - E-mail: sman1kjm@yaho.com
B9: LAPORAN PENERIMAAN PESERTA DIDIK BARU TAHUN PELAJARAN 2022/2023
B11: SEKOLAH : | D11: SMA NEGERI 1 KEJURUAN MUDA
B12: KABUPATEN : | D12: ACEH TAMIANG
B14: A. PENDAFTAR
B16: Rencana Penerimaan | D16: Pendaftar
D17: L | E17: P | F17: L + P
B18: 309 | D18: =SUM(#REF!,#REF!,#REF!,#REF!) -> #REF! | E18: =SUM(#REF!,#REF!,#REF!,#REF!) -> #REF! | F18: =SUM(D18:E18) -> #REF!
B21: SMP | D21: MTs | F21: Paket B | H21: JUMLAH
B22: L | C22: P | D22: L | E22: P | F22: L | G22: P | H22: L | I22: P | J22: L + P
B23: 149 | C23: 216 | D23: 15 | E23: 17 | F23: 2 | G23: 0 | H23: =B23+D23+F23 -> 166 | I23: =C23+E23+G23 -> 233 | J23: =SUM(H23:I23) -> 399
B25: B. DITERIMA
B27: SMP | D27: MTs | F27: Paket B | H27: JUMLAH
B28: L | C28: P | D28: L | E28: P | F28: L | G28: P | H28: L | I28: P | J28: L + P
B29: 100 | C29: 180 | D29: 13 | E29: 14 | F29: 2 | G29: 0 | H29: =B29+D29+F29 -> 115 | I29: =C29+E29+G29 -> 194 | J29: =SUM(H29:I29) -> 309
B31: Jalur Zonasi : | E31: 225 Orang
B32: Jalur Afirmasi : | E32: 40 Orang
B33: Pindah Tugas Orang Tua : | E33: 2 Orang
B34: Jalur Prestasi : | E34: 42 Orang
G36: ACEH TAMIANG, 30 JUNI 2022
G37: KEPALA,
G41: MUHAMMAD, S.Pd.
G42: NIP. 19660110 199412 1 001

Sheet Rekap Desa
A1: RINCIAN PENERIMAAN PESERTA DIDIK BARU TAHUN PELAJARAN 2022/2023
B3: SEKOLAH : | C3: =Laporan!D11 -> SMA NEGERI 1 KEJURUAN MUDA
B4: KABUPATEN : | C4: ACEH TAMIANG
A7: NO | B7: DESA | C7: KECAMATAN | D7: Pendaftar | E7: Diterima | F7: Ditolak
A8: A. | B8: JALUR ZONASI
A9: 1 | B9: Kampung Durian | C9: Kec. Rantau | D9: 55 | E9: 55 | F9: =D9-E9 -> 0
A10: 2 | B10: Alur Cucur | C10: Kec. Rantau | D10: 37 | E10: 21 | F10: =D10-E10 -> 16
A11: 3 | B11: Benua Raja | C11: Kec. Rantau | D11: 20 | E11: 16 | F11: =D11-E11 -> 4
A12: 4 | B12: Jamur Jelatang | C12: Kec. Rantau | D12: 7 | E12: 4 | F12: =D12-E12 -> 3
A13: 5 | B13: Jamur Labu | C13: Kec. Rantau | D13: 4 | E13: 4 | F13: =D13-E13 -> 0
A14: 6 | B14: Landuh | C14: Kec. Rantau | D14: 15 | E14: 10 | F14: =D14-E14 -> 5
A15: 7 | B15: Paya Bedi | C15: Kec. Rantau | D15: 7 | E15: 6 | F15: =D15-E15 -> 1
A16: 8 | B16: Pertamina (Kamp Pertamina) | C16: Kec. Rantau | D16: 11 | E16: 7 | F16: =D16-E16 -> 4 | H16: =SUM(E21:E25) -> 57
A17: 9 | B17: Rantau Pauh | C17: Kec. Rantau | D17: 50 | E17: 33 | F17: =D17-E17 -> 17 | H17: =SUM(F21:F25) -> 37
A18: 10 | B18: Suka Jadi (Sukajadi) | C18: Kec. Rantau | D18: 4 | E18: 4 | F18: =D18-E18 -> 0
A19: 11 | B19: Suka Rahmat | C19: Kec. Rantau | F19: =D19-E19 -> 0
A20: 12 | B20: Suka Rakyat | C20: Kec. Rantau | F20: =D20-E20 -> 0
A21: 11 | B21: Bukit Tempurung | C21: Kec. Kota Kualasimpang | D21: 30 | E21: 19 | F21: =D21-E21 -> 11
A22: 12 | B22: Kota Kuala Simpang | C22: Kec. Kota Kualasimpang | D22: 8 | E22: 8 | F22: =D22-E22 -> 0
A23: 13 | B23: Kota Lintang | C23: Kec. Kota Kualasimpang | D23: 30 | E23: 17 | F23: =D23-E23 -> 13
A24: 14 | B24: Perdamaian | C24: Kec. Kota Kualasimpang | D24: 17 | E24: 7 | F24: =D24-E24 -> 10
A25: 15 | B25: Sriwijaya | C25: Kec. Kota Kualasimpang | D25: 9 | E25: 6 | F25: =D25-E25 -> 3
A26: 16 | B26: Dalam | C26: Kec. Karang Baru | D26: 1 | E26: 1 | F26: =D26-E26 -> 0
A27: 17 | B27: Sukajadi | C27: Kec. Karang Baru | D27: 1 | E27: 0 | F27: =D27-E27 -> 1
A28: 18 | B28: Kesehatan | C28: Kec. Karang Baru | D28: 9 | E28: 7 | F28: =D28-E28 -> 2
A29: B. | B29: JALUR PRESTASI | D29: 42 | E29: 42 | F29: =D29-E29 -> 0
A30: C. | B30: JALUR PINDAH TUGAS ORANG TUA | D30: 2 | E30: 2 | F30: =D30-E30 -> 0
A31: D. | B31: AFIRMASI | D31: 40 | E31: 40 | F31: =D31-E31 -> 0
A32: JUMLAH | D32: =SUM(D8:D31) -> 399 | E32: =SUM(E9:E31) -> 309 | F32: =SUM(F8:F31) -> 90
D34: =Laporan!G36 -> ACEH TAMIANG, 30 JUNI 2022
B35: MENGETAHUI,
B36: Plt Kasi Manajemen GTK dan Mutu Kesiswaan | D36: =Laporan!G37 -> KEPALA,
B37: Cabang Dinas Pendidikan Wil. Kab. A. Tamiang
B41: INDRA ARISANDI, S.Pd., M.Pd. | D41: =Laporan!G41 -> MUHAMMAD, S.Pd.
B42: NIP. 19830601 200604 1 011 | D42: =Laporan!G42 -> NIP. 19660110 199412 1 001

Sheet 0. Gab. Data diRank untuk K (2)
B1: HASIL SELEKSI PPDB TAHUN PELAJARAN 2022/2023
B2: ='Rekap Desa'!C3 -> SMA NEGERI 1 KEJURUAN MUDA
B3: KABUPATEN ACEH TAMIANG
B4: JALUR : ZONASI
A6: timverifikasi | B6: Urt | C6: Pend. | D6: NISN | E6: NAMA | F6: L/P | G6: Desa | H6: Kecamatan | I6: Kabupaten | J6: NIK | K6: ASAL SEKOLAH | L6: PILIHAN I | M6: PILIHAN II | N6: EMAIL (Wajib Aktif) | O6: Nomor KK (Nomor Kartu Kependudukan) | P6: TEMPAT LAHIR | Q6: TANGGAL LAHIR | R6: JENIS KELAMIN | S6: NAMA AYAH | T6: NAMA IBU | U6: NAMA WALI | V6: Nomor HP ORANG TUA (Ayah/Ibu) | W6: DESA | X6: KECAMATAN | Y6: KABUPATEN | Z6: Anak ke | AA6: ASAL SEKOLAH | AB6: TAHUN TAMAT | AC6: JALUR | AD6: PILIHAN JURUSAN PERTAMA | AE6: PILIHAN JURUSAN KEDUA | AF6: No HP SISWA | AG6: Bahasa Indonesia (Semester 1) | AH6: Bahasa Indonesia (Semester 2) | AI6: Bahasa Indonesia (Semester 3) | AJ6: Bahasa Indonesia (Semester 4) | AK6: Bahasa Indonesia (Semester 5) | AL6: Nilai rata-rata Bahasa Indonesia | AM6: Bahasa Inggris (Semester 1) | AN6: Bahasa Inggris (Semester 2) | AO6: Bahasa Inggris (Semester 3) | AP6: Bahasa Inggris (Semester 4) | AQ6: Bahasa Inggris (Semester 5) | AR6: Nilai rata-rata Bahasa Inggris | AS6: Matematika ( Semester 1) | AT6: Matematika ( Semester 2) | AU6: Matematika ( Semester 3) | AV6: Matematika ( Semester 4) | AW6: Matematika ( Semester 5) | AX6: Nilai rata-rata Matematika | AY6: IPA (Semester 1) | AZ6: IPA (Semester 2) | BA6: IPA (Semester 3) | BB6: IPA (Semester 4) | BC6: IPA (Semester 5) | BD6: Nilai rata-rata IPA | BE6: IPS (Semester 1) | BF6: IPS (Semester 2) | BG6: IPS (Semester 3) | BH6: IPS (Semester 4) | BI6: IPS (Semester 5) | BJ6: Nilai rata-rata IPS | BK6: Merged Doc ID - FORM PPDB 2022 | BL6: Merged Doc URL - FORM PPDB 2022 | BM6: Link to merged Doc - FORM PPDB 2022 | BN6: Document Merge Status - FORM PPDB 2022 | BO6: R. B. INDO | BP6: R. B. ING | BQ6: R. MTK | BR6: R. IPA | BS6: R. IPS | BT6: TOTAL R | BU6: LULUS (IB_IPA_IPS) | BV6: No. KIP | BW6: No. PKH | BX6: ASAL SD KHUSUS MTs | BY6: NAMA ORANG TUA | BZ6: PEKERJAAN ORANG TUA | CA6: INSTANSI | CB6: Dokumen Dukungan Afirmasi | CC6: Jenis Prestasi | CD6: Tahun | CE6: Tingkat | CF6: NOMOR DATA LULUS ASLI
A7: SU | B7: 1 | C7: 108 RANTAU | D7: 0074292534 | E7: ZHARIDAWITA | F7: P | G7: Desa Durian | H7: RANTAU | I7: Aceh Tamiang | J7: 1116086411070002 | K7: SMP SWASTA ISLAM KUALA SIMPANG | L7: IPA | M7: IPA | N7: zharidawita@gmail.com | O7: 1116082401055571 | P7: BUKIT SULING | Q7: 39410 | R7: Perempuan | S7: HARMUNANTO | T7: NURMALA | V7: 085262916915 | W7: Desa Durian | X7: RANTAU | Y7: Aceh Tamiang | Z7: 4 | AA7: SMP SWASTA ISLAM KUALA SIMPANG | AB7: 2022 | AC7: ZONASI | AD7: MIPA (Matematika Ilmu Pengetahuan Alam) | AE7: MIPA (Matematika Ilmu Pengetahuan Alam) | AF7: 081362399163 | AG7: 80.0 | AH7: 85.0 | AI7: 79.0 | AJ7: 85 | AK7: 92 | AL7: 84.2 | AM7: 91.0 | AN7: 93.0 | AO7: 80.0 | AP7: 89 | AQ7: 88 | AR7: 88.2 | AS7: 88.0 | AT7: 86.0 | AU7: 83.0 | AV7: 84 | AW7: 77 | AX7: 83.6 | AY7: 78.0 | AZ7: 81.0 | BA7: 75.0 | BB7: 90 | BC7: 87 | BD7: 82.2 | BE7: 78.0 | BF7: 93.0 | BG7: 95.0 | BH7: 95 | BI7: 95 | BJ7: 91.2 | BK7: 1pkRiukXLEj7q48_LnpYLrtR84Pb4W-_g | BL7: https://drive.google.com/file/d/1pkRiukXLEj7q48_LnpYLrtR84Pb4W-_g/view?usp=drivesdk | BM7: 0416 BUKTI PENDAFTARAN ZHARIDAWITA PPDB 2022 | BN7: Document successfully created; Document successfully merged; PDF created; !!Error Sending Emails: Layanan terlalu sering diminta di hari yang sama: email.; Run via form trigger as ppdbsman1kjm@gmail.com; Timestamp: Jun 19 2022 10:50 PM | BO7: 84.2 | BP7: 88.2 | BQ7: 83.6 | BR7: 82.2 | BS7: 91.2 | BT7: =SUM(BO7:BS7) -> 429.4 | BU7: IPA | CF7: 1
A8: SU | B8: 2 | C8: 107 RANTAU | D8: 0078525112 | E8: KAILA AULIA | F8: P | G8: Desa Durian | H8: RANTAU | I8: Aceh Tamiang | J8: 1116085507070004 | K8: SMP SWASTA ISLAM KUALA SIMPANG | L8: IPA | M8: IPA | N8: kaila084143@gmail.com | O8: 1116081902200001 | P8: KAMPUNG DURIAN | Q8: 39278 | R8: Perempuan | S8: Alm.Muhammad ikhsan | T8: Erlina Sari | V8: 082167048559 | W8: Desa Durian | X8: RANTAU | Y8: Aceh Tamiang | Z8: 3 | AA8: SMP SWASTA ISLAM KUALA SIMPANG | AB8: 2022 | AC8: ZONASI | AD8: MIPA (Matematika Ilmu Pengetahuan Alam) | AE8: MIPA (Matematika Ilmu Pengetahuan Alam) | AF8: 081260655737 | AG8: 85.0 | AH8: 89.0 | AI8: 80.0 | AJ8: 91 | AK8: 92.0 | AL8: 91.58 | AM8: 73.0 | AN8: 77.0 | AO8: 80.0 | AP8: 88 | AQ8: 88.0 | AR8: 84.62 | AS8: 85.0 | AT8: 86.0 | AU8: 80.0 | AV8: 84 | AW8: 79.0 | AX8: 81.12 | AY8: 79.0 | AZ8: 90.0 | BA8: 80.0 | BB8: 85 | BC8: 77.0 | BD8: 85.26 | BE8: 80.0 | BF8: 90.0 | BG8: 88.0 | BH8: 90 | BI8: 90.0 | BJ8: 85.83 | BK8: 1Uawk01lZc2gbp9EKBeDpSALdO2HCIe19 | BL8: https://drive.google.com/file/d/1Uawk01lZc2gbp9EKBeDpSALdO2HCIe19/view?usp=drivesdk | BM8: 0433 BUKTI PENDAFTARAN KAILA AULIA PPDB 2022 | BN8: Document successfully created; Document successfully merged; PDF created; !!Error Sending Emails: Layanan terlalu sering diminta di hari yang sama: email.; Run via form trigger as ppdbsman1kjm@gmail.com; Timestamp: Jun 19 2022 11:15 PM | BO8: 91.58 | BP8: 84.62 | BQ8: 81.12 | BR8: 85.26 | BS8: 85.83 | BT8: =SUM(BO8:BS8) -> 428.41 | BU8: IPA | BV8: PXHQHZ | BW8: 6034949101909997 | CF8: 2
A9: SU | B9: 3 | C9: 027 RANTAU | D9: 0067911554 | E9: DINDA SHALSYABILLA | F9: P | G9: Desa Durian | H9: RANTAU | I9: Aceh Tamiang | J9: 1116086112060002 | K9: SMP N 1 KUALASIMPANG | L9: IPA | M9: IPS | N9: syafrianditanja@gmail.com | O9: 1116082810060092 | P9: KARANG BARU | Q9: 39072 | R9: Perempuan | S9: SYAFRIANDI TANJA | T9: RATNA SARI DEWI | V9: 082267565893 | W9: Desa Durian | X9: RANTAU | Y9: Aceh Tamiang | Z9: 3 | AA9: SMP N 1 KUALASIMPANG | AB9: 2022 | AC9: ZONASI | AD9: MIPA (Matematika Ilmu Pengetahuan Alam) | AE9: IIS ( Ilmu-ilmu Sosial) | AF9: 082260036896 | AG9: 74 | AH9: 74 | AI9: 84 | AJ9: 85 | AK9: 95 | AL9: 87.25 | AM9: 80 | AN9: 80 | AO9: 79 | AP9: 83 | AQ9: 90 | AR9: 85.83 | AS9: 69 | AT9: 80 | AU9: 73 | AV9: 78 | AW9: 77 | AX9: 82.75 | AY9: 70 | AZ9: 82 | BA9: 82 | BB9: 90 | BC9: 78 | BD9: 81.86 | BE9: 70 | BF9: 83 | BG9: 84 | BH9: 75 | BI9: 81 | BJ9: 82.7 | BK9: 1TNuvxo0bj-ISgytaQYIPJYlLiXAihVuZ | BL9: https://drive.google.com/file/d/1TNuvxo0bj-ISgytaQYIPJYlLiXAihVuZ/view?usp=drivesdk | BM9: 0322 BUKTI PENDAFTARAN DINDA SHALAYABILLA PPDB 2022 | BN9: Document successfully created; Document successfully merged; PDF created; Emails Sent: [To: syafrianditanja@gmail.com]; Run via form trigger as ppdbsman1kjm@gmail.com; Timestamp: Jun 19 2022 9:09 PM | BO9: 87.25 | BP9: 85.83 | BQ9: 82.75 | BR9: 81.86 | BS9: 82.7 | BT9: =SUM(BO9:BS9) -> 420.39 | BU9: IPA | CF9: 3
A10: CW | B10: 4 | C10: 197 RANTAU | D10: 0075859013 | E10: ARMIA LISYAH PUTRI | F10: P | G10: Desa Durian | H10: RANTAU | I10: Aceh Tamiang | J10: 1116086111070002 | K10: SMP NEGERI 4 RANTAU | L10: IPS | M10: IPS | N10: lisasyahputri039@gmail.com | O10: 1116081803080007 | P10: KP DURIAN | Q10: 39407 | R10: Perempuan | S10: EDI CANDRA | T10: RUSMIATI | V10: 081260412379 | W10: Desa Durian | X10: RANTAU | Y10: Aceh Tamiang | Z10: 1 | AA10: SMP NEGERI 4 RANTAU | AB10: 2022 | AC10: ZONASI | AD10: IIS ( Ilmu-ilmu Sosial) | AE10: IIS ( Ilmu-ilmu Sosial) | AF10: 081278175986 | AG10: 18 | AH10: 18 | AI10: 18.2 | AJ10: 18.2 | AK10: 16.4 | AL10: 84.09 | AM10: 17.2 | AN10: 17.2 | AO10: 17.4 | AP10: 17.4 | AQ10: 16.4 | AR10: 83.34 | AS10: 16.8 | AT10: 16.8 | AU10: 16.8 | AV10: 16.8 | AW10: 15 | AX10: 80.09 | AY10: 15.2 | AZ10: 15.4 | BA10: 18 | BB10: 18.2 | BC10: 5 | BD10: 87.5 | BE10: 16.2 | BF10: 16.4 | BG10: 17.4 | BH10: 17.4 | BI10: 14.2 | BJ10: 83.34 | BK10: 1no60l_ay3qy0nn1zlb1OhJikmdSyk6r8 | BL10: https://drive.google.com/file/d/1no60l_ay3qy0nn1zlb1OhJikmdSyk6r8/view?usp=drivesdk | BM10: 0717 BUKTI PENDAFTARAN ARMIA LISYAH PUTRI PPDB 2022 | BN10: Document successfully created; Document successfully merged; PDF created; Emails Sent: [To: lisasyahputri039@gmail.com]; Run via form trigger as ppdbsman1kjm@gmail.com; Timestamp: Jun 21 2022 3:04 AM | BO10: 84.09 | BP10: 83.34 | BQ10: 80.09 | BR10: 87.5 | BS10: 83.34 | BT10: =SUM(BO10:BS10) -> 418.36 | BU10: IPS | BV10: 3S7NMK | BW10: 6034949101912504 | CF10: 4
A11: YA | B11: 5 | C11: 145 RANTAU | D11: 0078771561 | E11: SOFYA RAHMADANI | F11: P | G11: Desa Durian | H11: RANTAU | I11: Aceh Tamiang | J11: 1116085709070001 | K11: MADRASAH ULUMUL QURAN (MUQ), LANGSA | L11: IPA | M11: IPA | N11: sofyarahmadani1709@gmail.com | O11: 1.1160819e+15 | P11: KAMPUNG DURIAN | Q11: 39342 | R11: Perempuan | S11: ABDUL GANI | T11: NUR WACHNA | U11: May Syahfitri | V11: 085275824333 | W11: Desa Durian | X11: RANTAU | Y11: Aceh Tamiang | Z11: 3 | AA11: MADRASAH ULUMUL QURAN (MUQ), LANGSA | AB11: 2022 | AC11: ZONASI | AD11: MIPA (Matematika Ilmu Pengetahuan Alam) | AE11: MIPA (Matematika Ilmu Pengetahuan Alam) | AF11: 085213729236 | AG11: 85 | AH11: 88 | AI11: 84 | AJ11: 85 | AK11: 81 | AL11: 85 | AM11: 84 | AN11: 84 | AO11: 93 | AP11: 93 | AQ11: 88 | AR11: 84 | AS11: 81 | AT11: 83 | AU11: 90 | AV11: 86 | AW11: 85 | AX11: 83 | AY11: 75 | AZ11: 76 | BA11: 84 | BB11: 84 | BC11: 84 | BD11: 80 | BE11: 86 | BF11: 87 | BG11: 87 | BH11: 90 | BI11: 90 | BJ11: 84 | BK11: 1OB51CHfNgs9b7nT0G6l5Ak5bcTA3TDfa | BL11: https://drive.google.com/file/d/1OB51CHfNgs9b7nT0G6l5Ak5bcTA3TDfa/view?usp=drivesdk | BM11: 0382 BUKTI PENDAFTARAN SOFYA RAHMADANI PPDB 2022 | BN11: Document successfully created; Document successfully merged; PDF created; Emails Sent: [To: sofyarahmadani1709@gmail.com]; Run via form trigger as ppdbsman1kjm@gmail.com; Timestamp: Jun 19 2022 10:20 PM | BO11: 85 | BP11: 84 | BQ11: 83 | BR11: 80 | BS11: 84 | BT11: =SUM(BO11:BS11) -> 416 | BU11: IPA | BX11: SD NEGERI 1 BUKIT TEMPURUNG | CF11: 5
A12: SU | B12: 6 | C12: 130 RANTAU | D12: 0076397462 | E12: MUHAMMAD REVAL ALFARIZI | F12: L | G12: Desa Durian | H12: RANTAU | I12: Aceh Tamiang | J12: 1116081507070001 | K12: SMPS ISLAM KUALA SIMPANG | L12: IPA | M12: IPA | N12: alarizimuhammadreval@gmail.com | O12: 1116081902200001 | P12: KAMPUNG DURIAN | Q12: 39278 | R12: Laki-laki | S12: ALM.MUHAMMAD IKSHAN | T12: ERLINA SARI | U12: ERLINA SARI | V12: 082167048559 | W12: Desa Durian | X12: RANTAU | Y12: Aceh Tamiang | Z12: 2 | AA12: SMPS ISLAM KUALA SIMPANG | AB12: 2022 | AC12: ZONASI | AD12: MIPA (Matematika Ilmu Pengetahuan Alam) | AE12: MIPA (Matematika Ilmu Pengetahuan Alam) | AF12: 082161231092 | AG12: 80 | AH12: 86 | AI12: 82 | AJ12: 76 | AK12: 90 | AL12: 83.5 | AM12: 75 | AN12: 80 | AO12: 80 | AP12: 85 | AQ12: 83 | AR12: 80.37 | AS12: 85 | AT12: 85 | AU12: 78 | AV12: 82 | AW12: 77 | AX12: 83.69 | AY12: 80 | AZ12: 92 | BA12: 85 | BB12: 85 | BC12: 80 | BD12: 83.33 | BE12: 80 | BF12: 90 | BG12: 80 | BH12: 90 | BI12: 85 | BJ12: 85 | BK12: 1esXLUcvAAMEtE6RBPweTQxTo9yWdEflX | BL12: https://drive.google.com/file/d/1esXLUcvAAMEtE6RBPweTQxTo9yWdEflX/view?usp=drivesdk | BM12: 0484 BUKTI PENDAFTARAN MUHAMMAD REVAL ALFARIZI PPDB 2022 | BN12: Document successfully created; Document successfully merged; PDF created; !!Error Sending Emails: Layanan terlalu sering diminta di hari yang sama: email.; Run via form trigger as ppdbsman1kjm@gmail.com; Timestamp: Jun 20 2022 12:21 AM | BO12: 83.5 | BP12: 80.37 | BQ12: 83.69 | BR12: 83.33 | BS12: 85 | BT12: =SUM(BO12:BS12) -> 415.89 | BU12: IPA | BV12: PQ3FVP | BW12: 6034949101909997 | CF12: 6
A13: SU | B13: 7 | C13: 072 RANTAU | D13: 0073382502 | E13: WENNY FADHLIKA | F13: P | G13: Desa Durian | H13: RANTAU | I13: Aceh Tamiang | J13: 1116085211070001 | K13: SMP NEGERI 3 KEJURUAN MUDA | L13: IPA | M13: IPA | N13: cindyseptiani952@gmail.com | O13: 1116082406060016 | P13: ACEH TAMIANG | Q13: 39398 | R13: Perempuan | S13: MUHAMMAD GUNAWAN | T13: KUSUMAWATI | V13: 085270832814 | W13: Desa Durian | X13: RANTAU | Y13: Aceh Tamiang | Z13: 3 | AA13: SMP NEGERI 3 KEJURUAN MUDA | AB13: 2022 | AC13: ZONASI | AD13: MIPA (Matematika Ilmu Pengetahuan Alam) | AE13: MIPA (Matematika Ilmu Pengetahuan Alam) | AF13: 0895600682619 | AG13: 78 | AH13: 80 | AI13: 77 | AJ13: 80 | AK13: 88 | AL13: 82.17 | AM13: 85 | AN13: 90 | AO13: 83 | AP13: 81 | AQ13: 83 | AR13: 84.33 | AS13: 83 | AT13: 86 | AU13: 78 | AV13: 86 | AW13: 84 | AX13: 83.33 | AY13: 83 | AZ13: 86 | BA13: 80 | BB13: 82 | BC13: 84 | BD13: 83.33 | BE13: 83 | BF13: 84 | BG13: 76 | BH13: 79 | BI13: 85 | BJ13: 82 | BK13: 1jy14ppwc57YjTWmfQjbV2LlOcE7Jv_es | BL13: https://drive.google.com/file/d/1jy14ppwc57YjTWmfQjbV2LlOcE7Jv_es/view?usp=drivesdk | BM13: 0399 BUKTI PENDAFTARAN WENNY FADHLIKA PPDB 2022 | BN13: Document successfully created; Document successfully merged; PDF created; Emails Sent: [To: cindyseptiani952@gmail.com]; Run via form trigger as ppdbsman1kjm@gmail.com; Timestamp: Jun 19 2022 10:41 PM | BO13: 82.17 | BP13: 84.33 | BQ13: 83.33 | BR13: 83.33 | BS13: 82 | BT13: =SUM(BO13:BS13) -> 415.16 | BU13: IPA | BV13: 6034948874003764 | BW13: 6034949309673981 | CF13: 7
A14: YA | B14: 8 | C14: 152 RANTAU | D14: 0079568901 | E14: ANDI ALHUDA | F14: L | G14: Desa Durian | H14: RANTAU | I14: Aceh Tamiang | J14: 1116080206070003 | K14: SMP SWASTA ISLAM | L14: IPS | M14: IPS | N14: andyalhuda@gmail.com | O14: 1116082704070006 | P14: DURIAN | Q14: 39235 | R14: Laki-laki | S14: Musa | T14: Dewi maharani | V14: 085260924516 | W14: Desa Durian | X14: RANTAU | Y14: Aceh Tamiang | Z14: 2 | AA14: SMP SWASTA ISLAM | AB14: 2022 | AC14: ZONASI | AD14: IIS ( Ilmu-ilmu Sosial) | AE14: IIS ( Ilmu-ilmu Sosial) | AF14: 082360104675 | AG14: 76 | AH14: 82 | AI14: 76 | AJ14: 81 | AK14: 89 | AL14: 86.33 | AM14: 78 | AN14: 83 | AO14: 80 | AP14: 78 | AQ14: 83 | AR14: 80.98 | AS14: 85 | AT14: 83 | AU14: 75 | AV14: 74 | AW14: 71 | AX14: 75.6 | AY14: 76 | AZ14: 81 | BA14: 80 | BB14: 80 | BC14: 77 | BD14: 82.39 | BE14: 70 | BF14: 88 | BG14: 90 | BH14: 85 | BI14: 90 | BJ14: 88.83 | BK14: 1a387u7KTrGRRJ9Jg_clQTaQmQASGRLKk | BL14: https://drive.google.com/file/d/1a387u7KTrGRRJ9Jg_clQTaQmQASGRLKk/view?usp=drivesdk | BM14: 0708 BUKTI PENDAFTARAN ANDI ALHUDA PPDB 2022 | BN14: Document successfully created; Document successfully merged; PDF created; Emails Sent: [To: andyalhuda@gmail.com]; Run via form trigger as ppdbsman1kjm@gmail.com; Timestamp: Jun 21 2022 12:47 AM | BO14: 86.33 | BP14: 80.98 | BQ14: 75.6 | BR14: 82.39 | BS14: 88.83 | BT14: =SUM(BO14:BS14) -> 414.13 | BU14: IPS | CF14: 8
A15: CW | B15: 9 | C15: 179 RANTAU | D15: 0077415020 | E15: FERDHIAN RIZKI ADMAZA | F15: L | G15: Desa Durian | H15: RANTAU | I15: Aceh Tamiang | J15: 1116080903070001 | K15: SMP TAHFIDZ MISBAHUR RASYAD AL-AZIZIYAH | L15: IPS | M15: IPA | N15: dedi19812308@gmail.com | O15: 1116080406090003 | P15: KARANG BARU | Q15: 39150 | R15: Laki-laki | S15: WARSITO | T15: YUSNIATI | V15: 082366666478 | W15: Desa Durian | X15: RANTAU | Y15: Aceh Tamiang | Z15: 1 | AA15: SMP TAHFIDZ MISBAHUR RASYAD AL-AZIZIYAH | AB15: 2022 | AC15: ZONASI | AD15: IIS ( Ilmu-ilmu Sosial) | AE15: MIPA (Matematika Ilmu Pengetahuan Alam) | AF15: 082268561163 | AG15: 88 | AH15: 90 | AI15: 80 | AJ15: 83 | AK15: 81 | AL15: 85 | AM15: 80 | AN15: 83 | AO15: 84 | AP15: 85 | AQ15: 75 | AR15: 78.08 | AS15: 77 | AT15: 78 | AU15: 73 | AV15: 78 | AW15: 78 | AX15: 78.5 | AY15: 83 | AZ15: 85 | BA15: 83 | BB15: 87 | BC15: 84 | BD15: 84.33 | BE15: 80 | BF15: 85 | BG15: 85 | BH15: 82 | BI15: 88 | BJ15: 88 | BK15: 16XiIIUwyqj-6l8ydmhFXgJCi3ptf68E7 | BL15: https://drive.google.com/file/d/16XiIIUwyqj-6l8ydmhFXgJCi3ptf68E7/view?usp=drivesdk | BM15: 0760 BUKTI PENDAFTARAN FERDHIAN RIZKI ADMAZA PPDB 2022 | BN15: Document successfully created; Document successfully merged; PDF created; Emails Sent: [To: dedi19812308@gmail.com]; Run via form trigger as ppdbsman1kjm@gmail.com; Timestamp: Jun 22 2022 12:35 AM | BO15: 85 | BP15: 78.08 | BQ15: 78.5 | BR15: 84.33 | BS15: 88 | BT15: =SUM(BO15:BS15) -> 413.91 | BU15: IPS | CF15: 9
A16: CW | B16: 10 | C16: 166 RANTAU | D16: 0078645282 | E16: SHAUMI SALSABILA | F16: P | G16: Desa Durian | H16: RANTAU | I16: Aceh Tamiang | J16: 1116084110070002 | K16: SMP MUHAMMADIYAH KUALASIMPANG | L16: IPA | M16: IPA | N16: shaumisalsabilla6@gmail.com | O16: 1116081411060097 | P16: KAMPUNG DURIAN | Q16: 39356 | R16: Perempuan | S16: Mohammad Ridla,S.E | T16: nurfajriani | V16: 085270765504 | W16: Desa Durian | X16: RANTAU | Y16: Aceh Tamiang | Z16: 3 | AA16: SMP MUHAMMADIYAH KUALASIMPANG | AB16: 2022 | AC16: ZONASI | AD16: MIPA (Matematika Ilmu Pengetahuan Alam) | AE16: MIPA (Matematika Ilmu Pengetahuan Alam) | AF16: 082283769269 | AG16: 80 | AH16: 82 | AI16: 85 | AJ16: 88 | AK16: 87 | AL16: 84.4 | AM16: 85 | AN16: 85 | AO16: 73 | AP16: 80 | AQ16: 90 | AR16: 82.6 | AS16: 80 | AT16: 80 | AU16: 84 | AV16: 80 | AW16: 80 | AX16: 80.8 | AY16: 81 | AZ16: 84 | BA16: 80 | BB16: 78 | BC16: 82 | BD16: 81 | BE16: 77 | BF16: 80 | BG16: 88 | BH16: 88 | BI16: 85 | BJ16: 83.6 | BK16: 1QP2lxZB93l-FBW8DyNv3nufw7nPK1qnx | BL16: https://drive.google.com/file/d/1QP2lxZB93l-FBW8DyNv3nufw7nPK1qnx/view?usp=drivesdk | BM16: 0255 BUKTI PENDAFTARAN SHAUMI SALSABILA PPDB 2022 | BN16: Document successfully created; Document successfully merged; PDF created; !!Error Sending Emails: Layanan terlalu sering diminta di hari yang sama: email.; Run via form trigger as ppdbsman1kjm@gmail.com; Timestamp: Jun 19 2022 8:00 AM | BO16: 84.4 | BP16: 82.6 | BQ16: 80.8 | BR16: 81 | BS16: 83.6 | BT16: =SUM(BO16:BS16) -> 412.4 | BU16: IPA | CF16: 10
A17: YA | B17: 11 | C17: 104 RANTAU | D17: 0076430220 | E17: AMARA DWI UTAMI | F17: P | G17: Desa Durian | H17: RANTAU | I17: Aceh Tamiang | J17: 1116087003070001 | K17: SMPN 3 KEJURUAN MUDA | L17: IPA | M17: IPS | N17: aliyafadila40@gmail.com | O17: 1116082506060025 | P17: KAMPUNG DURIAN | Q17: 39171 | R17: Perempuan | S17: SULASNO | T17: SUDARYATI | V17: 082277602695 | W17: Desa Durian | X17: RANTAU | Y17: Aceh Tamiang | Z17: 2 | AA17: SMPN 3 KEJURUAN MUDA | AB17: 2022 | AC17: ZONASI | AD17: MIPA (Matematika Ilmu Pengetahuan Alam) | AE17: IIS ( Ilmu-ilmu Sosial) | AF17: 082277602695 | AG17: 84.00 | AH17: 87.00 | AI17: 78.00 | AJ17: 80.00 | AK17: 88.00 | AL17: 84.5 | AM17: 89.00 | AN17: 89.00 | AO17: 80.00 | AP17: 83.00 | AQ17: 83.00 | AR17: 84.5 | AS17: 80.00 | AT17: 80.00 | AU17: 79.00 | AV17: 82.00 | AW17: 83.00 | AX17: 81.17 | AY17: 78.00 | AZ17: 78.00 | BA17: 79.00 | BB17: 81.00 | BC17: 81.00 | BD17: 80.17 | BE17: 81.00 | BF17: 84.00 | BG17: 78.00 | BH17: 80.00 | BI17: 82.00 | BJ17: 81.33 | BK17: 1pmowIGPnOjxyqdQhx0AKPl1NYQJr4zhR | BL17: https://drive.google.com/file/d/1pmowIGPnOjxyqdQhx0AKPl1NYQJr4zhR/view?usp=drivesdk | BM17: 0440 BUKTI PENDAFTARAN AMARA DWI UTAMI PPDB 2022 | BN17: Document successfully created; Document successfully merged; PDF created; !!Error Sending Emails: Layanan terlalu sering diminta di hari yang sama: email.; Run via form trigger as ppdbsman1kjm@gmail.com; Timestamp: Jun 19 2022 11:25 PM | BO17: 84.5 | BP17: 84.5 | BQ17: 81.17 | BR17: 80.17 | BS17: 81.33 | BT17: =SUM(BO17:BS17) -> 411.67 | BU17: IPA | CF17: 11
A18: CW | B18: 13 | C18: 183 RANTAU | D18: 0077698562 | E18: ARIFAH NURLAILA | F18: P | G18: Desa Durian | H18: RANTAU | I18: Aceh Tamiang | J18: 1116086511070001 | K18: SMP TAHFIDZ MISBAHUR RASYAD AL-AZIZIYAH | L18: IPS | M18: IPS | N18: arifahnurlaila51@smp.belajar.id | O18: 1116082401053176 | P18: DESA DURIAN | Q18: 39411 | R18: Perempuan | S18: MUHAMMAD AZMI | T18: SUKIATI | V18: 082261158133 | W18: Desa Durian | X18: RANTAU | Y18: Aceh Tamiang | Z18: 3 | AA18: SMP TAHFIDZ MISBAHUR RASYAD AL-AZIZIYAH | AB18: 2022 | AC18: ZONASI | AD18: IIS ( Ilmu-ilmu Sosial) | AE18: IIS ( Ilmu-ilmu Sosial) | AF18: 081273132715 | AG18: 80 | AH18: 85 | AI18: 80 | AJ18: 84 | AK18: 83 | AL18: 81.25 | AM18: 80 | AN18: 84 | AO18: 85 | AP18: 85 | AQ18: 83 | AR18: 80.67 | AS18: 80 | AT18: 80 | AU18: 80 | AV18: 83 | AW18: 80 | AX18: 75.92 | AY18: 81 | AZ18: 81 | BA18: 90 | BB18: 87 | BC18: 88 | BD18: 85.17 | BE18: 80 | BF18: 86 | BG18: 88 | BH18: 88 | BI18: 83 | BJ18: 87.25 | BK18: 1H2tz9jK5QDPxe6p1rFbDlQklQPciwoBs | BL18: https://drive.google.com/file/d/1H2tz9jK5QDPxe6p1rFbDlQklQPciwoBs/view?usp=drivesdk | BM18: 0770 BUKTI PENDAFTARAN ARIFAH NURLAILA PPDB 2022 | BN18: Document successfully created; Document successfully merged; PDF created; Emails Sent: [To: arifahnurlaila51@smp.belajar.id]; Run via form trigger as ppdbsman1kjm@gmail.com; Timestamp: Jun 22 2022 6:34 AM | BO18: 81.25 | BP18: 80.67 | BQ18: 75.92 | BR18: 85.17 | BS18: 87.25 | BT18: =SUM(BO18:BS18) -> 410.26 | BU18: IPS | BV18: PE2DTJ | CF18: 12
A19: YA | B19: 14 | C19: 109 RANTAU | D19: 0073298790 | E19: SHAYLA MEUTHIA RAMADHANI | F19: P | G19: Desa Durian | H19: RANTAU | I19: Aceh Tamiang | J19: 1116085610070001 | K19: SMPN 1 KUALA SIMPANG | L19: IPA | M19: IPA | N19: shaylameuthia3@gmail.com | O19: 1116082401053116 | P19: ACEH TAMIANG | Q19: 39371 | R19: Perempuan | S19: ALM. MUHAMMAD HENDRA HIDAYAT | T19: OMMIMAH | V19: 082362963344 | W19: Desa Durian | X19: RANTAU | Y19: Aceh Tamiang | Z19: 1 | AA19: SMPN 1 KUALA SIMPANG | AB19: 2022 | AC19: ZONASI | AD19: MIPA (Matematika Ilmu Pengetahuan Alam) | AE19: MIPA (Matematika Ilmu Pengetahuan Alam) | AF19: 081375711027 | AG19: 73 | AH19: 79 | AI19: 83 | AJ19: 85 | AK19: 86 | AL19: 86.25 | AM19: 65 | AN19: 65 | AO19: 72 | AP19: 79 | AQ19: 88 | AR19: 84.75 | AS19: 66 | AT19: 85 | AU19: 88 | AV19: 74 | AW19: 81 | AX19: 79.42 | AY19: 66 | AZ19: 75 | BA19: 73 | BB19: 80 | BC19: 84 | BD19: 78.59 | BE19: 68 | BF19: 76 | BG19: 80 | BH19: 90 | BI19: 85 | BJ19: 81.03 | BK19: 1c5aZQ7rIa9jy5yYujDOdrfgj2v0EXIV1 | BL19: https://drive.google.com/file/d/1c5aZQ7rIa9jy5yYujDOdrfgj2v0EXIV1/view?usp=drivesdk | BM19: 0019 BUKTI PENDAFTARAN SHAYLA MEUTHIA RAMADHANI PPDB 2022 | BN19: Document successfully created; Document successfully merged; PDF created; Emails Sent: [To: shaylameuthia3@gmail.com]; Run via form trigger as ppdbsman1kjm@gmail.com; Timestamp: Jun 18 2022 8:33 PM | BO19: 86.25 | BP19: 84.75 | BQ19: 79.42 | BR19: 78.59 | BS19: 81.03 | BT19: =SUM(BO19:BS19) -> 410.04 | BU19: IPA | CF19: 13
A20: SU | B20: 15 | C20: 128 RANTAU | D20: 0083253294 | E20: DELLA CAHYATI | F20: P | G20: Desa Durian | H20: RANTAU | I20: Aceh Tamiang | J20: 1116085601080002 | K20: SMP NEGERI 1 KUALA SIMPANG | L20: IPA | M20: IPA | N20: dellacahyati998@gmail.com | O20: 1116082401054748 | P20: ACEH TAMIANG | Q20: 39463 | R20: Perempuan | S20: GUNADI | T20: KASRIATUN | U20: GUNADI | V20: 082214139842 | W20: Desa Durian | X20: RANTAU | Y20: Aceh Tamiang | Z20: 4 | AA20: SMP NEGERI 1 KUALA SIMPANG | AB20: 2022 | AC20: ZONASI | AD20: MIPA (Matematika Ilmu Pengetahuan Alam) | AE20: MIPA (Matematika Ilmu Pengetahuan Alam) | AF20: 082175302296 | AG20: 75 | AH20: 74 | AI20: 84 | AJ20: 82 | AK20: 90 | AL20: 85 | AM20: 67 | AN20: 63 | AO20: 72 | AP20: 83 | AQ20: 87 | AR20: 80.83 | AS20: 69 | AT20: 70 | AU20: 76 | AV20: 76 | AW20: 77 | AX20: 77.42 | AY20: 75 | AZ20: 77 | BA20: 75 | BB20: 73 | BC20: 80 | BD20: 82.79 | BE20: 72 | BF20: 79 | BG20: 74 | BH20: 75 | BI20: 88 | BJ20: 81.63 | BK20: 15r1kavD644o4cZ09x0Eo2o7mXHmzcfVa | BL20: https://drive.google.com/file/d/15r1kavD644o4cZ09x0Eo2o7mXHmzcfVa/view?usp=drivesdk | BM20: 0360 BUKTI PENDAFTARAN DELLA CAHYATI PPDB 2022 | BN20: Document successfully created; Document successfully merged; PDF created; Emails Sent: [To: dellacahyati998@gmail.com]; Run via form trigger as ppdbsman1kjm@gmail.com; Timestamp: Jun 19 2022 9:59 PM | BO20: 85 | BP20: 80.83 | BQ20: 77.42 | BR20: 82.79 | BS20: 81.63 | BT20: =SUM(BO20:BS20) -> 407.67 | BU20: IPA | BW20: 6034949101980436 | CF20: 14
A21: CW | B21: 16 | C21: 163 RANTAU | D21: 0077761048 | E21: MUHAMMAD ZAKI MARDHATILLAH | F21: L | G21: Desa Durian | H21: RANTAU | I21: Aceh Tamiang | J21: 1116030303070001 | K21: YAYASAN MISBAHUR RASYAD AL-AZIZIYAH SMP TAHFIDZ MISBAHUR RASYAD AL-AZIZIYAH JL. RANTAU-KUALA SIMPANG, GG. H. M. NUR SARI, BENUA RAJA | L21: IPS | M21: IPS | N21: muhammadkhalidksp@gmail.com | O21: 1116081305110001 | P21: KARANG BARU | Q21: 39144 | R21: Laki-laki | S21: MUHAMMAD KHALID | T21: SITI FATIMAH | V21: 085260698833 | W21: Desa Durian | X21: RANTAU | Y21: Aceh Tamiang | Z21: 1 | AA21: YAYASAN MISBAHUR RASYAD AL-AZIZIYAH SMP TAHFIDZ MISBAHUR RASYAD AL-AZIZIYAH JL. RANTAU-KUALA SIMPANG, GG. H. M. NUR SARI, BENUA RAJA | AB21: 2022 | AC21: ZONASI | AD21: IIS ( Ilmu-ilmu Sosial) | AE21: IIS ( Ilmu-ilmu Sosial) | AF21: 085261719232 | AG21: 70 | AH21: 70 | AI21: 70 | AJ21: 70 | AK21: 70 | AL21: 84.08 | AM21: 70 | AN21: 70 | AO21: 70 | AP21: 70 | AQ21: 70 | AR21: 78.75 | AS21: 65 | AT21: 65 | AU21: 65 | AV21: 65 | AW21: 65 | AX21: 70.33 | AY21: 70 | AZ21: 70 | BA21: 70 | BB21: 70 | BC21: 70 | BD21: 86.67 | BE21: 70 | BF21: 70 | BG21: 70 | BH21: 70 | BI21: 70 | BJ21: 86.83 | BK21: 1w0GRYZLwhux9ab01R4gHW7rZg4iEvGRx | BL21: https://drive.google.com/file/d/1w0GRYZLwhux9ab01R4gHW7rZg4iEvGRx/view?usp=drivesdk | BM21: 0692 BUKTI PENDAFTARAN MUHAMMAD ZAKI MARDHATILLAH PPDB 2022 | BN21: Document successfully created; Document successfully merged; PDF created; Emails Sent: [To: muhammadkhalidksp@gmail.com]; Run via form trigger as ppdbsman1kjm@gmail.com; Timestamp: Jun 21 2022 12:01 AM | BO21: 84.08 | BP21: 78.75 | BQ21: 70.33 | BR21: 86.67 | BS21: 86.83 | BT21: =SUM(BO21:BS21) -> 406.66 | BU21: IPS | CF21: 15
A22: CW | B22: 17 | C22: 090 RANTAU | D22: 0072088460 | E22: VINA KHAIRANI | F22: P | G22: Desa Durian | H22: RANTAU | I22: Aceh Tamiang | J22: 1116086609070004 | K22: SMP N 3 KEJURUAN MUDA | L22: IPA | M22: IPA | N22: vinakhairanirani@gmail.com | O22: 1116082107090006 | P22: SUKA JADI | Q22: 39351 | R22: Perempuan | S22: SUPRIANTO | T22: NILAWATI | V22: 085296545276 | W22: Desa Durian | X22: RANTAU | Y22: Aceh Tamiang | Z22: 1 | AA22: SMP N 3 KEJURUAN MUDA | AB22: 2022 | AC22: ZONASI | AD22: MIPA (Matematika Ilmu Pengetahuan Alam) | AE22: MIPA (Matematika Ilmu Pengetahuan Alam) | AF22: 083837747226 | AG22: 83.00 | AH22: 83.00 | AI22: 77.00 | AJ22: 80.00 | AK22: 84.00 | AL22: 82.17 | AM22: 77.00 | AN22: 82.00 | AO22: 84.00 | AP22: 83.00 | AQ22: 82.00 | AR22: 81.67 | AS22: 79.00 | AT22: 79.00 | AU22: 85.00 | AV22: 80.00 | AW22: 80.00 | AX22: 80.67 | AY22: 78.00 | AZ22: 78.00 | BA22: 77.00 | BB22: 79.00 | BC22: 80.00 | BD22: 78.67 | BE22: 81.00 | BF22: 81.00 | BG22: 79.00 | BH22: 83.00 | BI22: 81.00 | BJ22: 81.17 | BK22: 1wrOWoKdK2i8Ek-4aqOH7SfXFGn0-qYkT | BL22: https://drive.google.com/file/d/1wrOWoKdK2i8Ek-4aqOH7SfXFGn0-qYkT/view?usp=drivesdk | BM22: 0486 BUKTI PENDAFTARAN VINA KHAIRANI PPDB 2022 | BN22: Document successfully created; Document successfully merged; PDF created; !!Error Sending Emails: Layanan terlalu sering diminta di hari yang sama: email.; Run via form trigger as ppdbsman1kjm@gmail.com; Timestamp: Jun 20 2022 12:22 AM | BO22: 82.17 | BP22: 81.67 | BQ22: 80.67 | BR22: 78.67 | BS22: 81.17 | BT22: =SUM(BO22:BS22) -> 404.35 | BU22: IPA | BV22: 488JAR | CF22: 16
A23: SU | B23: 18 | C23: 070 RANTAU | D23: 0071470953 | E23: PADIAH SUTAMI | F23: P | G23: Desa Durian | H23: RANTAU | I23: Aceh Tamiang | J23: 1116084701070002 | K23: SMP NEGERI 3 KEJURUAN MUDA | L23: IPS | M23: IPS | N23: sariwita48@gmail.com | O23: 1116082401054094 | P23: DURIAN | Q23: 39089 | R23: Perempuan | S23: Abdul Muin | T23: Boera | V23: 082211222509 | W23: Desa Durian | X23: RANTAU | Y23: Aceh Tamiang | Z23: 2 | AA23: SMP NEGERI 3 KEJURUAN MUDA | AB23: 2022 | AC23: ZONASI | AD23: IIS ( Ilmu-ilmu Sosial) | AE23: IIS ( Ilmu-ilmu Sosial) | AF23: 082211222509 | AG23: 79.00 | AH23: 83.00 | AI23: 80.00 | AJ23: 80.00 | AK23: 87.00 | AL23: 83 | AM23: 77.00 | AN23: 80.00 | AO23: 82.00 | AP23: 78.00 | AQ23: 78.00 | AR23: 79 | AS23: 79.00 | AT23: 79.00 | AU23: 85.00 | AV23: 80.00 | AW23: 82.00 | AX23: 81.33 | AY23: 81.00 | AZ23: 78.00 | BA23: 80.00 | BB23: 82.00 | BC23: 83.00 | BD23: 81 | BE23: 70.00 | BF23: 82.00 | BG23: 80.00 | BH23: 80.00 | BI23: 82.00 | BJ23: 79.33 | BK23: 1tWwFnAwq2srLPJFMvSDFUDls1dzakiEw | BL23: https://drive.google.com/file/d/1tWwFnAwq2srLPJFMvSDFUDls1dzakiEw/view?usp=drivesdk | BM23: 0268 BUKTI PENDAFTARAN PADIAH SUTAMI PPDB 2022 | BN23: Document successfully created; Document successfully merged; PDF created; !!Error Sending Emails: Layanan terlalu sering diminta di hari yang sama: email.; Run via form trigger as ppdbsman1kjm@gmail.com; Timestamp: Jun 19 2022 8:41 AM | BO23: 83 | BP23: 79 | BQ23: 81.33 | BR23: 81 | BS23: 79.33 | BT23: =SUM(BO23:BS23) -> 403.66 | BU23: IPS | BV23: 6034948874003780 | BW23: 6034949101981053 | CF23: 17
A24: CW | B24: 19 | C24: 177 RANTAU | D24: 0066663963 | E24: PIRMAN SYAH HARAHAP | F24: L | G24: Desa Durian | H24: RANTAU | I24: Aceh Tamiang | J24: 1116081212060001 | K24: MTSS DARUL ULUM | L24: IPS | M24: IPS | N24: yullimahardika31@gmail.com | O24: 1116082506070029 | P24: KAMPUNG DURIAN | Q24: 39063 | R24: Laki-laki | S24: SAIFUL MIJAN HARAHAP | T24: KAMARIAH G | U24: SAIFUL MIJAN HARAHAP | V24: 082166491000 | W24: Desa Durian | X24: RANTAU | Y24: Aceh Tamiang | Z24: 4 | AA24: MTSS DARUL ULUM | AB24: 2022 | AC24: ZONASI | AD24: IIS ( Ilmu-ilmu Sosial) | AE24: IIS ( Ilmu-ilmu Sosial) | AF24: 082166491000 | AG24: 82 | AH24: 82 | AI24: 82 | AJ24: 82 | AK24: 82 | AL24: 82 | AM24: 79 | AN24: 79 | AO24: 79 | AP24: 79 | AQ24: 79 | AR24: 79 | AS24: 81 | AT24: 81 | AU24: 81 | AV24: 81 | AW24: 81 | AX24: 81 | AY24: 81 | AZ24: 81 | BA24: 81 | BB24: 81 | BC24: 81 | BD24: 81 | BE24: 80 | BF24: 80 | BG24: 80 | BH24: 80 | BI24: 80 | BJ24: 80 | BK24: 1LOfY1qnW36EL_LfNleX8wZ3v-FPTLJX6 | BL24: https://drive.google.com/file/d/1LOfY1qnW36EL_LfNleX8wZ3v-FPTLJX6/view?usp=drivesdk | BM24: 0781 BUKTI PENDAFTARAN PIRMAN SYAH HARAHAP PPDB 2022 | BN24: Document successfully created; Document successfully merged; PDF created; Emails Sent: [To: yullimahardika31@gmail.com]; Run via form trigger as ppdbsman1kjm@gmail.com; Timestamp: Jun 22 2022 9:46 PM | BO24: 82 | BP24: 79 | BQ24: 81 | BR24: 81 | BS24: 80 | BT24: =SUM(BO24:BS24) -> 403 | BU24: IPS | BX24: MIN 4 ACEH TAMIANG | CF24: 18
A25: CW | B25: 20 | C25: 187 RANTAU | D25: 0068488060 | E25: AZIS ABDILLAH ILMI | F25: L | G25: Desa Durian | H25: RANTAU | I25: Aceh Tamiang | J25: 1174031101060005 | K25: SMPS DHARMA PATRA | L25: IPA | M25: IPA | N25: mazis4810@gmail.com | O25: 1116081711210003 | P25: LHOKSEUMAWE | Q25: 39047 | R25: Laki-laki | S25: TONY WALUYO | T25: SARIYAH | U25: Tidak ada | V25: 085296540097 | W25: Desa Durian | X25: RANTAU | Y25: Aceh Tamiang | Z25: 3 | AA25: SMPS DHARMA PATRA | AB25: 2022 | AC25: ZONASI | AD25: MIPA (Matematika Ilmu Pengetahuan Alam) | AE25: MIPA (Matematika Ilmu Pengetahuan Alam) | AF25: 0895327924497 | AG25: 76 | AH25: 81 | AI25: 81 | AJ25: 78 | AK25: 80 | AL25: 82.67 | AM25: 72 | AN25: 66 | AO25: 66 | AP25: 66 | AQ25: 75 | AR25: 76.83 | AS25: 68 | AT25: 77 | AU25: 77 | AV25: 78 | AW25: 80 | AX25: 79.33 | AY25: 81 | AZ25: 74 | BA25: 74 | BB25: 74 | BC25: 79 | BD25: 80 | BE25: 80 | BF25: 78 | BG25: 78 | BH25: 78 | BI25: 78 | BJ25: 84 | BK25: 1H_wtQUp508SqAavKdBvlr7vqKStpj9QK | BL25: https://drive.google.com/file/d/1H_wtQUp508SqAavKdBvlr7vqKStpj9QK/view?usp=drivesdk | BM25: 0785 BUKTI PENDAFTARAN AZIS ABDILLAH ILMI PPDB 2022 | BN25: Document successfully created; Document successfully merged; PDF created; Emails Sent: [To: mazis4810@gmail.com]; Run via form trigger as ppdbsman1kjm@gmail.com; Timestamp: Jun 22 2022 11:29 PM | BO25: 82.67 | BP25: 76.83 | BQ25: 79.33 | BR25: 80 | BS25: 84 | BT25: =SUM(BO25:BS25) -> 402.83 | BU25: IPA | CF25: 19
A26: CW | B26: 21 | C26: 185 RANTAU | D26: 0077143676 | E26: SAH BAIHAKI TEGAR | F26: L | G26: Desa Durian | H26: RANTAU | I26: Aceh Tamiang | J26: 1116031106070001 | K26: SMP NEGERI 1 KUALASIMPANG | L26: IPS | M26: IPA | N26: sahbaihakitegar@gmail.com | O26: 1116081005190004 | P26: BANDA ACEH | Q26: 39244 | R26: Laki-laki | S26: HENDRA KURNIAWAN | T26: FITRI ANI | V26: 082294929786 | W26: Desa Durian | X26: RANTAU | Y26: Aceh Tamiang | Z26: 1 | AA26: SMP NEGERI 1 KUALASIMPANG | AB26: 2022 | AC26: ZONASI | AD26: IIS ( Ilmu-ilmu Sosial) | AE26: MIPA (Matematika Ilmu Pengetahuan Alam) | AF26: 089636138549 | AG26: 67 | AH26: 70 | AI26: 80 | AJ26: 80 | AK26: 87 | AL26: 85.33 | AM26: 60 | AN26: 62 | AO26: 72 | AP26: 83 | AQ26: 88 | AR26: 79.92 | AS26: 73 | AT26: 72 | AU26: 80 | AV26: 77 | AW26: 73 | AX26: 77.58 | AY26: 78 | AZ26: 68 | BA26: 73 | BB26: 80 | BC26: 77 | BD26: 78.34 | BE26: 70 | BF26: 75 | BG26: 83 | BH26: 84 | BI26: 78 | BJ26: 80.1 | BK26: 1yqKS6wyRe4QGubtNamKNQ8tMFyacbbmx | BL26: https://drive.google.com/file/d/1yqKS6wyRe4QGubtNamKNQ8tMFyacbbmx/view?usp=drivesdk | BM26: 0714 BUKTI PENDAFTARAN SAH BAIHAKI TEGAR PPDB 2022 | BN26: Document successfully created; Document successfully merged; PDF created; Emails Sent: [To: sahbaihakitegar@gmail.com]; Run via form trigger as ppdbsman1kjm@gmail.com; Timestamp: Jun 21 2022 2:25 AM | BO26: 85.33 | BP26: 79.92 | BQ26: 77.58 | BR26: 78.34 | BS26: 80.1 | BT26: =SUM(BO26:BS26) -> 401.27 | BU26: IPS | CF26: 20
A27: SU | B27: 22 | C27: 126 RANTAU | D27: 0076461556 | E27: DIMAS RAMADANI | F27: L | G27: Desa Durian | H27: RANTAU | I27: Aceh Tamiang | J27: 1116081009070001 | K27: SMP NEGERI 3 KEJUJURAN MUDA | L27: IPS | M27: IPS | N27: dimasramadani14171@gmail.com | O27: 1116080210070007 | P27: ACEH TAMIANG | Q27: 39335 | R27: Laki-laki | S27: TARMEDI | T27: KIKI JURIANI | U27: TARMEDI | V27: 082277594823 | W27: Desa Durian | X27: RANTAU | Y27: Aceh Tamiang | Z27: 2 | AA27: SMP NEGERI 3 KEJUJURAN MUDA | AB27: 2022 | AC27: ZONASI | AD27: IIS ( Ilmu-ilmu Sosial) | AE27: IIS ( Ilmu-ilmu Sosial) | AF27: 082182095137 | AG27: 78.00 | AH27: 80.00 | AI27: 77.00 | AJ27: 80.00 | AK27: 82.00 | AL27: 80.17 | AM27: 81.00 | AN27: 86.00 | AO27: 66.00 | AP27: 80.00 | AQ27: 80.00 | AR27: 78.83 | AS27: 84.00 | AT27: 83.00 | AU27: 80.00 | AV27: 78.00 | AW27: 78.00 | AX27: 80.17 | AY27: 86.00 | AZ27: 88.00 | BA27: 77.00 | BB27: 77.00 | BC27: 80.00 | BD27: 82 | BE27: 78.00 | BF27: 80.00 | BG27: 76.00 | BH27: 77.00 | BI27: 82.00 | BJ27: 79.17 | BK27: 1ONaVvaV966D7FcIO7s5vx8nRYwd9PgEy | BL27: https://drive.google.com/file/d/1ONaVvaV966D7FcIO7s5vx8nRYwd9PgEy/view?usp=drivesdk | BM27: 0263 BUKTI PENDAFTARAN DIMAS RAMADANI PPDB 2022 | BN27: Document successfully created; Document successfully merged; PDF created; !!Error Sending Emails: Layanan terlalu sering diminta di hari yang sama: email.; Run via form trigger as ppdbsman1kjm@gmail.com; Timestamp: Jun 19 2022 8:27 AM | BO27: 80.17 | BP27: 78.83 | BQ27: 80.17 | BR27: 82 | BS27: 79.17 | BT27: =SUM(BO27:BS27) -> 400.34 | BU27: IPS | BV27: PFJSD3 | BW27: 6034949101915309 | CF27: 21
A28: CW | B28: 23 | C28: 192 RANTAU | D28: 0078023005 | E28: INDAH RAHAYU | F28: P | G28: Desa Durian | H28: RANTAU | I28: Aceh Tamiang | J28: 1116066706070001 | K28: MTSS. NURUL IMAN | L28: IPS | M28: IPS | N28: indahrahayu55555@gmail.com | O28: 1116081610120002 | P28: ALUR MENTAWAK | Q28: 39261 | R28: Perempuan | S28: NURDIN | T28: RAMLAH | U28: ABDUL KADIR | V28: 081274954204 | W28: Desa Durian | X28: RANTAU | Y28: Aceh Tamiang | Z28: 5 | AA28: MTSS. NURUL IMAN | AB28: 2022 | AC28: ZONASI | AD28: IIS ( Ilmu-ilmu Sosial) | AE28: IIS ( Ilmu-ilmu Sosial) | AF28: 081260525468 | AG28: 77.50 | AH28: 72.00 | AI28: 80.00 | AJ28: 81.00 | AK28: 82.00 | AL28: 78.5 | AM28: 79.50 | AN28: 80.50 | AO28: 81.50 | AP28: 82.00 | AQ28: 84.50 | AR28: 81.6 | AS28: 75.00 | AT28: 72.00 | AU28: 79.00 | AV28: 84.50 | AW28: 80.00 | AX28: 78.1 | AY28: 77.50 | AZ28: 81.00 | BA28: 79.00 | BB28: 80.00 | BC28: 81.50 | BD28: 79.8 | BE28: 80.00 | BF28: 85.00 | BG28: 81.00 | BH28: 82.00 | BI28: 81.00 | BJ28: 81.9 | BK28: 1YtO7oMhEJyyTO-OEXh1Zw0xAOqffAisU | BL28: https://drive.google.com/file/d/1YtO7oMhEJyyTO-OEXh1Zw0xAOqffAisU/view?usp=drivesdk | BM28: 0275 BUKTI PENDAFTARAN INDAH RAHAYU PPDB 2022 | BN28: Document successfully created; Document successfully merged; PDF created; !!Error Sending Emails: Layanan terlalu sering diminta di hari yang sama: email.; Run via form trigger as ppdbsman1kjm@gmail.com; Timestamp: Jun 19 2022 9:01 AM | BO28: 78.5 | BP28: 81.6 | BQ28: 78.1 | BR28: 79.8 | BS28: 81.9 | BT28: =SUM(BO28:BS28) -> 399.9 | BU28: IPS | BV28: PL50RZ | BX28: SDN ALUR MENTAWAK | CF28: 22
A29: YA | B29: 24 | C29: 119 RANTAU | D29: 0076205149 | E29: MUHAMMAD YUDA | F29: L | G29: Desa Durian | H29: RANTAU | I29: Aceh Tamiang | J29: 1116031306070002 | K29: SMP NEGERI 3 KEJURUAN MUDA | L29: IPS | M29: IPS | N29: srikampungdurian@gmail.com | O29: 1116081304200005 | P29: KEBUN RANTAU | Q29: 39246 | R29: Laki-laki | S29: SOFIAN | T29: SRI HANDAYANI | U29: SARI WIDODO | V29: 082217475816 | W29: Desa Durian | X29: RANTAU | Y29: Aceh Tamiang | Z29: 1 | AA29: SMP NEGERI 3 KEJURUAN MUDA | AB29: 2022 | AC29: ZONASI | AD29: IIS ( Ilmu-ilmu Sosial) | AE29: IIS ( Ilmu-ilmu Sosial) | AF29: 082310903574 | AG29: 77 | AH29: 81 | AI29: 77 | AJ29: 80 | AK29: 80 | AL29: 79.5 | AM29: 77 | AN29: 85 | AO29: 68 | AP29: 81 | AQ29: 82 | AR29: 79.17 | AS29: 79 | AT29: 80 | AU29: 83 | AV29: 83 | AW29: 83 | AX29: 81.67 | AY29: 78 | AZ29: 78 | BA29: 78 | BB29: 79 | BC29: 80 | BD29: 78.83 | BE29: 80 | BF29: 82 | BG29: 78 | BH29: 79 | BI29: 82 | BJ29: 80.67 | BK29: 12x3lbBw3vObORUNsAs5POt90Qrq-dOsp | BL29: https://drive.google.com/file/d/12x3lbBw3vObORUNsAs5POt90Qrq-dOsp/view?usp=drivesdk | BM29: 0106 BUKTI PENDAFTARAN MUHAMMAD YUDA PPDB 2022 | BN29: Document successfully created; Document successfully merged; PDF created; Emails Sent: [To: srikampungdurian@gmail.com]; Run via form trigger as ppdbsman1kjm@gmail.com; Timestamp: Jun 19 2022 12:24 AM | BO29: 79.5 | BP29: 79.17 | BQ29: 81.67 | BR29: 78.83 | BS29: 80.67 | BT29: =SUM(BO29:BS29) -> 399.84 | BU29: IPS | CF29: 23
A30: YA | B30: 25 | C30: 160 RANTAU | D30: 0068617906 | E30: DIEO ATMAJA | F30: L | G30: Desa Durian | H30: RANTAU | I30: Aceh Tamiang | J30: 1116080812060001 | K30: SMP NEGRI 3 KEJURUAN MUDA | L30: IPA | M30: IPA | N30: oktafebriandika10@gmail.com | O30: 1116081902090033 | P30: KAMPUNG DURIAN | Q30: 39059 | R30: Laki-laki | S30: AHMAD BUANI | T30: SITI AMINAH | V30: 082240947973 | W30: Desa Durian | X30: RANTAU | Y30: Aceh Tamiang | Z30: 3 | AA30: SMP NEGRI 3 KEJURUAN MUDA | AB30: 2022 | AC30: ZONASI | AD30: MIPA (Matematika Ilmu Pengetahuan Alam) | AE30: MIPA (Matematika Ilmu Pengetahuan Alam) | AF30: 082240947973 | AG30: 70 | AH30: 81 | AI30: 73 | AJ30: 75 | AK30: 79 | AL30: 76.5 | AM30: 84 | AN30: 86 | AO30: 84 | AP30: 83 | AQ30: 80 | AR30: 82.83 | AS30: 82 | AT30: 81 | AU30: 82 | AV30: 77 | AW30: 78 | AX30: 79.83 | AY30: 81 | AZ30: 81 | BA30: 81 | BB30: 79 | BC30: 80 | BD30: 81 | BE30: 79 | BF30: 81 | BG30: 77 | BH30: 79 | BI30: 81 | BJ30: 79.67 | BK30: 1F5iBLh2t5RTeDCxnFehbkP2qB_nqbosP | BL30: https://drive.google.com/file/d/1F5iBLh2t5RTeDCxnFehbkP2qB_nqbosP/view?usp=drivesdk | BM30: 0710 BUKTI PENDAFTARAN DIEO ATMAJA PPDB 2022 | BN30: Document successfully created; Document successfully merged; PDF created; Emails Sent: [To: oktafebriandika10@gmail.com]; Run via form trigger as ppdbsman1kjm@gmail.com; Timestamp: Jun 21 2022 1:16 AM | BO30: 76.5 | BP30: 82.83 | BQ30: 79.83 | BR30: 81 | BS30: 79.67 | BT30: =SUM(BO30:BS30) -> 399.83 | BU30: IPA | CF30: 24
A31: CW | B31: 27 | C31: 117 RANTAU | D31: 0075610563 | E31: MUHAMMAD RIFKI MAULANA | F31: L | G31: Desa Durian | H31: RANTAU | I31: Aceh Tamiang | J31: 1116082702070002 | K31: SMP SWASTA ISLAM KUALASIMPANG | L31: IPA | M31: IPA | N31: yullimahardika31@gmail.com | O31: 1116081902090028 | P31: DURIAN | Q31: 39140 | R31: Laki-laki | S31: BUDI HIDAYAT | T31: Almh.WARSIAH | U31: MARIANI | V31: 082267715527 | W31: Desa Durian | X31: RANTAU | Y31: Aceh Tamiang | Z31: 1 | AA31: SMP SWASTA ISLAM KUALASIMPANG | AB31: 2022 | AC31: ZONASI | AD31: MIPA (Matematika Ilmu Pengetahuan Alam) | AE31: MIPA (Matematika Ilmu Pengetahuan Alam) | AF31: 082267715527 | AG31: 84.85 | AH31: 84.85 | AI31: 84.85 | AJ31: 84.85 | AK31: 84.85 | AL31: 84.5 | AM31: 78.87 | AN31: 78.87 | AO31: 78.87 | AP31: 78.87 | AQ31: 78.87 | AR31: 78.87 | AS31: 74.58 | AT31: 74.58 | AU31: 74.58 | AV31: 74.58 | AW31: 74.58 | AX31: 74.58 | AY31: 81.85 | AZ31: 81.85 | BA31: 81.85 | BB31: 81.85 | BC31: 81.85 | BD31: 81.85 | BE31: 79.33 | BF31: 79.33 | BG31: 79.33 | BH31: 79.33 | BI31: 79.33 | BJ31: 79.33 | BK31: 1SBrGW2cj7tq5PnJ6sEZ59BbT3R7ZZwBo | BL31: https://drive.google.com/file/d/1SBrGW2cj7tq5PnJ6sEZ59BbT3R7ZZwBo/view?usp=drivesdk | BM31: 0660 BUKTI PENDAFTARAN MUHAMMAD RIFKI MAULANA PPDB 2022 | BN31: Document successfully created; Document successfully merged; PDF created; Emails Sent: [To: yullimahardika31@gmail.com]; Run via form trigger as ppdbsman1kjm@gmail.com; Timestamp: Jun 20 2022 10:11 PM | BO31: 84.5 | BP31: 78.87 | BQ31: 74.58 | BR31: 81.85 | BS31: 79.33 | BT31: =SUM(BO31:BS31) -> 399.13 | BU31: IPA | CF31: 25
A32: SU | B32: 28 | C32: 137 RANTAU | D32: 0065183892 | E32: KEISA SAFITRI | F32: P | G32: Desa Durian | H32: RANTAU | I32: Aceh Tamiang | J32: 1116085512060001 | K32: SMP NEGERI 1 KUALASIMPANG | L32: IPA | M32: IPA | N32: keisyasafitri734@gmail.com | O32: 1116080603070004 | P32: KAMPUNG DURIAN | Q32: 39066 | R32: Perempuan | S32: MUHAMMAD IDRIS | T32: EKA SUSANTI | V32: 082363146581 | W32: Desa Durian | X32: RANTAU | Y32: Aceh Tamiang | Z32: 1 | AA32: SMP NEGERI 1 KUALASIMPANG | AB32: 2022 | AC32: ZONASI | AD32: MIPA (Matematika Ilmu Pengetahuan Alam) | AE32: MIPA (Matematika Ilmu Pengetahuan Alam) | AF32: 083124815605 | AG32: 65 | AH32: 74 | AI32: 84 | AJ32: 85 | AK32: 85 | AL32: 83.42 | AM32: 63 | AN32: 70 | AO32: 72 | AP32: 80 | AQ32: 83 | AR32: 78.83 | AS32: 64 | AT32: 77 | AU32: 76 | AV32: 77 | AW32: 81 | AX32: 78 | AY32: 67 | AZ32: 65 | BA32: 74 | BB32: 73 | BC32: 75 | BD32: 78.3 | BE32: 62 | BF32: 65 | BG32: 74 | BH32: 75 | BI32: 75 | BJ32: 80.27 | BK32: 1bDloccXn-fvFRLyORqMPpGCXC6QN5ae9 | BL32: https://drive.google.com/file/d/1bDloccXn-fvFRLyORqMPpGCXC6QN5ae9/view?usp=drivesdk | BM32: 0475 BUKTI PENDAFTARAN KEISYA SAFITRI PPDB 2022 | BN32: Document successfully created; Document successfully merged; PDF created; !!Error Sending Emails: Layanan terlalu sering diminta di hari yang sama: email.; Run via form trigger as ppdbsman1kjm@gmail.com; Timestamp: Jun 20 2022 12:02 AM | BO32: 83.42 | BP32: 78.83 | BQ32: 78 | BR32: 78.3 | BS32: 80.27 | BT32: =SUM(BO32:BS32) -> 398.82 | BU32: IPA | CF32: 26
A33: CW | B33: 29 | C33: 143 RANTAU | D33: 0077841945 | E33: RINI AMELIA | F33: P | G33: Desa Durian | H33: RANTAU | I33: Aceh Tamiang | J33: 1116085104070004 | K33: SMPN 3 KEJURUAN MUDA | L33: IPS | M33: IPA | N33: ameliarini887@gmail.com | O33: 1116082904090009 | P33: PEMETANG SIANTAR | Q33: 39183 | R33: Perempuan | S33: Karman | T33: ngatiyem | U33: Karman | V33: 082267369023 | W33: Desa Durian | X33: RANTAU | Y33: Aceh Tamiang | Z33: 4 | AA33: SMPN 3 KEJURUAN MUDA | AB33: 2022 | AC33: ZONASI | AD33: IIS ( Ilmu-ilmu Sosial) | AE33: MIPA (Matematika Ilmu Pengetahuan Alam) | AF33: 082267369023 | AG33: 75 | AH33: 81 | AI33: 77 | AJ33: 77 | AK33: 86 | AL33: 80.67 | AM33: 77 | AN33: 79 | AO33: 79 | AP33: 78 | AQ33: 78 | AR33: 78.33 | AS33: 79 | AT33: 79 | AU33: 78 | AV33: 77 | AW33: 82 | AX33: 79.67 | AY33: 80 | AZ33: 79 | BA33: 77 | BB33: 79 | BC33: 80 | BD33: 79.5 | BE33: 79 | BF33: 82 | BG33: 78 | BH33: 78 | BI33: 80 | BJ33: 79.5 | BK33: 1-NaZjM6oOR33roZQ8B9QoVnc4icxV1OH | BL33: https://drive.google.com/file/d/1-NaZjM6oOR33roZQ8B9QoVnc4icxV1OH/view?usp=drivesdk | BM33: 0507 BUKTI PENDAFTARAN RINI AMELIA PPDB 2022 | BN33: Document successfully created; Document successfully merged; PDF created; !!Error Sending Emails: Layanan terlalu sering diminta di hari yang sama: email.; Run via form trigger as ppdbsman1kjm@gmail.com; Timestamp: Jun 20 2022 1:01 AM | BO33: 80.67 | BP33: 78.33 | BQ33: 79.67 | BR33: 79.5 | BS33: 79.5 | BT33: =SUM(BO33:BS33) -> 397.67 | BU33: IPS | CF33: 27
A34: JD | B34: 30 | C34: 194 RANTAU | D34: 0071858605 | E34: M. HABBIB AL ZIDAN | F34: L | G34: Desa Durian | H34: RANTAU | I34: Aceh Tamiang | J34: 1205071410070001 | K34: SMP TAHFIDZ MISBAHUR RASYAD AL-AZIZIYAH | L34: IPA | M34: IPS | N34: ettywahyunie@gmail.com | O34: 1116082501210001 | P34: MEDAN | Q34: 39369 | R34: Laki-laki | S34: HERMAWADI | T34: EMMA PRATIWI. AMA.PD | V34: 085275020008 | W34: Desa Durian | X34: RANTAU | Y34: Aceh Tamiang | Z34: 1 | AA34: SMP TAHFIDZ MISBAHUR RASYAD AL-AZIZIYAH | AB34: 2022 | AC34: ZONASI | AD34: MIPA (Matematika Ilmu Pengetahuan Alam) | AE34: IIS ( Ilmu-ilmu Sosial) | AF34: 082249989991 | AG34: 80 | AH34: 86 | AI34: 78 | AJ34: 84 | AK34: 78 | AL34: 81.08 | AM34: 80 | AN34: 86 | AO34: 70 | AP34: 72 | AQ34: 70 | AR34: 79.25 | AS34: 77 | AT34: 79 | AU34: 68 | AV34: 77 | AW34: 66 | AX34: 71.42 | AY34: 80 | AZ34: 88 | BA34: 75 | BB34: 70 | BC34: 73 | BD34: 80.67 | BE34: 80 | BF34: 87 | BG34: 79 | BH34: 88 | BI34: 70 | BJ34: 83.75 | BK34: 1gJ2UktyQC6FNT-XpB6dRo-jP2OGwPYK7 | BL34: https://drive.google.com/file/d/1gJ2UktyQC6FNT-XpB6dRo-jP2OGwPYK7/view?usp=drivesdk | BM34: 0768 BUKTI PENDAFTARAN M HABBIB AL ZIDAN PPDB 2022 | BN34: Document successfully created; Document successfully merged; PDF created; Emails Sent: [To: ettywahyunie@gmail.com]; Run via form trigger as ppdbsman1kjm@gmail.com; Timestamp: Jun 22 2022 3:57 AM | BO34: 81.08 | BP34: 79.25 | BQ34: 71.42 | BR34: 80.67 | BS34: 83.75 | BT34: =SUM(BO34:BS34) -> 396.17 | BU34: IPA | CF34: 28
A35: YA | B35: 31 | C35: 093 RANTAU | D35: 0075435005 | E35: M TAWAQAL FARATZ | F35: L | G35: Desa Durian | H35: RANTAU | I35: Aceh Tamiang | J35: 1116051509070001 | K35: SMP MUHAMMADIYAH | L35: IPA | M35: IPS | N35: wakal.fr81@gmail.com | O35: 1116051502080013 | P35: ACEHTAMIANG | Q35: 39340 | R35: Laki-laki | S35: M.YASIN FAZLI | T35: RATNA | V35: 085359004712 | W35: Desa Durian | X35: RANTAU | Y35: Aceh Tamiang | Z35: 1 | AA35: SMP MUHAMMADIYAH | AB35: 2022 | AC35: ZONASI | AD35: MIPA (Matematika Ilmu Pengetahuan Alam) | AE35: IIS ( Ilmu-ilmu Sosial) | AF35: 082313165594 | AG35: 80 | AH35: 80 | AI35: 75 | AJ35: 85 | AK35: 81 | AL35: 80.2 | AM35: 78 | AN35: 79 | AO35: 66 | AP35: 74 | AQ35: 81 | AR35: 75.6 | AS35: 75 | AT35: 77 | AU35: 67 | AV35: 78 | AW35: 79 | AX35: 75.2 | AY35: 76 | AZ35: 81 | BA35: 78 | BB35: 79 | BC35: 79 | BD35: 78.6 | BE35: 90 | BF35: 89 | BG35: 78 | BH35: 88 | BI35: 84 | BJ35: 85.8 | BK35: 194Zuft2ayHM-NacormmnoCLZ4Wx5RR9F | BL35: https://drive.google.com/file/d/194Zuft2ayHM-NacormmnoCLZ4Wx5RR9F/view?usp=drivesdk | BM35: 0018 BUKTI PENDAFTARAN M TAWAQAL FARATZ PPDB 2022 | BN35: Document successfully created; Document successfully merged; PDF created; Emails Sent: [To: wakal.fr81@gmail.com]; Run via form trigger as ppdbsman1kjm@gmail.com; Timestamp: Jun 18 2022 8:31 PM | BO35: 80.2 | BP35: 75.6 | BQ35: 75.2 | BR35: 78.6 | BS35: 85.8 | BT35: =SUM(BO35:BS35) -> 395.4 | BU35: IPA | CF35: 29
A36: SU | B36: 32 | C36: 155 RANTAU | D36: 0078917491 | E36: M ZAKI ALGHIFARY | F36: L | G36: Desa Durian | H36: RANTAU | I36: Aceh Tamiang | J36: 1116081205070003 | K36: SMP TAHFIDZ MISBAHUR RASYAD AL- AZIZIYAH | L36: IPA | M36: IPS | N36: halizan572@gmail.com | O36: 1116082401053131 | P36: DESA DURIAN | Q36: 39214 | R36: Laki-laki | S36: M. ABIDIN | T36: SALBIAH | V36: 082165134418 | W36: Desa Durian | X36: RANTAU | Y36: Aceh Tamiang | Z36: 5 | AA36: SMP TAHFIDZ MISBAHUR RASYAD AL- AZIZIYAH | AB36: 2022 | AC36: ZONASI | AD36: MIPA (Matematika Ilmu Pengetahuan Alam) | AE36: IIS ( Ilmu-ilmu Sosial) | AF36: 081273132483 | AG36: 80 | AH36: 74 | AI36: 80 | AJ36: 85 | AK36: 78 | AL36: 81.75 | AM36: 82 | AN36: 86 | AO36: 80 | AP36: 80 | AQ36: 72 | AR36: 79.75 | AS36: 80 | AT36: 77 | AU36: 68 | AV36: 77 | AW36: 68 | AX36: 69 | AY36: 80 | AZ36: 83 | BA36: 83 | BB36: 87 | BC36: 77 | BD36: 80.67 | BE36: 80 | BF36: 87 | BG36: 70 | BH36: 87 | BI36: 75 | BJ36: 83.92 | BK36: 14QlROFJqGHb4no_pBoIn-B8EeAvdUhff | BL36: https://drive.google.com/file/d/14QlROFJqGHb4no_pBoIn-B8EeAvdUhff/view?usp=drivesdk | BM36: 0491 BUKTI PENDAFTARAN M ZAKI ALGHIFARY PPDB 2022 | BN36: Document successfully created; Document successfully merged; PDF created; !!Error Sending Emails: Layanan terlalu sering diminta di hari yang sama: email.; Run via form trigger as ppdbsman1kjm@gmail.com; Timestamp: Jun 20 2022 12:30 AM | BO36: 81.75 | BP36: 79.75 | BQ36: 69 | BR36: 80.67 | BS36: 83.92 | BT36: =SUM(BO36:BS36) -> 395.09 | BU36: IPA | CF36: 30
A37: CW | B37: 33 | C37: 161 RANTAU | D37: 0074832989 | E37: MUHAMMAD FADLAN AL HAFIS | F37: L | G37: Desa Durian | H37: RANTAU | I37: Aceh Tamiang | J37: 1116080404070001 | K37: SMPN 1 KUALA SIMPANG | L37: IPS | M37: IPS | N37: safirayulianaksp@gmail.com | O37: 1116080308060031 | P37: DESA DURIAN | Q37: 39176 | R37: Laki-laki | S37: SAFARI | T37: SARIANA | V37: 082304002552 | W37: Desa Durian | X37: RANTAU | Y37: Aceh Tamiang | Z37: 3 | AA37: SMPN 1 KUALA SIMPANG | AB37: 2022 | AC37: ZONASI | AD37: IIS ( Ilmu-ilmu Sosial) | AE37: IIS ( Ilmu-ilmu Sosial) | AF37: 081274070053 | AG37: 71 | AH37: 73 | AI37: 77 | AJ37: 85 | AK37: 83 | AL37: 83.92 | AM37: 80 | AN37: 80 | AO37: 72 | AP37: 80 | AQ37: 85 | AR37: 77.17 | AS37: 76 | AT37: 79 | AU37: 73 | AV37: 80 | AW37: 76 | AX37: 77.25 | AY37: 63 | AZ37: 71 | BA37: 73 | BB37: 73 | BC37: 76 | BD37: 77.75 | BE37: 67 | BF37: 73 | BG37: 74 | BH37: 75 | BI37: 77 | BJ37: 78.17 | BK37: 1oI1_ju_wcFConX7N64J1-QE59gpTwKmB | BL37: https://drive.google.com/file/d/1oI1_ju_wcFConX7N64J1-QE59gpTwKmB/view?usp=drivesdk | BM37: 0738 BUKTI PENDAFTARAN MUHAMMAD FADLAN AL HAFIS PPDB 2022 | BN37: Document successfully created; Document successfully merged; PDF created; Emails Sent: [To: safirayulianaksp@gmail.com]; Run via form trigger as ppdbsman1kjm@gmail.com; Timestamp: Jun 21 2022 12:23 PM | BO37: 83.92 | BP37: 77.17 | BQ37: 77.25 | BR37: 77.75 | BS37: 78.17 | BT37: =SUM(BO37:BS37) -> 394.26 | BU37: IPS | CF37: 31
A38: SU | B38: 34 | C38: 125 RANTAU | D38: 0076499552 | E38: FAHRI ADILA HERIANDA | F38: L | G38: Desa Durian | H38: RANTAU | I38: Aceh Tamiang | J38: 1116080707070001 | K38: SMP NEGERI 3 KEJURUAN MUDA | L38: IPS | M38: IPS | N38: sucisilviaheriani@gmail.com | O38: 1116081610060025 | P38: KEBUN RANTAU | Q38: 39270 | R38: Laki-laki | S38: NGATIRIN | T38: HENDON | V38: 085261222635 | W38: Desa Durian | X38: RANTAU | Y38: Aceh Tamiang | Z38: 2 | AA38: SMP NEGERI 3 KEJURUAN MUDA | AB38: 2022 | AC38: ZONASI | AD38: IIS ( Ilmu-ilmu Sosial) | AE38: IIS ( Ilmu-ilmu Sosial) | AF38: 089514575977 | AG38: 75 | AH38: 80 | AI38: 66 | AJ38: 80 | AK38: 80 | AL38: 77.17 | AM38: 76 | AN38: 79 | AO38: 80 | AP38: 76 | AQ38: 82 | AR38: 79.17 | AS38: 79 | AT38: 78 | AU38: 80 | AV38: 77 | AW38: 80 | AX38: 79 | AY38: 77 | AZ38: 77 | BA38: 77 | BB38: 79 | BC38: 79 | BD38: 78.5 | BE38: 80 | BF38: 80 | BG38: 78 | BH38: 78 | BI38: 81 | BJ38: 79.67 | BK38: 1WHv_X3VztMcEerXlUv61AZ6ZCvhuVFS1 | BL38: https://drive.google.com/file/d/1WHv_X3VztMcEerXlUv61AZ6ZCvhuVFS1/view?usp=drivesdk | BM38: 0363 BUKTI PENDAFTARAN FAHRI ADILA HERIANDA PPDB 2022 | BN38: Document successfully created; Document successfully merged; PDF created; Emails Sent: [To: sucisilviaheriani@gmail.com]; Run via form trigger as ppdbsman1kjm@gmail.com; Timestamp: Jun 19 2022 10:00 PM | BO38: 77.17 | BP38: 79.17 | BQ38: 79 | BR38: 78.5 | BS38: 79.67 | BT38: =SUM(BO38:BS38) -> 393.51 | BU38: IPS | CF38: 32
A39: SU | B39: 35 | C39: 121 RANTAU | D39: 0061239892 | E39: ANISA SYABRINA | F39: P | G39: Desa Durian | H39: RANTAU | I39: Aceh Tamiang | J39: 1116082406060008 | K39: SMPN 1 KUALA SIMPANG | L39: IPA | M39: IPA | N39: anisasyabrina009@gmail.com | O39: 1116085809060001 | P39: DESA DURIAN | Q39: 38976 | R39: Perempuan | S39: ANSARI | T39: RUZIFA HASANAH | U39: Marijan sarpin | V39: 081375071851 | W39: Desa Durian | X39: RANTAU | Y39: Aceh Tamiang | Z39: 2 | AA39: SMPN 1 KUALA SIMPANG | AB39: 2022 | AC39: ZONASI | AD39: MIPA (Matematika Ilmu Pengetahuan Alam) | AE39: MIPA (Matematika Ilmu Pengetahuan Alam) | AF39: 089518541898 | AG39: 71 | AH39: 89 | AI39: 76 | AJ39: 81 | AK39: 87 | AL39: 85.58 | AM39: 65 | AN39: 65 | AO39: 77 | AP39: 81 | AQ39: 84 | AR39: 76.92 | AS39: 68 | AT39: 86 | AU39: 74 | AV39: 74 | AW39: 72 | AX39: 76.42 | AY39: 70 | AZ39: 74 | BA39: 73 | BB39: 74 | BC39: 77 | BD39: 76.68 | BE39: 62 | BF39: 70 | BG39: 74 | BH39: 82 | BI39: 78 | BJ39: 77.47 | BK39: 1S-UmrX1uyexAErMeYuLPEA0tsmm-V7Ps | BL39: https://drive.google.com/file/d/1S-UmrX1uyexAErMeYuLPEA0tsmm-V7Ps/view?usp=drivesdk | BM39: 0040 BUKTI PENDAFTARAN ANISA SYABRINA PPDB 2022 | BN39: Document successfully created; Document successfully merged; PDF created; Emails Sent: [To: anisasyabrina009@gmail.com]; Run via form trigger as ppdbsman1kjm@gmail.com; Timestamp: Jun 18 2022 10:08 PM | BO39: 85.58 | BP39: 76.92 | BQ39: 76.42 | BR39: 76.68 | BS39: 77.47 | BT39: =SUM(BO39:BS39) -> 393.07 | BU39: IPA | CF39: 33
A40: YA | B40: 36 | C40: 193 RANTAU | D40: 0073321517 | E40: SALMAHIRA | F40: P | G40: Desa Durian | H40: RANTAU | I40: Aceh Tamiang | J40: 1116084409070002 | K40: SMPN 3 KEJURUAN MUDA | L40: IPS | M40: IPS | N40: mursiddinoka@gmail.com | O40: 1116082401053678 | P40: KAMPUNG DURIAN | Q40: 39329 | R40: Perempuan | S40: MUHAMMAD SYAHFUDDIN | T40: TARBIYAH | V40: 085263247051 | W40: Desa Durian | X40: RANTAU | Y40: Aceh Tamiang | Z40: 3 | AA40: SMPN 3 KEJURUAN MUDA | AB40: 2022 | AC40: ZONASI | AD40: IIS ( Ilmu-ilmu Sosial) | AE40: IIS ( Ilmu-ilmu Sosial) | AF40: 082160280550 | AG40: 78 | AH40: 80 | AI40: 80 | AJ40: 70 | AK40: 85 | AL40: 78.6 | AM40: 76 | AN40: 81 | AO40: 72 | AP40: 78 | AQ40: 78 | AR40: 77 | AS40: 79 | AT40: 80 | AU40: 77 | AV40: 77 | AW40: 80 | AX40: 78.6 | AY40: 78 | AZ40: 79 | BA40: 79 | BB40: 81 | BC40: 79 | BD40: 79.2 | BE40: 79 | BF40: 82 | BG40: 77 | BH40: 78 | BI40: 79 | BJ40: 79 | BK40: 1K6dLNfAGzWUcxiEUvwfxgGx1xraqUd8- | BL40: https://drive.google.com/file/d/1K6dLNfAGzWUcxiEUvwfxgGx1xraqUd8-/view?usp=drivesdk | BM40: 0671 BUKTI PENDAFTARAN SALMAHIRA PPDB 2022 | BN40: Document successfully created; Document successfully merged; PDF created; Emails Sent: [To: mursiddinoka@gmail.com]; Run via form trigger as ppdbsman1kjm@gmail.com; Timestamp: Jun 20 2022 10:54 PM | BO40: 78.6 | BP40: 77 | BQ40: 78.6 | BR40: 79.2 | BS40: 79 | BT40: =SUM(BO40:BS40) -> 392.4 | BU40: IPS | CF40: 34
A41: SU | B41: 38 | C41: 116 RANTAU | D41: 0073313559 | E41: MUHAMMAD RAIHAN | F41: L | G41: Desa Durian | H41: RANTAU | I41: Aceh Tamiang | J41: 1116081709070004 | K41: MISBAHUR RASYAD AL AZIZIYAH | L41: IPA | M41: IPA | N41: freeburiks2@gmail.com | O41: 1116082311170001 | P41: JAMUR LABU | Q41: 39342 | R41: Laki-laki | S41: ABU BAKAR | T41: SULASTRI | V41: 082277271030 | W41: Desa Durian | X41: RANTAU | Y41: Aceh Tamiang | Z41: 1 | AA41: MISBAHUR RASYAD AL AZIZIYAH | AB41: 2022 | AC41: ZONASI | AD41: MIPA (Matematika Ilmu Pengetahuan Alam) | AE41: MIPA (Matematika Ilmu Pengetahuan Alam) | AF41: 081279712612 | AG41: 85 | AH41: 74 | AI41: 73 | AJ41: 87 | AK41: 80 | AL41: 79.33 | AM41: 80 | AN41: 72 | AO41: 78 | AP41: 80 | AQ41: 70 | AR41: 76.75 | AS41: 81 | AT41: 77 | AU41: 70 | AV41: 78 | AW41: 70 | AX41: 75.25 | AY41: 80 | AZ41: 86 | BA41: 76 | BB41: 83 | BC41: 78 | BD41: 80.33 | BE41: 80 | BF41: 89 | BG41: 75 | BH41: 80 | BI41: 66 | BJ41: 79.08 | BK41: 1YsC93QaeD6FNt-BtS-9DmyGxsNsjCLfV | BL41: https://drive.google.com/file/d/1YsC93QaeD6FNt-BtS-9DmyGxsNsjCLfV/view?usp=drivesdk | BM41: 0527 BUKTI PENDAFTARAN MUHAMMADRAIHAN PPDB 2022 | BN41: Document successfully created; Document successfully merged; PDF created; !!Error Sending Emails: Layanan terlalu sering diminta di hari yang sama: email.; Run via form trigger as ppdbsman1kjm@gmail.com; Timestamp: Jun 20 2022 1:35 AM | BO41: 79.33 | BP41: 76.75 | BQ41: 75.25 | BR41: 80.33 | BS41: 79.08 | BT41: =SUM(BO41:BS41) -> 390.74 | BU41: IPA | CF41: 35
...

Sheet ABSEN KLS X 25-26
A1: DAFTAR HADIR SISWA
A2: SMA NEGERI 1 KEJURUAN MUDA
A3: TAHUN PELAJARAN 2025/2026
A5: Jenis Rombel: Kelas Utama - Nama Rombel: X-1 - Semester Ganjil Guru BK : Eva Susanti, S. Pd.I | AA5: Wali Kelas : Susilawati, S.Pd.
A6: Nomor | D6: Nama Siswa | E6: L/P | F6: BULAN JULI 2025 | AK6: Keterangan
A7: Urut | B7: NIS | C7: NISN | F7: Tanggal
