Workbook

Sheet Laporan
C1: P E M E R I N T A H A C E H
C2: D I N A S P E N D I D I K A N
C3: SEKOLAH MENENGAH ATAS NEGERI 1 KEJURUAN MUDA
C4: Jalan Rantau - Kualasimpang, Desa Durian, Kec. Rantau Telp. (0641) 700849 Kode Pos 24474
C5: Website: www.sman1kejuruanmuda.sch.id - E-mail: sman1kjm@yaho.com
B9: LAPORAN PENERIMAAN PESERTA DIDIK BARU TAHUN PELAJARAN 2022/2023
B11: SEKOLAH : | D11: SMA NEGERI 1 KEJURUAN MUDA
B12: KABUPATEN : | D12: ACEH TAMIANG
B14: A. PENDAFTAR
B16: Rencana Penerimaan | D16: Pendaftar
D17: L | E17: P | F17: L + P
B18: 309 | D18: =SUM(#REF!,#REF!,#REF!,#REF!) -> #REF! | E18: =SUM(#REF!,#REF!,#REF!,#REF!) -> #REF! | F18: =SUM(D18:E18) -> #REF!
B21: SMP | D21: MTs | F21: Paket B | H21: JUMLAH
B22: L | C22: P | D22: L | E22: P | F22: L | G22: P | H22: L | I22: P | J22: L + P
B23: 149 | C23: 216 | D23: 15 | E23: 17 | F23: 2 | G23: 0 | H23: =B23+D23+F23 -> 166 | I23: =C23+E23+G23 -> 233 | J23: =SUM(H23:I23) -> 399
B25: B. DITERIMA
B27: SMP | D27: MTs | F27: Paket B | H27: JUMLAH
B28: L | C28: P | D28: L | E28: P | F28: L | G28: P | H28: L | I28: P | J28: L + P
B29: 100 | C29: 180 | D29: 13 | E29: 14 | F29: 2 | G29: 0 | H29: =B29+D29+F29 -> 115 | I29: =C29+E29+G29 -> 194 | J29: =SUM(H29:I29) -> 309
B31: Jalur Zonasi : | E31: 225 Orang
B32: Jalur Afirmasi : | E32: 40 Orang
B33: Pindah Tugas Orang Tua : | E33: 2 Orang
B34: Jalur Prestasi : | E34: 42 Orang
G36: ACEH TAMIANG, 30 JUNI 2022
G37: KEPALA,
G41: MUHAMMAD, S.Pd.
G42: NIP. 19660110 199412 1 001

Sheet Rekap Desa
A1: RINCIAN PENERIMAAN PESERTA DIDIK BARU TAHUN PELAJARAN 2022/2023
B3: SEKOLAH : | C3: =Laporan!D11 -> SMA NEGERI 1 KEJURUAN MUDA
B4: KABUPATEN : | C4: ACEH TAMIANG
A7: NO | B7: DESA | C7: KECAMATAN | D7: Pendaftar | E7: Diterima | F7: Ditolak
A8: A. | B8: JALUR ZONASI
A9: 1 | B9: Kampung Durian | C9: Kec. Rantau | D9: 55 | E9: 55 | F9: =D9-E9 -> 0
A10: 2 | B10: Alur Cucur | C10: Kec. Rantau | D10: 37 | E10: 21 | F10: =D10-E10 -> 16
A11: 3 | B11: Benua Raja | C11: Kec. Rantau | D11: 20 | E11: 16 | F11: =D11-E11 -> 4
A12: 4 | B12: Jamur Jelatang | C12: Kec. Rantau | D12: 7 | E12: 4 | F12: =D12-E12 -> 3
A13: 5 | B13: Jamur Labu | C13: Kec. Rantau | D13: 4 | E13: 4 | F13: =D13-E13 -> 0
A14: 6 | B14: Landuh | C14: Kec. Rantau | D14: 15 | E14: 10 | F14: =D14-E14 -> 5
A15: 7 | B15: Paya Bedi | C15: Kec. Rantau | D15: 7 | E15: 6 | F15: =D15-E15 -> 1
A16: 8 | B16: Pertamina (Kamp Pertamina) | C16: Kec. Rantau | D16: 11 | E16: 7 | F16: =D16-E16 -> 4 | H16: =SUM(E21:E25) -> 57
A17: 9 | B17: Rantau Pauh | C17: Kec. Rantau | D17: 50 | E17: 33 | F17: =D17-E17 -> 17 | H17: =SUM(F21:F25) -> 37
A18: 10 | B18: Suka Jadi (Sukajadi) | C18: Kec. Rantau | D18: 4 | E18: 4 | F18: =D18-E18 -> 0
A19: 11 | B19: Suka Rahmat | C19: Kec. Rantau | F19: =D19-E19 -> 0
A20: 12 | B20: Suka Rakyat | C20: Kec. Rantau | F20: =D20-E20 -> 0
A21: 11 | B21: Bukit Tempurung | C21: Kec. Kota Kualasimpang | D21: 30 | E21: 19 | F21: =D21-E21 -> 11
A22: 12 | B22: Kota Kuala Simpang | C22: Kec. Kota Kualasimpang | D22: 8 | E22: 8 | F22: =D22-E22 -> 0
A23: 13 | B23: Kota Lintang | C23: Kec. Kota Kualasimpang | D23: 30 | E23: 17 | F23: =D23-E23 -> 13
A24: 14 | B24: Perdamaian | C24: Kec. Kota Kualasimpang | D24: 17 | E24: 7 | F24: =D24-E24 -> 10
A25: 15 | B25: Sriwijaya | C25: Kec. Kota Kualasimpang | D25: 9 | E25: 6 | F25: =D25-E25 -> 3
A26: 16 | B26: Dalam | C26: Kec. Karang Baru | D26: 1 | E26: 1 | F26: =D26-E26 -> 0
A27: 17 | B27: Sukajadi | C27: Kec. Karang Baru | D27: 1 | E27: 0 | F27: =D27-E27 -> 1
A28: 18 | B28: Kesehatan | C28: Kec. Karang Baru | D28: 9 | E28: 7 | F28: =D28-E28 -> 2
A29: B. | B29: JALUR PRESTASI | D29: 42 | E29: 42 | F29: =D29-E29 -> 0
A30: C. | B30: JALUR PINDAH TUGAS ORANG TUA | D30: 2 | E30: 2 | F30: =D30-E30 -> 0
A31: D. | B31: AFIRMASI | D31: 40 | E31: 40 | F31: =D31-E31 -> 0
A32: JUMLAH | D32: =SUM(D8:D31) -> 399 | E32: =SUM(E9:E31) -> 309 | F32: =SUM(F8:F31) -> 90
D34: =Laporan!G36 -> ACEH TAMIANG, 30 JUNI 2022
B35: MENGETAHUI,
B36: Plt Kasi Manajemen GTK dan Mutu Kesiswaan | D36: =Laporan!G37 -> KEPALA,
B37: Cabang Dinas Pendidikan Wil. Kab. A. Tamiang
B41: INDRA ARISANDI, S.Pd., M.Pd. | D41: =Laporan!G41 -> MUHAMMAD, S.Pd.
B42: NIP. 19830601 200604 1 011 | D42: =Laporan!G42 -> NIP. 19660110 199412 1 001

Sheet 0. Gab. Data diRank untuk K (2)
B1: HASIL SELEKSI PPDB TAHUN PELAJARAN 2022/2023
B2: ='Rekap Desa'!C3 -> SMA NEGERI 1 KEJURUAN MUDA
B3: KABUPATEN ACEH TAMIANG
B4: JALUR : ZONASI
A6: timverifikasi | B6: Urt | C6: Pend. | D6: NISN | E6: NAMA | F6: L/P | G6: Desa | H6: Kecamatan | I6: Kabupaten | J6: NIK | K6: ASAL SEKOLAH | L6: PILIHAN I | M6: PILIHAN II | N6: EMAIL (Wajib Aktif) | O6: Nomor KK (Nomor Kartu Kependudukan) | P6: TEMPAT LAHIR | Q6: TANGGAL LAHIR | R6: JENIS KELAMIN | S6: NAMA AYAH | T6: NAMA IBU | U6: NAMA WALI | V6: Nomor HP ORANG TUA (Ayah/Ibu) | W6: DESA | X6: KECAMATAN | Y6: KABUPATEN | Z6: Anak ke | AA6: ASAL SEKOLAH | AB6: TAHUN TAMAT | AC6: JALUR | AD6: PILIHAN JURUSAN PERTAMA | AE6: PILIHAN JURUSAN KEDUA | AF6: No HP SISWA | AG6: Bahasa Indonesia (Semester 1) | AH6: Bahasa Indonesia (Semester 2) | AI6: Bahasa Indonesia (Semester 3) | AJ6: Bahasa Indonesia (Semester 4) | AK6: Bahasa Indonesia (Semester 5) | AL6: Nilai rata-rata Bahasa Indonesia | AM6: Bahasa Inggris (Semester 1) | AN6: Bahasa Inggris (Semester 2) | AO6: Bahasa Inggris (Semester 3) | AP6: Bahasa Inggris (Semester 4) | AQ6: Bahasa Inggris (Semester 5) | AR6: Nilai rata-rata Bahasa Inggris | AS6: Matematika ( Semester 1) | AT6: Matematika ( Semester 2) | AU6: Matematika ( Semester 3) | AV6: Matematika ( Semester 4) | AW6: Matematika ( Semester 5) | AX6: Nilai rata-rata Matematika | AY6: IPA (Semester 1) | AZ6: IPA (Semester 2) | BA6: IPA (Semester 3) | BB6: IPA (Semester 4) | BC6: IPA (Semester 5) | BD6: Nilai rata-rata IPA | BE6: IPS (Semester 1) | BF6: IPS (Semester 2) | BG6: IPS (Semester 3) | BH6: IPS (Semester 4) | BI6: IPS (Semester 5) | BJ6: Nilai rata-rata IPS | BK6: Merged Doc ID - FORM PPDB 2022 | BL6: Merged Doc URL - FORM PPDB 2022 | BM6: Link to merged Doc - FORM PPDB 2022 | BN6: Document Merge Status - FORM PPDB 2022 | BO6: R. B. INDO | BP6: R. B. ING | BQ6: R. MTK | BR6: R. IPA | BS6: R. IPS | BT6: TOTAL R | BU6: LULUS (IB_IPA_IPS) | BV6: No. KIP | BW6: No. PKH | BX6: ASAL SD KHUSUS MTs | BY6: NAMA ORANG TUA | BZ6: PEKERJAAN ORANG TUA | CA6: INSTANSI | CB6: Dokumen Dukungan Afirmasi | CC6: Jenis Prestasi | CD6: Tahun | CE6: Tingkat | CF6: NOMOR DATA LULUS ASLI
A7: SU | B7: 1 | C7: 108 RANTAU | D7: 0074292534 | E7: ZHARIDAWITA | F7: P | G7: Desa Durian | H7: RANTAU | I7: Aceh Tamiang | J7: 1116086411070002 | K7: SMP SWASTA ISLAM KUALA SIMPANG | L7: IPA | M7: IPA | N7: zharidawita@gmail.com | O7: 1116082401055571 | P7: BUKIT SULING | Q7: 39410 | R7: Perempuan | S7: HARMUNANTO | T7: NURMALA | V7: 085262916915 | W7: Desa Durian | X7: RANTAU | Y7: Aceh Tamiang | Z7: 4 | AA7: SMP SWASTA ISLAM KUALA SIMPANG | AB7: 2022 | AC7: ZONASI | AD7: MIPA (Matematika Ilmu Pengetahuan Alam) | AE7: MIPA (Matematika Ilmu Pengetahuan Alam) | AF7: 081362399163 | AG7: 80.0 | AH7: 85.0 | AI7: 79.0 | AJ7: 85 | AK7: 92 | AL7: 84.2 | AM7: 91.0 | AN7: 93.0 | AO7: 80.0 | AP7: 89 | AQ7: 88 | AR7: 88.2 | AS7: 88.0 | AT7: 86.0 | AU7: 83.0 | AV7: 84 | AW7: 77 | AX7: 83.6 | AY7: 78.0 | AZ7: 81.0 | BA7: 75.0 | BB7: 90 | BC7: 87 | BD7: 82.2 | BE7: 78.0 | BF7: 93.0 | BG7: 95.0 | BH7: 95 | BI7: 95 | BJ7: 91.2 | BK7: 1pkRiukXLEj7q48_LnpYLrtR84Pb4W-_g | BL7: https://drive.google.com/file/d/1pkRiukXLEj7q48_LnpYLrtR84Pb4W-_g/view?usp=drivesdk | BM7: 0416 BUKTI PENDAFTARAN ZHARIDAWITA PPDB 2022 | BN7: Document successfully created; Document successfully merged; PDF created; !!Error Sending Emails: Layanan terlalu sering diminta di hari yang sama: email.; Run via form trigger as ppdbsman1kjm@gmail.com; Timestamp: Jun 19 2022 10:50 PM | BO7: 84.2 | BP7: 88.2 | BQ7: 83.6 | BR7: 82.2 | BS7: 91.2 | BT7: =SUM(BO7:BS7) -> 429.4 | BU7: IPA | CF7: 1
A8: SU | B8: 2 | C8: 107 RANTAU | D8: 0078525112 | E8: KAILA AULIA | F8: P | G8: Desa Durian | H8: RANTAU | I8: Aceh Tamiang | J8: 1116085507070004 | K8: SMP SWASTA ISLAM KUALA SIMPANG | L8: IPA | M8: IPA | N8: kaila084143@gmail.com | O8: 1116081902200001 | P8: KAMPUNG DURIAN | Q8: 39278 | R8: Perempuan | S8: Alm.Muhammad ikhsan | T8: Erlina Sari | V8: 082167048559 | W8: Desa Durian | X8: RANTAU | Y8: Aceh Tamiang | Z8: 3 | AA8: SMP SWASTA ISLAM KUALA SIMPANG | AB8: 2022 | AC8: ZONASI | AD8: MIPA (Matematika Ilmu Pengetahuan Alam) | AE8: MIPA (Matematika Ilmu Pengetahuan Alam) | AF8: 081260655737 | AG8: 85.0 | AH8: 89.0 | AI8: 80.0 | AJ8: 91 | AK8: 92.0 | AL8: 91.58 | AM8: 73.0 | AN8: 77.0 | AO8: 80.0 | AP8: 88 | AQ8: 88.0 | AR8: 84.62 | AS8: 85.0 | AT8: 86.0 | AU8: 80.0 | AV8: 84 | AW8: 79.0 | AX8: 81.12 | AY8: 79.0 | AZ8: 90.0 | BA8: 80.0 | BB8: 85 | BC8: 77.0 | BD8: 85.26 | BE8: 80.0 | BF8: 90.0 | BG8: 88.0 | BH8: 90 | BI8: 90.0 | BJ8: 85.83 | BK8: 1Uawk01lZc2gbp9EKBeDpSALdO2HCIe19 | BL8: https://drive.google.com/file/d/1Uawk01lZc2gbp9EKBeDpSALdO2HCIe19/view?usp=drivesdk | BM8: 0433 BUKTI PENDAFTARAN KAILA AULIA PPDB 2022 | BN8: Document successfully created; Document successfully merged; PDF created; !!Error Sending Emails: Layanan terlalu sering diminta di hari yang sama: email.; Run via form trigger as ppdbsman1kjm@gmail.com; Timestamp: Jun 19 2022 11:15 PM | BO8: 91.58 | BP8: 84.62 | BQ8: 81.12 | BR8: 85.26 | BS8: 85.83 | BT8: =SUM(BO8:BS8) -> 428.41 | BU8: IPA | BV8: PXHQHZ | BW8: 6034949101909997 | CF8: 2
A9: SU | B9: 3 | C9: 027 RANTAU | D9: 0067911554 | E9: DINDA SHALSYABILLA | F9: P | G9: Desa Durian | H9: RANTAU | I9: Aceh Tamiang | J9: 1116086112060002 | K9: SMP N 1 KUALASIMPANG | L9: IPA | M9: IPS | N9: syafrianditanja@gmail.com | O9: 1116082810060092 | P9: KARANG BARU | Q9: 39072 | R9: Perempuan | S9: SYAFRIANDI TANJA | T9: RATNA SARI DEWI | V9: 082267565893 | W9: Desa Durian | X9: RANTAU | Y9: Aceh Tamiang | Z9: 3 | AA9: SMP N 1 KUALASIMPANG | AB9: 2022 | AC9: ZONASI | AD9: MIPA (Matematika Ilmu Pengetahuan Alam) | AE9: IIS ( Ilmu-ilmu Sosial) | AF9: 082260036896 | AG9: 74 | AH9: 74 | AI9: 84 | AJ9: 85 | AK9: 95 | AL9: 87.25 | AM9: 80 | AN9: 80 | AO9: 79 | AP9: 83 | AQ9: 90 | AR9: 85.83 | AS9: 69 | AT9: 80 | AU9: 73 | AV9: 78 | AW9: 77 | AX9: 82.75 | AY9: 70 | AZ9: 82 | BA9: 82 | BB9: 90 | BC9: 78 | BD9: 81.86 | BE9: 70 | BF9: 83 | BG9: 84 | BH9: 75 | BI9: 81 | BJ9: 82.7 | BK9: 1TNuvxo0bj-ISgytaQYIPJYlLiXAihVuZ | BL9: https://drive.google.com/file/d/1TNuvxo0bj-ISgytaQYIPJYlLiXAihVuZ/view?usp=drivesdk | BM9: 0322 BUKTI PENDAFTARAN DINDA SHALAYABILLA PPDB 2022 | BN9: Document successfully created; Document successfully merged; PDF created; Emails Sent: [To: syafrianditanja@gmail.com]; Run via form trigger as ppdbsman1kjm@gmail.com; Timestamp: Jun 19 2022 9:09 PM | BO9: 87.25 | BP9: 85.83 | BQ9: 82.75 | BR9: 81.86 | BS9: 82.7 | BT9: =SUM(BO9:BS9) -> 420.39 | BU9: IPA | CF9: 3
A10: CW | B10: 4 | C10: 197 RANTAU | D10: 0075859013 | E10: ARMIA LISYAH PUTRI | F10: P | G10: Desa Durian | H10: RANTAU | I10: Aceh Tamiang | J10: 1116086111070002 | K10: SMP NEGERI 4 RANTAU | L10: IPS | M10: IPS | N10: lisasyahputri039@gmail.com | O10: 1116081803080007 | P10: KP DURIAN | Q10: 39407 | R10: Perempuan | S10: EDI CANDRA | T10: RUSMIATI | V10: 081260412379 | W10: Desa Durian | X10: RANTAU | Y10: Aceh Tamiang | Z10: 1 | AA10: SMP NEGERI 4 RANTAU | AB10: 2022 | AC10: ZONASI | AD10: IIS ( Ilmu-ilmu Sosial) | AE10: IIS ( Ilmu-ilmu Sosial) | AF10: 081278175986 | AG10: 18 | AH10: 18 | AI10: 18.2 | AJ10: 18.2 | AK10: 16.4 | AL10: 84.09 | AM10: 17.2 | AN10: 17.2 | AO10: 17.4 | AP10: 17.4 | AQ10: 16.4 | AR10: 83.34 | AS10: 16.8 | AT10: 16.8 | AU10: 16.8 | AV10: 16.8 | AW10: 15 | AX10: 80.09 | AY10: 15.2 | AZ10: 15.4 | BA10: 18 | BB10: 18.2 | BC10: 5 | BD10: 87.5 | BE10: 16.2 | BF10: 16.4 | BG10: 17.4 | BH10: 17.4 | BI10: 14.2 | BJ10: 83.34 | BK10: 1no60l_ay3qy0nn1zlb1OhJikmdSyk6r8 | BL10: https://drive.google.com/file/d/1no60l_ay3qy0nn1zlb1OhJikmdSyk6r8/view?usp=drivesdk | BM10: 0717 BUKTI PENDAFTARAN ARMIA LISYAH PUTRI PPDB 2022 | BN10: Document successfully created; Document successfully merged; PDF created; Emails Sent: [To: lisasyahputri039@gmail.com]; Run via form trigger as ppdbsman1kjm@gmail.com; Timestamp: Jun 21 2022 3:04 AM | BO10: 84.09 | BP10: 83.34 | BQ10: 80.09 | BR10: 87.5 | BS10: 83.34 | BT10: =SUM(BO10:BS10) -> 418.36 | BU10: IPS | BV10: 3S7NMK | BW10: 6034949101912504 | CF10: 4
A11: YA | B11: 5 | C11: 145 RANTAU | D11: 0078771561 | E11: SOFYA RAHMADANI | F11: P | G11: Desa Durian | H11: RANTAU | I11: Aceh Tamiang | J11: 1116085709070001 | K11: MADRASAH ULUMUL QURAN (MUQ), LANGSA | L11: IPA | M11: IPA | N11: sofyarahmadani1709@gmail.com | O11: 1.1160819e+15 | P11: KAMPUNG DURIAN | Q11: 39342 | R11: Perempuan | S11: ABDUL GANI | T11: NUR WACHNA | U11: May Syahfitri | V11: 085275824333 | W11: Desa Durian | X11: RANTAU | Y11: Aceh Tamiang | Z11: 3 | AA11: MADRASAH ULUMUL QURAN (MUQ), LANGSA | AB11: 2022 | AC11: ZONASI | AD11: MIPA (Matematika Ilmu Pengetahuan Alam) | AE11: MIPA (Matematika Ilmu Pengetahuan Alam) | AF11: 085213729236 | AG11: 85 | AH11: 88 | AI11: 84 | AJ11: 85 | AK11: 81 | AL11: 85 | AM11: 84 | AN11: 84 | AO11: 93 | AP11: 93 | AQ11: 88 | AR11: 84 | AS11: 81 | AT11: 83 | AU11: 90 | AV11: 86 | AW11: 85 | AX11: 83 | AY11: 75 | AZ11: 76 | BA11: 84 | BB11: 84 | BC11: 84 | BD11: 80 | BE11: 86 | BF11: 87 | BG11: 87 | BH11: 90 | BI11: 90 | BJ11: 84 | BK11: 1OB51CHfNgs9b7nT0G6l5Ak5bcTA3TDfa | BL11: https://drive.google.com/file/d/1OB51CHfNgs9b7nT0G6l5Ak5bcTA3TDfa/view?usp=drivesdk | BM11: 0382 BUKTI PENDAFTARAN SOFYA RAHMADANI PPDB 2022 | BN11: Document successfully created; Document successfully merged; PDF created; Emails Sent: [To: sofyarahmadani1709@gmail.com]; Run via form trigger as ppdbsman1kjm@gmail.com; Timestamp: Jun 19 2022 10:20 PM | BO11: 85 | BP11: 84 | BQ11: 83 | BR11: 80 | BS11: 84 | BT11: =SUM(BO11:BS11) -> 416 | BU11: IPA | BX11: SD NEGERI 1 BUKIT TEMPURUNG | CF11: 5
A12: SU | B12: 6 | C12: 130 RANTAU | D12: 0076397462 | E12: MUHAMMAD REVAL ALFARIZI | F12: L | G12: Desa Durian | H12: RANTAU | I12: Aceh Tamiang | J12: 1116081507070001 | K12: SMPS ISLAM KUALA SIMPANG | L12: IPA | M12: IPA | N12: alarizimuhammadreval@gmail.com | O12: 1116081902200001 | P12: KAMPUNG DURIAN | Q12: 39278 | R12: Laki-laki | S12: ALM.MUHAMMAD IKSHAN | T12: ERLINA SARI | U12: ERLINA SARI | V12: 082167048559 | W12: Desa Durian | X12: RANTAU | Y12: Aceh Tamiang | Z12: 2 | AA12: SMPS ISLAM KUALA SIMPANG | AB12: 2022 | AC12: ZONASI | AD12: MIPA (Matematika Ilmu Pengetahuan Alam) | AE12: MIPA (Matematika Ilmu Pengetahuan Alam) | AF12: 082161231092 | AG12: 80 | AH12: 86 | AI12: 82 | AJ12: 76 | AK12: 90 | AL12: 83.5 | AM12: 75 | AN12: 80 | AO12: 80 | AP12: 85 | AQ12: 83 | AR12: 80.37 | AS12: 85 | AT12: 85 | AU12: 78 | AV12: 82 | AW12: 77 | AX12: 83.69 | AY12: 80 | AZ12: 92 | BA12: 85 | BB12: 85 | BC12: 80 | BD12: 83.33 | BE12: 80 | BF12: 90 | BG12: 80 | BH12: 90 | BI12: 85 | BJ12: 85 | BK12: 1esXLUcvAAMEtE6RBPweTQxTo9yWdEflX | BL12: https://drive.google.com/file/d/1esXLUcvAAMEtE6RBPweTQxTo9yWdEflX/view?usp=drivesdk | BM12: 0484 BUKTI PENDAFTARAN MUHAMMAD REVAL ALFARIZI PPDB 2022 | BN12: Document successfully created; Document successfully merged; PDF created; !!Error Sending Emails: Layanan terlalu sering diminta di hari yang sama: email.; Run via form trigger as ppdbsman1kjm@gmail.com; Timestamp: Jun 20 2022 12:21 AM | BO12: 83.5 | BP12: 80.37 | BQ12: 83.69 | BR12: 83.33 | BS12: 85 | BT12: =SUM(BO12:BS12) -> 415.89 | BU12: IPA | BV12: PQ3FVP | BW12: 6034949101909997 | CF12: 6
A13: SU | B13: 7 | C13: 072 RANTAU | D13: 0073382502 | E13: WENNY FADHLIKA | F13: P | G13: Desa Durian | H13: RANTAU | I13: Aceh Tamiang | J13: 1116085211070001 | K13: SMP NEGERI 3 KEJURUAN MUDA | L13: IPA | M13: IPA | N13: cindyseptiani952@gmail.com | O13: 1116082406060016 | P13: ACEH TAMIANG | Q13: 39398 | R13: Perempuan | S13: MUHAMMAD GUNAWAN | T13: KUSUMAWATI | V13: 085270832814 | W13: Desa Durian | X13: RANTAU | Y13: Aceh Tamiang | Z13: 3 | AA13: SMP NEGERI 3 KEJURUAN MUDA | AB13: 2022 | AC13: ZONASI | AD13: MIPA (Matematika Ilmu Pengetahuan Alam) | AE13: MIPA (Matematika Ilmu Pengetahuan Alam) | AF13: 0895600682619 | AG13: 78 | AH13: 80 | AI13: 77 | AJ13: 80 | AK13: 88 | AL13: 82.17 | AM13: 85 | AN13: 90 | AO13: 83 | AP13: 81 | AQ13: 83 | AR13: 84.33 | AS13: 83 | AT13: 86 | AU13: 78 | AV13: 86 | AW13: 84 | AX13: 83.33 | AY13: 83 | AZ13: 86 | BA13: 80 | BB13: 82 | BC13: 84 | BD13: 83.33 | BE13: 83 | BF13: 84 | BG13: 76 | BH13: 79 | BI13: 85 | BJ13: 82 | BK13: 1jy14ppwc57YjTWmfQjbV2LlOcE7Jv_es | BL13: https://drive.google.com/file/d/1jy14ppwc57YjTWmfQjbV2LlOcE7Jv_es/view?usp=drivesdk | BM13: 0399 BUKTI PENDAFTARAN WENNY FADHLIKA PPDB 2022 | BN13: Document successfully created; Document successfully merged; PDF created; Emails Sent: [To: cindyseptiani952@gmail.com]; Run via form trigger as ppdbsman1kjm@gmail.com; Timestamp: Jun 19 2022 10:41 PM | BO13: 82.17 | BP13: 84.33 | BQ13: 83.33 | BR13: 83.33 | BS13: 82 | BT13: =SUM(BO13:BS13) -> 415.16 | BU13: IPA | BV13: 6034948874003764 | BW13: 6034949309673981 | CF13: 7
A14: YA | B14: 8 | C14: 152 RANTAU | D14: 0079568901 | E14: ANDI ALHUDA | F14: L | G14: Desa Durian | H14: RANTAU | I14: Aceh Tamiang | J14: 1116080206070003 | K14: SMP SWASTA ISLAM | L14: IPS | M14: IPS | N14: andyalhuda@gmail.com | O14: 1116082704070006 | P14: DURIAN | Q14: 39235 | R14: Laki-laki | S14: Musa | T14: Dewi maharani | V14: 085260924516 | W14: Desa Durian | X14: RANTAU | Y14: Aceh Tamiang | Z14: 2 | AA14: SMP SWASTA ISLAM | AB14: 2022 | AC14: ZONASI | AD14: IIS ( Ilmu-ilmu Sosial) | AE14: IIS ( Ilmu-ilmu Sosial) | AF14: 082360104675 | AG14: 76 | AH14: 82 | AI14: 76 | AJ14: 81 | AK14: 89 | AL14: 86.33 | AM14: 78 | AN14: 83 | AO14: 80 | AP14: 78 | AQ14: 83 | AR14: 80.98 | AS14: 85 | AT14: 83 | AU14: 75 | AV14: 74 | AW14: 71 | AX14: 75.6 | AY14: 76 | AZ14: 81 | BA14: 80 | BB14: 80 | BC14: 77 | BD14: 82.39 | BE14: 70 | BF14: 88 | BG14: 90 | BH14: 85 | BI14: 90 | BJ14: 88.83 | BK14: 1a387u7KTrGRRJ9Jg_clQTaQmQASGRLKk | BL14: https://drive.google.com/file/d/1a387u7KTrGRRJ9Jg_clQTaQmQASGRLKk/view?usp=drivesdk | BM14: 0708 BUKTI PENDAFTARAN ANDI ALHUDA PPDB 2022 | BN14: Document successfully created; Document successfully merged; PDF created; Emails Sent: [To: andyalhuda@gmail.com]; Run via form trigger as ppdbsman1kjm@gmail.com; Timestamp: Jun 21 2022 12:47 AM | BO14: 86.33 | BP14: 80.98 | BQ14: 75.6 | BR14: 82.39 | BS14: 88.83 | BT14: =SUM(BO14:BS14) -> 414.13 | BU14: IPS | CF14: 8
A15: CW | B15: 9 | C15: 179 RANTAU | D15: 0077415020 | E15: FERDHIAN RIZKI ADMAZA | F15: L | G15: Desa Durian | H15: RANTAU | I15: Aceh Tamiang | J15: 1116080903070001 | K15: SMP TAHFIDZ MISBAHUR RASYAD AL-AZIZIYAH | L15: IPS | M15: IPA | N15: dedi19812308@gmail.com | O15: 1116080406090003 | P15: KARANG BARU | Q15: 39150 | R15: Laki-laki | S15: WARSITO | T15: YUSNIATI | V15: 082366666478 | W15: Desa Durian | X15: RANTAU | Y15: Aceh Tamiang | Z15: 1 | AA15: SMP TAHFIDZ MISBAHUR RASYAD AL-AZIZIYAH | AB15: 2022 | AC15: ZONASI | AD15: IIS ( Ilmu-ilmu Sosial) | AE15: MIPA (Matematika Ilmu Pengetahuan Alam) | AF15: 082268561163 | AG15: 88 | AH15: 90 | AI15: 80 | AJ15: 83 | AK15: 81 | AL15: 85 | AM15: 80 | AN15: 83 | AO15: 84 | AP15: 85 | AQ15: 75 | AR15: 78.08 | AS15: 77 | AT15: 78 | AU15: 73 | AV15: 78 | AW15: 78 | AX15: 78.5 | AY15: 83 | AZ15: 85 | BA15: 83 | BB15: 87 | BC15: 84 | BD15: 84.33 | BE15: 80 | BF15: 85 | BG15: 85 | BH15: 82 | BI15: 88 | BJ15: 88 | BK15: 16XiIIUwyqj-6l8ydmhFXgJCi3ptf68E7 | BL15: https://drive.google.com/file/d/16XiIIUwyqj-6l8ydmhFXgJCi3ptf68E7/view?usp=drivesdk | BM15: 0760 BUKTI PENDAFTARAN FERDHIAN RIZKI ADMAZA PPDB 2022 | BN15: Document successfully created; Document successfully merged; PDF created; Emails Sent: [To: dedi19812308@gmail.com]; Run via form trigger as ppdbsman1kjm@gmail.com; Timestamp: Jun 22 2022 12:35 AM | BO15: 85 | BP15: 78.08 | BQ15: 78.5 | BR15: 84.33 | BS15: 88 | BT15: =SUM(BO15:BS15) -> 413.91 | BU15: IPS | CF15: 9
A16: CW | B16: 10 | C16: 166 RANTAU | D16: 0078645282 | E16: SHAUMI SALSABILA | F16: P | G16: Desa Durian | H16: RANTAU | I16: Aceh Tamiang | J16: 1116084110070002 | K16: SMP MUHAMMADIYAH KUALASIMPANG | L16: IPA | M16: IPA | N16: shaumisalsabilla6@gmail.com | O16: 1116081411060097 | P16: KAMPUNG DURIAN | Q16: 39356 | R16: Perempuan | S16: Mohammad Ridla,S.E | T16: nurfajriani | V16: 085270765504 | W16: Desa Durian | X16: RANTAU | Y16: Aceh Tamiang | Z16: 3 | AA16: SMP MUHAMMADIYAH KUALASIMPANG | AB16: 2022 | AC16: ZONASI | AD16: MIPA (Matematika Ilmu Pengetahuan Alam) | AE16: MIPA (Matematika Ilmu Pengetahuan Alam) | AF16: 082283769269 | AG16: 80 | AH16: 82 | AI16: 85 | AJ16: 88 | AK16: 87 | AL16: 84.4 | AM16: 85 | AN16: 85 | AO16: 73 | AP16: 80 | AQ16: 90 | AR16: 82.6 | AS16: 80 | AT16: 80 | AU16: 84 | AV16: 80 | AW16: 80 | AX16: 80.8 | AY16: 81 | AZ16: 84 | BA16: 80 | BB16: 78 | BC16: 82 | BD16: 81 | BE16: 77 | BF16: 80 | BG16: 88 | BH16: 88 | BI16: 85 | BJ16: 83.6 | BK16: 1QP2lxZB93l-FBW8DyNv3nufw7nPK1qnx | BL16: https://drive.google.com/file/d/1QP2lxZB93l-FBW8DyNv3nufw7nPK1qnx/view?usp=drivesdk | BM16: 0255 BUKTI PENDAFTARAN SHAUMI SALSABILA PPDB 2022 | BN16: Document successfully created; Document successfully merged; PDF created; !!Error Sending Emails: Layanan terlalu sering diminta di hari yang sama: email.; Run via form trigger as ppdbsman1kjm@gmail.com; Timestamp: Jun 19 2022 8:00 AM | BO16: 84.4 | BP16: 82.6 | BQ16: 80.8 | BR16: 81 | BS16: 83.6 | BT16: =SUM(BO16:BS16) -> 412.4 | BU16: IPA | CF16: 10
A17: YA | B17: 11 | C17: 104 RANTAU | D17: 0076430220 | E17: AMARA DWI UTAMI | F17: P | G17: Desa Durian | H17: RANTAU | I17: Aceh Tamiang | J17: 1116087003070001 | K17: SMPN 3 KEJURUAN MUDA | L17: IPA | M17: IPS | N17: aliyafadila40@gmail.com | O17: 1116082506060025 | P17: KAMPUNG DURIAN | Q17: 39171 | R17: Perempuan | S17: SULASNO | T17: SUDARYATI | V17: 082277602695 | W17: Desa Durian | X17: RANTAU | Y17: Aceh Tamiang | Z17: 2 | AA17: SMPN 3 KEJURUAN MUDA | AB17: 2022 | AC17: ZONASI | AD17: MIPA (Matematika Ilmu Pengetahuan Alam) | AE17: IIS ( Ilmu-ilmu Sosial) | AF17: 082277602695 | AG17: 84.00 | AH17: 87.00 | AI17: 78.00 | AJ17: 80.00 | AK17: 88.00 | AL17: 84.5 | AM17: 89.00 | AN17: 89.00 | AO17: 80.00 | AP17: 83.00 | AQ17: 83.00 | AR17: 84.5 | AS17: 80.00 | AT17: 80.00 | AU17: 79.00 | AV17: 82.00 | AW17: 83.00 | AX17: 81.17 | AY17: 78.00 | AZ17: 78.00 | BA17: 79.00 | BB17: 81.00 | BC17: 81.00 | BD17: 80.17 | BE17: 81.00 | BF17: 84.00 | BG17: 78.00 | BH17: 80.00 | BI17: 82.00 | BJ17: 81.33 | BK17: 1pmowIGPnOjxyqdQhx0AKPl1NYQJr4zhR | BL17: https://drive.google.com/file/d/1pmowIGPnOjxyqdQhx0AKPl1NYQJr4zhR/view?usp=drivesdk | BM17: 0440 BUKTI PENDAFTARAN AMARA DWI UTAMI PPDB 2022 | BN17: Document successfully created; Document successfully merged; PDF created; !!Error Sending Emails: Layanan terlalu sering diminta di hari yang sama: email.; Run via form trigger as ppdbsman1kjm@gmail.com; Timestamp: Jun 19 2022 11:25 PM | BO17: 84.5 | BP17: 84.5 | BQ17: 81.17 | BR17: 80.17 | BS17: 81.33 | BT17: =SUM(BO17:BS17) -> 411.67 | BU17: IPA | CF17: 11
A18: CW | B18: 13 | C18: 183 RANTAU | D18: 0077698562 | E18: ARIFAH NURLAILA | F18: P | G18: Desa Durian | H18: RANTAU | I18: Aceh Tamiang | J18: 1116086511070001 | K18: SMP TAHFIDZ MISBAHUR RASYAD AL-AZIZIYAH | L18: IPS | M18: IPS | N18: arifahnurlaila51@smp.belajar.id | O18: 1116082401053176 | P18: DESA DURIAN | Q18: 39411 | R18: Perempuan | S18: MUHAMMAD AZMI | T18: SUKIATI | V18: 082261158133 | W18: Desa Durian | X18: RANTAU | Y18: Aceh Tamiang | Z18: 3 | AA18: SMP TAHFIDZ MISBAHUR RASYAD AL-AZIZIYAH | AB18: 2022 | AC18: ZONASI | AD18: IIS ( Ilmu-ilmu Sosial) | AE18: IIS ( Ilmu-ilmu Sosial) | AF18: 081273132715 | AG18: 80 | AH18: 85 | AI18: 80 | AJ18: 84 | AK18: 83 | AL18: 81.25 | AM18: 80 | AN18: 84 | AO18: 85 | AP18: 85 | AQ18: 83 | AR18: 80.67 | AS18: 80 | AT18: 80 | AU18: 80 | AV18: 83 | AW18: 80 | AX18: 75.92 | AY18: 81 | AZ18: 81 | BA18: 90 | BB18: 87 | BC18: 88 | BD18: 85.17 | BE18: 80 | BF18: 86 | BG18: 88 | BH18: 88 | BI18: 83 | BJ18: 87.25 | BK18: 1H2tz9jK5QDPxe6p1rFbDlQklQPciwoBs | BL18: https://drive.google.com/file/d/1H2tz9jK5QDPxe6p1rFbDlQklQPciwoBs/view?usp=drivesdk | BM18: 0770 BUKTI PENDAFTARAN ARIFAH NURLAILA PPDB 2022 | BN18: Document successfully created; Document successfully merged; PDF created; Emails Sent: [To: arifahnurlaila51@smp.belajar.id]; Run via form trigger as ppdbsman1kjm@gmail.com; Timestamp: Jun 22 2022 6:34 AM | BO18: 81.25 | BP18: 80.67 | BQ18: 75.92 | BR18: 85.17 | BS18: 87.25 | BT18: =SUM(BO18:BS18) -> 410.26 | BU18: IPS | BV18: PE2DTJ | CF18: 12
A19: YA | B19: 14 | C19: 109 RANTAU | D19: 0073298790 | E19: SHAYLA MEUTHIA RAMADHANI | F19: P | G19: Desa Durian | H19: RANTAU | I19: Aceh Tamiang | J19: 1116085610070001 | K19: SMPN 1 KUALA SIMPANG | L19: IPA | M19: IPA | N19: shaylameuthia3@gmail.com | O19: 1116082401053116 | P19: ACEH TAMIANG | Q19: 39371 | R19: Perempuan | S19: ALM. MUHAMMAD HENDRA HIDAYAT | T19: OMMIMAH | V19: 082362963344 | W19: Desa Durian | X19: RANTAU | Y19: Aceh Tamiang | Z19: 1 | AA19: SMPN 1 KUALA SIMPANG | AB19: 2022 | AC19: ZONASI | AD19: MIPA (Matematika Ilmu Pengetahuan Alam) | AE19: MIPA (Matematika Ilmu Pengetahuan Alam) | AF19: 081375711027 | AG19: 73 | AH19: 79 | AI19: 83 | AJ19: 85 | AK19: 86 | AL19: 86.25 | AM19: 65 | AN19: 65 | AO19: 72 | AP19: 79 | AQ19: 88 | AR19: 84.75 | AS19: 66 | AT19: 85 | AU19: 88 | AV19: 74 | AW19: 81 | AX19: 79.42 | AY19: 66 | AZ19: 75 | BA19: 73 | BB19: 80 | BC19: 84 | BD19: 78.59 | BE19: 68 | BF19: 76 | BG19: 80 | BH19: 90 | BI19: 85 | BJ19: 81.03 | BK19: 1c5aZQ7rIa9jy5yYujDOdrfgj2v0EXIV1 | BL19: https://drive.google.com/file/d/1c5aZQ7rIa9jy5yYujDOdrfgj2v0EXIV1/view?usp=drivesdk | BM19: 0019 BUKTI PENDAFTARAN SHAYLA MEUTHIA RAMADHANI PPDB 2022 | BN19: Document successfully created; Document successfully merged; PDF created; Emails Sent: [To: shaylameuthia3@gmail.com]; Run via form trigger as ppdbsman1kjm@gmail.com; Timestamp: Jun 18 2022 8:33 PM | BO19: 86.25 | BP19: 84.75 | BQ19: 79.42 | BR19: 78.59 | BS19: 81.03 | BT19: =SUM(BO19:BS19) -> 410.04 | BU19: IPA | CF19: 13
A20: SU | B20: 15 | C20: 128 RANTAU | D20: 0083253294 | E20: DELLA CAHYATI | F20: P | G20: Desa Durian | H20: RANTAU | I20: Aceh Tamiang | J20: 1116085601080002 | K20: SMP NEGERI 1 KUALA SIMPANG | L20: IPA | M20: IPA | N20: dellacahyati998@gmail.com | O20: 1116082401054748 | P20: ACEH TAMIANG | Q20: 39463 | R20: Perempuan | S20: GUNADI | T20: KASRIATUN | U20: GUNADI | V20: 082214139842 | W20: Desa Durian | X20: RANTAU | Y20: Aceh Tamiang | Z20: 4 | AA20: SMP NEGERI 1 KUALA SIMPANG | AB20: 2022 | AC20: ZONASI | AD20: MIPA (Matematika Ilmu Pengetahuan Alam) | AE20: MIPA (Matematika Ilmu Pengetahuan Alam) | AF20: 082175302296 | AG20: 75 | AH20: 74 | AI20: 84 | AJ20: 82 | AK20: 90 | AL20: 85 | AM20: 67 | AN20: 63 | AO20: 72 | AP20: 83 | AQ20: 87 | AR20: 80.83 | AS20: 69 | AT20: 70 | AU20: 76 | AV20: 76 | AW20: 77 | AX20: 77.42 | AY20: 75 | AZ20: 77 | BA20: 75 | BB20: 73 | BC20: 80 | BD20: 82.79 | BE20: 72 | BF20: 79 | BG20: 74 | BH20: 75 | BI20: 88 | BJ20: 81.63 | BK20: 15r1kavD644o4cZ09x0Eo2o7mXHmzcfVa | BL20: https://drive.google.com/file/d/15r1kavD644o4cZ09x0Eo2o7mXHmzcfVa/view?usp=drivesdk | BM20: 0360 BUKTI PENDAFTARAN DELLA CAHYATI PPDB 2022 | BN20: Document successfully created; Document successfully merged; PDF created; Emails Sent: [To: dellacahyati998@gmail.com]; Run via form trigger as ppdbsman1kjm@gmail.com; Timestamp: Jun 19 2022 9:59 PM | BO20: 85 | BP20: 80.83 | BQ20: 77.42 | BR20: 82.79 | BS20: 81.63 | BT20: =SUM(BO20:BS20) -> 407.67 | BU20: IPA | BW20: 6034949101980436 | CF20: 14
A21: CW | B21: 16 | C21: 163 RANTAU | D21: 0077761048 | E21: MUHAMMAD ZAKI MARDHATILLAH | F21: L | G21: Desa Durian | H21: RANTAU | I21: Aceh Tamiang | J21: 1116030303070001 | K21: YAYASAN MISBAHUR RASYAD AL-AZIZIYAH SMP TAHFIDZ MISBAHUR RASYAD AL-AZIZIYAH JL. RANTAU-KUALA SIMPANG, GG. H. M. NUR SARI, BENUA RAJA | L21: IPS | M21: IPS | N21: muhammadkhalidksp@gmail.com | O21: 1116081305110001 | P21: KARANG BARU | Q21: 39144 | R21: Laki-laki | S21: MUHAMMAD KHALID | T21: SITI FATIMAH | V21: 085260698833 | W21: Desa Durian | X21: RANTAU | Y21: Aceh Tamiang | Z21: 1 | AA21: YAYASAN MISBAHUR RASYAD AL-AZIZIYAH SMP TAHFIDZ MISBAHUR RASYAD AL-AZIZIYAH JL. RANTAU-KUALA SIMPANG, GG. H. M. NUR SARI, BENUA RAJA | AB21: 2022 | AC21: ZONASI | AD21: IIS ( Ilmu-ilmu Sosial) | AE21: IIS ( Ilmu-ilmu Sosial) | AF21: 085261719232 | AG21: 70 | AH21: 70 | AI21: 70 | AJ21: 70 | AK21: 70 | AL21: 84.08 | AM21: 70 | AN21: 70 | AO21: 70 | AP21: 70 | AQ21: 70 | AR21: 78.75 | AS21: 65 | AT21: 65 | AU21: 65 | AV21: 65 | AW21: 65 | AX21: 70.33 | AY21: 70 | AZ21: 70 | BA21: 70 | BB21: 70 | BC21: 70 | BD21: 86.67 | BE21: 70 | BF21: 70 | BG21: 70 | BH21: 70 | BI21: 70 | BJ21: 86.83 | BK21: 1w0GRYZLwhux9ab01R4gHW7rZg4iEvGRx | BL21: https://drive.google.com/file/d/1w0GRYZLwhux9ab01R4gHW7rZg4iEvGRx/view?usp=drivesdk | BM21: 0692 BUKTI PENDAFTARAN MUHAMMAD ZAKI MARDHATILLAH PPDB 2022 | BN21: Document successfully created; Document successfully merged; PDF created; Emails Sent: [To: muhammadkhalidksp@gmail.com]; Run via form trigger as ppdbsman1kjm@gmail.com; Timestamp: Jun 21 2022 12:01 AM | BO21: 84.08 | BP21: 78.75 | BQ21: 70.33 | BR21: 86.67 | BS21: 86.83 | BT21: =SUM(BO21:BS21) -> 406.66 | BU21: IPS | CF21: 15
A22: CW | B22: 17 | C22: 090 RANTAU | D22: 0072088460 | E22: VINA KHAIRANI | F22: P | G22: Desa Durian | H22: RANTAU | I22: Aceh Tamiang | J22: 1116086609070004 | K22: SMP N 3 KEJURUAN MUDA | L22: IPA | M22: IPA | N22: vinakhairanirani@gmail.com | O22: 1116082107090006 | P22: SUKA JADI | Q22: 39351 | R22: Perempuan | S22: SUPRIANTO | T22: NILAWATI | V22: 085296545276 | W22: Desa Durian | X22: RANTAU | Y22: Aceh Tamiang | Z22: 1 | AA22: SMP N 3 KEJURUAN MUDA | AB22: 2022 | AC22: ZONASI | AD22: MIPA (Matematika Ilmu Pengetahuan Alam) | AE22: MIPA (Matematika Ilmu Pengetahuan Alam) | AF22: 083837747226 | AG22: 83.00 | AH22: 83.00 | AI22: 77.00 | AJ22: 80.00 | AK22: 84.00 | AL22: 82.17 | AM22: 77.00 | AN22: 82.00 | AO22: 84.00 | AP22: 83.00 | AQ22: 82.00 | AR22: 81.67 | AS22: 79.00 | AT22: 79.00 | AU22: 85.00 | AV22: 80.00 | AW22: 80.00 | AX22: 80.67 | AY22: 78.00 | AZ22: 78.00 | BA22: 77.00 | BB22: 79.00 | BC22: 80.00 | BD22: 78.67 | BE22: 81.00 | BF22: 81.00 | BG22: 79.00 | BH22: 83.00 | BI22: 81.00 | BJ22: 81.17 | BK22: 1wrOWoKdK2i8Ek-4aqOH7SfXFGn0-qYkT | BL22: https://drive.google.com/file/d/1wrOWoKdK2i8Ek-4aqOH7SfXFGn0-qYkT/view?usp=drivesdk | BM22: 0486 BUKTI PENDAFTARAN VINA KHAIRANI PPDB 2022 | BN22: Document successfully created; Document successfully merged; PDF created; !!Error Sending Emails: Layanan terlalu sering diminta di hari yang sama: email.; Run via form trigger as ppdbsman1kjm@gmail.com; Timestamp: Jun 20 2022 12:22 AM | BO22: 82.17 | BP22: 81.67 | BQ22: 80.67 | BR22: 78.67 | BS22: 81.17 | BT22: =SUM(BO22:BS22) -> 404.35 | BU22: IPA | BV22: 488JAR | CF22: 16
A23: SU | B23: 18 | C23: 070 RANTAU | D23: 0071470953 | E23: PADIAH SUTAMI | F23: P | G23: Desa Durian | H23: RANTAU | I23: Aceh Tamiang | J23: 1116084701070002 | K23: SMP NEGERI 3 KEJURUAN MUDA | L23: IPS | M23: IPS | N23: sariwita48@gmail.com | O23: 1116082401054094 | P23: DURIAN | Q23: 39089 | R23: Perempuan | S23: Abdul Muin | T23: Boera | V23: 082211222509 | W23: Desa Durian | X23: RANTAU | Y23: Aceh Tamiang | Z23: 2 | AA23: SMP NEGERI 3 KEJURUAN MUDA | AB23: 2022 | AC23: ZONASI | AD23: IIS ( Ilmu-ilmu Sosial) | AE23: IIS ( Ilmu-ilmu Sosial) | AF23: 082211222509 | AG23: 79.00 | AH23: 83.00 | AI23: 80.00 | AJ23: 80.00 | AK23: 87.00 | AL23: 83 | AM23: 77.00 | AN23: 80.00 | AO23: 82.00 | AP23: 78.00 | AQ23: 78.00 | AR23: 79 | AS23: 79.00 | AT23: 79.00 | AU23: 85.00 | AV23: 80.00 | AW23: 82.00 | AX23: 81.33 | AY23: 81.00 | AZ23: 78.00 | BA23: 80.00 | BB23: 82.00 | BC23: 83.00 | BD23: 81 | BE23: 70.00 | BF23: 82.00 | BG23: 80.00 | BH23: 80.00 | BI23: 82.00 | BJ23: 79.33 | BK23: 1tWwFnAwq2srLPJFMvSDFUDls1dzakiEw | BL23: https://drive.google.com/file/d/1tWwFnAwq2srLPJFMvSDFUDls1dzakiEw/view?usp=drivesdk | BM23: 0268 BUKTI PENDAFTARAN PADIAH SUTAMI PPDB 2022 | BN23: Document successfully created; Document successfully merged; PDF created; !!Error Sending Emails: Layanan terlalu sering diminta di hari yang sama: email.; Run via form trigger as ppdbsman1kjm@gmail.com; Timestamp: Jun 19 2022 8:41 AM | BO23: 83 | BP23: 79 | BQ23: 81.33 | BR23: 81 | BS23: 79.33 | BT23: =SUM(BO23:BS23) -> 403.66 | BU23: IPS | BV23: 6034948874003780 | BW23: 6034949101981053 | CF23: 17
A24: CW | B24: 19 | C24: 177 RANTAU | D24: 0066663963 | E24: PIRMAN SYAH HARAHAP | F24: L | G24: Desa Durian | H24: RANTAU | I24: Aceh Tamiang | J24: 1116081212060001 | K24: MTSS DARUL ULUM | L24: IPS | M24: IPS | N24: yullimahardika31@gmail.com | O24: 1116082506070029 | P24: KAMPUNG DURIAN | Q24: 39063 | R24: Laki-laki | S24: SAIFUL MIJAN HARAHAP | T24: KAMARIAH G | U24: SAIFUL MIJAN HARAHAP | V24: 082166491000 | W24: Desa Durian | X24: RANTAU | Y24: Aceh Tamiang | Z24: 4 | AA24: MTSS DARUL ULUM | AB24: 2022 | AC24: ZONASI | AD24: IIS ( Ilmu-ilmu Sosial) | AE24: IIS ( Ilmu-ilmu Sosial) | AF24: 082166491000 | AG24: 82 | AH24: 82 | AI24: 82 | AJ24: 82 | AK24: 82 | AL24: 82 | AM24: 79 | AN24: 79 | AO24: 79 | AP24: 79 | AQ24: 79 | AR24: 79 | AS24: 81 | AT24: 81 | AU24: 81 | AV24: 81 | AW24: 81 | AX24: 81 | AY24: 81 | AZ24: 81 | BA24: 81 | BB24: 81 | BC24: 81 | BD24: 81 | BE24: 80 | BF24: 80 | BG24: 80 | BH24: 80 | BI24: 80 | BJ24: 80 | BK24: 1LOfY1qnW36EL_LfNleX8wZ3v-FPTLJX6 | BL24: https://drive.google.com/file/d/1LOfY1qnW36EL_LfNleX8wZ3v-FPTLJX6/view?usp=drivesdk | BM24: 0781 BUKTI PENDAFTARAN PIRMAN SYAH HARAHAP PPDB 2022 | BN24: Document successfully created; Document successfully merged; PDF created; Emails Sent: [To: yullimahardika31@gmail.com]; Run via form trigger as ppdbsman1kjm@gmail.com; Timestamp: Jun 22 2022 9:46 PM | BO24: 82 | BP24: 79 | BQ24: 81 | BR24: 81 | BS24: 80 | BT24: =SUM(BO24:BS24) -> 403 | BU24: IPS | BX24: MIN 4 ACEH TAMIANG | CF24: 18
A25: CW | B25: 20 | C25: 187 RANTAU | D25: 0068488060 | E25: AZIS ABDILLAH ILMI | F25: L | G25: Desa Durian | H25: RANTAU | I25: Aceh Tamiang | J25: 1174031101060005 | K25: SMPS DHARMA PATRA | L25: IPA | M25: IPA | N25: mazis4810@gmail.com | O25: 1116081711210003 | P25: LHOKSEUMAWE | Q25: 39047 | R25: Laki-laki | S25: TONY WALUYO | T25: SARIYAH | U25: Tidak ada | V25: 085296540097 | W25: Desa Durian | X25: RANTAU | Y25: Aceh Tamiang | Z25: 3 | AA25: SMPS DHARMA PATRA | AB25: 2022 | AC25: ZONASI | AD25: MIPA (Matematika Ilmu Pengetahuan Alam) | AE25: MIPA (Matematika Ilmu Pengetahuan Alam) | AF25: 0895327924497 | AG25: 76 | AH25: 81 | AI25: 81 | AJ25: 78 | AK25: 80 | AL25: 82.67 | AM25: 72 | AN25: 66 | AO25: 66 | AP25: 66 | AQ25: 75 | AR25: 76.83 | AS25: 68 | AT25: 77 | AU25: 77 | AV25: 78 | AW25: 80 | AX25: 79.33 | AY25: 81 | AZ25: 74 | BA25: 74 | BB25: 74 | BC25: 79 | BD25: 80 | BE25: 80 | BF25: 78 | BG25: 78 | BH25: 78 | BI25: 78 | BJ25: 84 | BK25: 1H_wtQUp508SqAavKdBvlr7vqKStpj9QK | BL25: https://drive.google.com/file/d/1H_wtQUp508SqAavKdBvlr7vqKStpj9QK/view?usp=drivesdk | BM25: 0785 BUKTI PENDAFTARAN AZIS ABDILLAH ILMI PPDB 2022 | BN25: Document successfully created; Document successfully merged; PDF created; Emails Sent: [To: mazis4810@gmail.com]; Run via form trigger as ppdbsman1kjm@gmail.com; Timestamp: Jun 22 2022 11:29 PM | BO25: 82.67 | BP25: 76.83 | BQ25: 79.33 | BR25: 80 | BS25: 84 | BT25: =SUM(BO25:BS25) -> 402.83 | BU25: IPA | CF25: 19
A26: CW | B26: 21 | C26: 185 RANTAU | D26: 0077143676 | E26: SAH BAIHAKI TEGAR | F26: L | G26: Desa Durian | H26: RANTAU | I26: Aceh Tamiang | J26: 1116031106070001 | K26: SMP NEGERI 1 KUALASIMPANG | L26: IPS | M26: IPA | N26: sahbaihakitegar@gmail.com | O26: 1116081005190004 | P26: BANDA ACEH | Q26: 39244 | R26: Laki-laki | S26: HENDRA KURNIAWAN | T26: FITRI ANI | V26: 082294929786 | W26: Desa Durian | X26: RANTAU | Y26: Aceh Tamiang | Z26: 1 | AA26: SMP NEGERI 1 KUALASIMPANG | AB26: 2022 | AC26: ZONASI | AD26: IIS ( Ilmu-ilmu Sosial) | AE26: MIPA (Matematika Ilmu Pengetahuan Alam) | AF26: 089636138549 | AG26: 67 | AH26: 70 | AI26: 80 | AJ26: 80 | AK26: 87 | AL26: 85.33 | AM26: 60 | AN26: 62 | AO26: 72 | AP26: 83 | AQ26: 88 | AR26: 79.92 | AS26: 73 | AT26: 72 | AU26: 80 | AV26: 77 | AW26: 73 | AX26: 77.58 | AY26: 78 | AZ26: 68 | BA26: 73 | BB26: 80 | BC26: 77 | BD26: 78.34 | BE26: 70 | BF26: 75 | BG26: 83 | BH26: 84 | BI26: 78 | BJ26: 80.1 | BK26: 1yqKS6wyRe4QGubtNamKNQ8tMFyacbbmx | BL26: https://drive.google.com/file/d/1yqKS6wyRe4QGubtNamKNQ8tMFyacbbmx/view?usp=drivesdk | BM26: 0714 BUKTI PENDAFTARAN SAH BAIHAKI TEGAR PPDB 2022 | BN26: Document successfully created; Document successfully merged; PDF created; Emails Sent: [To: sahbaihakitegar@gmail.com]; Run via form trigger as ppdbsman1kjm@gmail.com; Timestamp: Jun 21 2022 2:25 AM | BO26: 85.33 | BP26: 79.92 | BQ26: 77.58 | BR26: 78.34 | BS26: 80.1 | BT26: =SUM(BO26:BS26) -> 401.27 | BU26: IPS | CF26: 20
A27: SU | B27: 22 | C27: 126 RANTAU | D27: 0076461556 | E27: DIMAS RAMADANI | F27: L | G27: Desa Durian | H27: RANTAU | I27: Aceh Tamiang | J27: 1116081009070001 | K27: SMP NEGERI 3 KEJUJURAN MUDA | L27: IPS | M27: IPS | N27: dimasramadani14171@gmail.com | O27: 1116080210070007 | P27: ACEH TAMIANG | Q27: 39335 | R27: Laki-laki | S27: TARMEDI | T27: KIKI JURIANI | U27: TARMEDI | V27: 082277594823 | W27: Desa Durian | X27: RANTAU | Y27: Aceh Tamiang | Z27: 2 | AA27: SMP NEGERI 3 KEJUJURAN MUDA | AB27: 2022 | AC27: ZONASI | AD27: IIS ( Ilmu-ilmu Sosial) | AE27: IIS ( Ilmu-ilmu Sosial) | AF27: 082182095137 | AG27: 78.00 | AH27: 80.00 | AI27: 77.00 | AJ27: 80.00 | AK27: 82.00 | AL27: 80.17 | AM27: 81.00 | AN27: 86.00 | AO27: 66.00 | AP27: 80.00 | AQ27: 80.00 | AR27: 78.83 | AS27: 84.00 | AT27: 83.00 | AU27: 80.00 | AV27: 78.00 | AW27: 78.00 | AX27: 80.17 | AY27: 86.00 | AZ27: 88.00 | BA27: 77.00 | BB27: 77.00 | BC27: 80.00 | BD27: 82 | BE27: 78.00 | BF27: 80.00 | BG27: 76.00 | BH27: 77.00 | BI27: 82.00 | BJ27: 79.17 | BK27: 1ONaVvaV966D7FcIO7s5vx8nRYwd9PgEy | BL27: https://drive.google.com/file/d/1ONaVvaV966D7FcIO7s5vx8nRYwd9PgEy/view?usp=drivesdk | BM27: 0263 BUKTI PENDAFTARAN DIMAS RAMADANI PPDB 2022 | BN27: Document successfully created; Document successfully merged; PDF created; !!Error Sending Emails: Layanan terlalu sering diminta di hari yang sama: email.; Run via form trigger as ppdbsman1kjm@gmail.com; Timestamp: Jun 19 2022 8:27 AM | BO27: 80.17 | BP27: 78.83 | BQ27: 80.17 | BR27: 82 | BS27: 79.17 | BT27: =SUM(BO27:BS27) -> 400.34 | BU27: IPS | BV27: PFJSD3 | BW27: 6034949101915309 | CF27: 21
A28: CW | B28: 23 | C28: 192 RANTAU | D28: 0078023005 | E28: INDAH RAHAYU | F28: P | G28: Desa Durian | H28: RANTAU | I28: Aceh Tamiang | J28: 1116066706070001 | K28: MTSS. NURUL IMAN | L28: IPS | M28: IPS | N28: indahrahayu55555@gmail.com | O28: 1116081610120002 | P28: ALUR MENTAWAK | Q28: 39261 | R28: Perempuan | S28: NURDIN | T28: RAMLAH | U28: ABDUL KADIR | V28: 081274954204 | W28: Desa Durian | X28: RANTAU | Y28: Aceh Tamiang | Z28: 5 | AA28: MTSS. NURUL IMAN | AB28: 2022 | AC28: ZONASI | AD28: IIS ( Ilmu-ilmu Sosial) | AE28: IIS ( Ilmu-ilmu Sosial) | AF28: 081260525468 | AG28: 77.50 | AH28: 72.00 | AI28: 80.00 | AJ28: 81.00 | AK28: 82.00 | AL28: 78.5 | AM28: 79.50 | AN28: 80.50 | AO28: 81.50 | AP28: 82.00 | AQ28: 84.50 | AR28: 81.6 | AS28: 75.00 | AT28: 72.00 | AU28: 79.00 | AV28: 84.50 | AW28: 80.00 | AX28: 78.1 | AY28: 77.50 | AZ28: 81.00 | BA28: 79.00 | BB28: 80.00 | BC28: 81.50 | BD28: 79.8 | BE28: 80.00 | BF28: 85.00 | BG28: 81.00 | BH28: 82.00 | BI28: 81.00 | BJ28: 81.9 | BK28: 1YtO7oMhEJyyTO-OEXh1Zw0xAOqffAisU | BL28: https://drive.google.com/file/d/1YtO7oMhEJyyTO-OEXh1Zw0xAOqffAisU/view?usp=drivesdk | BM28: 0275 BUKTI PENDAFTARAN INDAH RAHAYU PPDB 2022 | BN28: Document successfully created; Document successfully merged; PDF created; !!Error Sending Emails: Layanan terlalu sering diminta di hari yang sama: email.; Run via form trigger as ppdbsman1kjm@gmail.com; Timestamp: Jun 19 2022 9:01 AM | BO28: 78.5 | BP28: 81.6 | BQ28: 78.1 | BR28: 79.8 | BS28: 81.9 | BT28: =SUM(BO28:BS28) -> 399.9 | BU28: IPS | BV28: PL50RZ | BX28: SDN ALUR MENTAWAK | CF28: 22
A29: YA | B29: 24 | C29: 119 RANTAU | D29: 0076205149 | E29: MUHAMMAD YUDA | F29: L | G29: Desa Durian | H29: RANTAU | I29: Aceh Tamiang | J29: 1116031306070002 | K29: SMP NEGERI 3 KEJURUAN MUDA | L29: IPS | M29: IPS | N29: srikampungdurian@gmail.com | O29: 1116081304200005 | P29: KEBUN RANTAU | Q29: 39246 | R29: Laki-laki | S29: SOFIAN | T29: SRI HANDAYANI | U29: SARI WIDODO | V29: 082217475816 | W29: Desa Durian | X29: RANTAU | Y29: Aceh Tamiang | Z29: 1 | AA29: SMP NEGERI 3 KEJURUAN MUDA | AB29: 2022 | AC29: ZONASI | AD29: IIS ( Ilmu-ilmu Sosial) | AE29: IIS ( Ilmu-ilmu Sosial) | AF29: 082310903574 | AG29: 77 | AH29: 81 | AI29: 77 | AJ29: 80 | AK29: 80 | AL29: 79.5 | AM29: 77 | AN29: 85 | AO29: 68 | AP29: 81 | AQ29: 82 | AR29: 79.17 | AS29: 79 | AT29: 80 | AU29: 83 | AV29: 83 | AW29: 83 | AX29: 81.67 | AY29: 78 | AZ29: 78 | BA29: 78 | BB29: 79 | BC29: 80 | BD29: 78.83 | BE29: 80 | BF29: 82 | BG29: 78 | BH29: 79 | BI29: 82 | BJ29: 80.67 | BK29: 12x3lbBw3vObORUNsAs5POt90Qrq-dOsp | BL29: https://drive.google.com/file/d/12x3lbBw3vObORUNsAs5POt90Qrq-dOsp/view?usp=drivesdk | BM29: 0106 BUKTI PENDAFTARAN MUHAMMAD YUDA PPDB 2022 | BN29: Document successfully created; Document successfully merged; PDF created; Emails Sent: [To: srikampungdurian@gmail.com]; Run via form trigger as ppdbsman1kjm@gmail.com; Timestamp: Jun 19 2022 12:24 AM | BO29: 79.5 | BP29: 79.17 | BQ29: 81.67 | BR29: 78.83 | BS29: 80.67 | BT29: =SUM(BO29:BS29) -> 399.84 | BU29: IPS | CF29: 23
A30: YA | B30: 25 | C30: 160 RANTAU | D30: 0068617906 | E30: DIEO ATMAJA | F30: L | G30: Desa Durian | H30: RANTAU | I30: Aceh Tamiang | J30: 1116080812060001 | K30: SMP NEGRI 3 KEJURUAN MUDA | L30: IPA | M30: IPA | N30: oktafebriandika10@gmail.com | O30: 1116081902090033 | P30: KAMPUNG DURIAN | Q30: 39059 | R30: Laki-laki | S30: AHMAD BUANI | T30: SITI AMINAH | V30: 082240947973 | W30: Desa Durian | X30: RANTAU | Y30: Aceh Tamiang | Z30: 3 | AA30: SMP NEGRI 3 KEJURUAN MUDA | AB30: 2022 | AC30: ZONASI | AD30: MIPA (Matematika Ilmu Pengetahuan Alam) | AE30: MIPA (Matematika Ilmu Pengetahuan Alam) | AF30: 082240947973 | AG30: 70 | AH30: 81 | AI30: 73 | AJ30: 75 | AK30: 79 | AL30: 76.5 | AM30: 84 | AN30: 86 | AO30: 84 | AP30: 83 | AQ30: 80 | AR30: 82.83 | AS30: 82 | AT30: 81 | AU30: 82 | AV30: 77 | AW30: 78 | AX30: 79.83 | AY30: 81 | AZ30: 81 | BA30: 81 | BB30: 79 | BC30: 80 | BD30: 81 | BE30: 79 | BF30: 81 | BG30: 77 | BH30: 79 | BI30: 81 | BJ30: 79.67 | BK30: 1F5iBLh2t5RTeDCxnFehbkP2qB_nqbosP | BL30: https://drive.google.com/file/d/1F5iBLh2t5RTeDCxnFehbkP2qB_nqbosP/view?usp=drivesdk | BM30: 0710 BUKTI PENDAFTARAN DIEO ATMAJA PPDB 2022 | BN30: Document successfully created; Document successfully merged; PDF created; Emails Sent: [To: oktafebriandika10@gmail.com]; Run via form trigger as ppdbsman1kjm@gmail.com; Timestamp: Jun 21 2022 1:16 AM | BO30: 76.5 | BP30: 82.83 | BQ30: 79.83 | BR30: 81 | BS30: 79.67 | BT30: =SUM(BO30:BS30) -> 399.83 | BU30: IPA | CF30: 24
A31: CW | B31: 27 | C31: 117 RANTAU | D31: 0075610563 | E31: MUHAMMAD RIFKI MAULANA | F31: L | G31: Desa Durian | H31: RANTAU | I31: Aceh Tamiang | J31: 1116082702070002 | K31: SMP SWASTA ISLAM KUALASIMPANG | L31: IPA | M31: IPA | N31: yullimahardika31@gmail.com | O31: 1116081902090028 | P31: DURIAN | Q31: 39140 | R31: Laki-laki | S31: BUDI HIDAYAT | T31: Almh.WARSIAH | U31: MARIANI | V31: 082267715527 | W31: Desa Durian | X31: RANTAU | Y31: Aceh Tamiang | Z31: 1 | AA31: SMP SWASTA ISLAM KUALASIMPANG | AB31: 2022 | AC31: ZONASI | AD31: MIPA (Matematika Ilmu Pengetahuan Alam) | AE31: MIPA (Matematika Ilmu Pengetahuan Alam) | AF31: 082267715527 | AG31: 84.85 | AH31: 84.85 | AI31: 84.85 | AJ31: 84.85 | AK31: 84.85 | AL31: 84.5 | AM31: 78.87 | AN31: 78.87 | AO31: 78.87 | AP31: 78.87 | AQ31: 78.87 | AR31: 78.87 | AS31: 74.58 | AT31: 74.58 | AU31: 74.58 | AV31: 74.58 | AW31: 74.58 | AX31: 74.58 | AY31: 81.85 | AZ31: 81.85 | BA31: 81.85 | BB31: 81.85 | BC31: 81.85 | BD31: 81.85 | BE31: 79.33 | BF31: 79.33 | BG31: 79.33 | BH31: 79.33 | BI31: 79.33 | BJ31: 79.33 | BK31: 1SBrGW2cj7tq5PnJ6sEZ59BbT3R7ZZwBo | BL31: https://drive.google.com/file/d/1SBrGW2cj7tq5PnJ6sEZ59BbT3R7ZZwBo/view?usp=drivesdk | BM31: 0660 BUKTI PENDAFTARAN MUHAMMAD RIFKI MAULANA PPDB 2022 | BN31: Document successfully created; Document successfully merged; PDF created; Emails Sent: [To: yullimahardika31@gmail.com]; Run via form trigger as ppdbsman1kjm@gmail.com; Timestamp: Jun 20 2022 10:11 PM | BO31: 84.5 | BP31: 78.87 | BQ31: 74.58 | BR31: 81.85 | BS31: 79.33 | BT31: =SUM(BO31:BS31) -> 399.13 | BU31: IPA | CF31: 25
A32: SU | B32: 28 | C32: 137 RANTAU | D32: 0065183892 | E32: KEISA SAFITRI | F32: P | G32: Desa Durian | H32: RANTAU | I32: Aceh Tamiang | J32: 1116085512060001 | K32: SMP NEGERI 1 KUALASIMPANG | L32: IPA | M32: IPA | N32: keisyasafitri734@gmail.com | O32: 1116080603070004 | P32: KAMPUNG DURIAN | Q32: 39066 | R32: Perempuan | S32: MUHAMMAD IDRIS | T32: EKA SUSANTI | V32: 082363146581 | W32: Desa Durian | X32: RANTAU | Y32: Aceh Tamiang | Z32: 1 | AA32: SMP NEGERI 1 KUALASIMPANG | AB32: 2022 | AC32: ZONASI | AD32: MIPA (Matematika Ilmu Pengetahuan Alam) | AE32: MIPA (Matematika Ilmu Pengetahuan Alam) | AF32: 083124815605 | AG32: 65 | AH32: 74 | AI32: 84 | AJ32: 85 | AK32: 85 | AL32: 83.42 | AM32: 63 | AN32: 70 | AO32: 72 | AP32: 80 | AQ32: 83 | AR32: 78.83 | AS32: 64 | AT32: 77 | AU32: 76 | AV32: 77 | AW32: 81 | AX32: 78 | AY32: 67 | AZ32: 65 | BA32: 74 | BB32: 73 | BC32: 75 | BD32: 78.3 | BE32: 62 | BF32: 65 | BG32: 74 | BH32: 75 | BI32: 75 | BJ32: 80.27 | BK32: 1bDloccXn-fvFRLyORqMPpGCXC6QN5ae9 | BL32: https://drive.google.com/file/d/1bDloccXn-fvFRLyORqMPpGCXC6QN5ae9/view?usp=drivesdk | BM32: 0475 BUKTI PENDAFTARAN KEISYA SAFITRI PPDB 2022 | BN32: Document successfully created; Document successfully merged; PDF created; !!Error Sending Emails: Layanan terlalu sering diminta di hari yang sama: email.; Run via form trigger as ppdbsman1kjm@gmail.com; Timestamp: Jun 20 2022 12:02 AM | BO32: 83.42 | BP32: 78.83 | BQ32: 78 | BR32: 78.3 | BS32: 80.27 | BT32: =SUM(BO32:BS32) -> 398.82 | BU32: IPA | CF32: 26
A33: CW | B33: 29 | C33: 143 RANTAU | D33: 0077841945 | E33: RINI AMELIA | F33: P | G33: Desa Durian | H33: RANTAU | I33: Aceh Tamiang | J33: 1116085104070004 | K33: SMPN 3 KEJURUAN MUDA | L33: IPS | M33: IPA | N33: ameliarini887@gmail.com | O33: 1116082904090009 | P33: PEMETANG SIANTAR | Q33: 39183 | R33: Perempuan | S33: Karman | T33: ngatiyem | U33: Karman | V33: 082267369023 | W33: Desa Durian | X33: RANTAU | Y33: Aceh Tamiang | Z33: 4 | AA33: SMPN 3 KEJURUAN MUDA | AB33: 2022 | AC33: ZONASI | AD33: IIS ( Ilmu-ilmu Sosial) | AE33: MIPA (Matematika Ilmu Pengetahuan Alam) | AF33: 082267369023 | AG33: 75 | AH33: 81 | AI33: 77 | AJ33: 77 | AK33: 86 | AL33: 80.67 | AM33: 77 | AN33: 79 | AO33: 79 | AP33: 78 | AQ33: 78 | AR33: 78.33 | AS33: 79 | AT33: 79 | AU33: 78 | AV33: 77 | AW33: 82 | AX33: 79.67 | AY33: 80 | AZ33: 79 | BA33: 77 | BB33: 79 | BC33: 80 | BD33: 79.5 | BE33: 79 | BF33: 82 | BG33: 78 | BH33: 78 | BI33: 80 | BJ33: 79.5 | BK33: 1-NaZjM6oOR33roZQ8B9QoVnc4icxV1OH | BL33: https://drive.google.com/file/d/1-NaZjM6oOR33roZQ8B9QoVnc4icxV1OH/view?usp=drivesdk | BM33: 0507 BUKTI PENDAFTARAN RINI AMELIA PPDB 2022 | BN33: Document successfully created; Document successfully merged; PDF created; !!Error Sending Emails: Layanan terlalu sering diminta di hari yang sama: email.; Run via form trigger as ppdbsman1kjm@gmail.com; Timestamp: Jun 20 2022 1:01 AM | BO33: 80.67 | BP33: 78.33 | BQ33: 79.67 | BR33: 79.5 | BS33: 79.5 | BT33: =SUM(BO33:BS33) -> 397.67 | BU33: IPS | CF33: 27
A34: JD | B34: 30 | C34: 194 RANTAU | D34: 0071858605 | E34: M. HABBIB AL ZIDAN | F34: L | G34: Desa Durian | H34: RANTAU | I34: Aceh Tamiang | J34: 1205071410070001 | K34: SMP TAHFIDZ MISBAHUR RASYAD AL-AZIZIYAH | L34: IPA | M34: IPS | N34: ettywahyunie@gmail.com | O34: 1116082501210001 | P34: MEDAN | Q34: 39369 | R34: Laki-laki | S34: HERMAWADI | T34: EMMA PRATIWI. AMA.PD | V34: 085275020008 | W34: Desa Durian | X34: RANTAU | Y34: Aceh Tamiang | Z34: 1 | AA34: SMP TAHFIDZ MISBAHUR RASYAD AL-AZIZIYAH | AB34: 2022 | AC34: ZONASI | AD34: MIPA (Matematika Ilmu Pengetahuan Alam) | AE34: IIS ( Ilmu-ilmu Sosial) | AF34: 082249989991 | AG34: 80 | AH34: 86 | AI34: 78 | AJ34: 84 | AK34: 78 | AL34: 81.08 | AM34: 80 | AN34: 86 | AO34: 70 | AP34: 72 | AQ34: 70 | AR34: 79.25 | AS34: 77 | AT34: 79 | AU34: 68 | AV34: 77 | AW34: 66 | AX34: 71.42 | AY34: 80 | AZ34: 88 | BA34: 75 | BB34: 70 | BC34: 73 | BD34: 80.67 | BE34: 80 | BF34: 87 | BG34: 79 | BH34: 88 | BI34: 70 | BJ34: 83.75 | BK34: 1gJ2UktyQC6FNT-XpB6dRo-jP2OGwPYK7 | BL34: https://drive.google.com/file/d/1gJ2UktyQC6FNT-XpB6dRo-jP2OGwPYK7/view?usp=drivesdk | BM34: 0768 BUKTI PENDAFTARAN M HABBIB AL ZIDAN PPDB 2022 | BN34: Document successfully created; Document successfully merged; PDF created; Emails Sent: [To: ettywahyunie@gmail.com]; Run via form trigger as ppdbsman1kjm@gmail.com; Timestamp: Jun 22 2022 3:57 AM | BO34: 81.08 | BP34: 79.25 | BQ34: 71.42 | BR34: 80.67 | BS34: 83.75 | BT34: =SUM(BO34:BS34) -> 396.17 | BU34: IPA | CF34: 28
A35: YA | B35: 31 | C35: 093 RANTAU | D35: 0075435005 | E35: M TAWAQAL FARATZ | F35: L | G35: Desa Durian | H35: RANTAU | I35: Aceh Tamiang | J35: 1116051509070001 | K35: SMP MUHAMMADIYAH | L35: IPA | M35: IPS | N35: wakal.fr81@gmail.com | O35: 1116051502080013 | P35: ACEHTAMIANG | Q35: 39340 | R35: Laki-laki | S35: M.YASIN FAZLI | T35: RATNA | V35: 085359004712 | W35: Desa Durian | X35: RANTAU | Y35: Aceh Tamiang | Z35: 1 | AA35: SMP MUHAMMADIYAH | AB35: 2022 | AC35: ZONASI | AD35: MIPA (Matematika Ilmu Pengetahuan Alam) | AE35: IIS ( Ilmu-ilmu Sosial) | AF35: 082313165594 | AG35: 80 | AH35: 80 | AI35: 75 | AJ35: 85 | AK35: 81 | AL35: 80.2 | AM35: 78 | AN35: 79 | AO35: 66 | AP35: 74 | AQ35: 81 | AR35: 75.6 | AS35: 75 | AT35: 77 | AU35: 67 | AV35: 78 | AW35: 79 | AX35: 75.2 | AY35: 76 | AZ35: 81 | BA35: 78 | BB35: 79 | BC35: 79 | BD35: 78.6 | BE35: 90 | BF35: 89 | BG35: 78 | BH35: 88 | BI35: 84 | BJ35: 85.8 | BK35: 194Zuft2ayHM-NacormmnoCLZ4Wx5RR9F | BL35: https://drive.google.com/file/d/194Zuft2ayHM-NacormmnoCLZ4Wx5RR9F/view?usp=drivesdk | BM35: 0018 BUKTI PENDAFTARAN M TAWAQAL FARATZ PPDB 2022 | BN35: Document successfully created; Document successfully merged; PDF created; Emails Sent: [To: wakal.fr81@gmail.com]; Run via form trigger as ppdbsman1kjm@gmail.com; Timestamp: Jun 18 2022 8:31 PM | BO35: 80.2 | BP35: 75.6 | BQ35: 75.2 | BR35: 78.6 | BS35: 85.8 | BT35: =SUM(BO35:BS35) -> 395.4 | BU35: IPA | CF35: 29
A36: SU | B36: 32 | C36: 155 RANTAU | D36: 0078917491 | E36: M ZAKI ALGHIFARY | F36: L | G36: Desa Durian | H36: RANTAU | I36: Aceh Tamiang | J36: 1116081205070003 | K36: SMP TAHFIDZ MISBAHUR RASYAD AL- AZIZIYAH | L36: IPA | M36: IPS | N36: halizan572@gmail.com | O36: 1116082401053131 | P36: DESA DURIAN | Q36: 39214 | R36: Laki-laki | S36: M. ABIDIN | T36: SALBIAH | V36: 082165134418 | W36: Desa Durian | X36: RANTAU | Y36: Aceh Tamiang | Z36: 5 | AA36: SMP TAHFIDZ MISBAHUR RASYAD AL- AZIZIYAH | AB36: 2022 | AC36: ZONASI | AD36: MIPA (Matematika Ilmu Pengetahuan Alam) | AE36: IIS ( Ilmu-ilmu Sosial) | AF36: 081273132483 | AG36: 80 | AH36: 74 | AI36: 80 | AJ36: 85 | AK36: 78 | AL36: 81.75 | AM36: 82 | AN36: 86 | AO36: 80 | AP36: 80 | AQ36: 72 | AR36: 79.75 | AS36: 80 | AT36: 77 | AU36: 68 | AV36: 77 | AW36: 68 | AX36: 69 | AY36: 80 | AZ36: 83 | BA36: 83 | BB36: 87 | BC36: 77 | BD36: 80.67 | BE36: 80 | BF36: 87 | BG36: 70 | BH36: 87 | BI36: 75 | BJ36: 83.92 | BK36: 14QlROFJqGHb4no_pBoIn-B8EeAvdUhff | BL36: https://drive.google.com/file/d/14QlROFJqGHb4no_pBoIn-B8EeAvdUhff/view?usp=drivesdk | BM36: 0491 BUKTI PENDAFTARAN M ZAKI ALGHIFARY PPDB 2022 | BN36: Document successfully created; Document successfully merged; PDF created; !!Error Sending Emails: Layanan terlalu sering diminta di hari yang sama: email.; Run via form trigger as ppdbsman1kjm@gmail.com; Timestamp: Jun 20 2022 12:30 AM | BO36: 81.75 | BP36: 79.75 | BQ36: 69 | BR36: 80.67 | BS36: 83.92 | BT36: =SUM(BO36:BS36) -> 395.09 | BU36: IPA | CF36: 30
A37: CW | B37: 33 | C37: 161 RANTAU | D37: 0074832989 | E37: MUHAMMAD FADLAN AL HAFIS | F37: L | G37: Desa Durian | H37: RANTAU | I37: Aceh Tamiang | J37: 1116080404070001 | K37: SMPN 1 KUALA SIMPANG | L37: IPS | M37: IPS | N37: safirayulianaksp@gmail.com | O37: 1116080308060031 | P37: DESA DURIAN | Q37: 39176 | R37: Laki-laki | S37: SAFARI | T37: SARIANA | V37: 082304002552 | W37: Desa Durian | X37: RANTAU | Y37: Aceh Tamiang | Z37: 3 | AA37: SMPN 1 KUALA SIMPANG | AB37: 2022 | AC37: ZONASI | AD37: IIS ( Ilmu-ilmu Sosial) | AE37: IIS ( Ilmu-ilmu Sosial) | AF37: 081274070053 | AG37: 71 | AH37: 73 | AI37: 77 | AJ37: 85 | AK37: 83 | AL37: 83.92 | AM37: 80 | AN37: 80 | AO37: 72 | AP37: 80 | AQ37: 85 | AR37: 77.17 | AS37: 76 | AT37: 79 | AU37: 73 | AV37: 80 | AW37: 76 | AX37: 77.25 | AY37: 63 | AZ37: 71 | BA37: 73 | BB37: 73 | BC37: 76 | BD37: 77.75 | BE37: 67 | BF37: 73 | BG37: 74 | BH37: 75 | BI37: 77 | BJ37: 78.17 | BK37: 1oI1_ju_wcFConX7N64J1-QE59gpTwKmB | BL37: https://drive.google.com/file/d/1oI1_ju_wcFConX7N64J1-QE59gpTwKmB/view?usp=drivesdk | BM37: 0738 BUKTI PENDAFTARAN MUHAMMAD FADLAN AL HAFIS PPDB 2022 | BN37: Document successfully created; Document successfully merged; PDF created; Emails Sent: [To: safirayulianaksp@gmail.com]; Run via form trigger as ppdbsman1kjm@gmail.com; Timestamp: Jun 21 2022 12:23 PM | BO37: 83.92 | BP37: 77.17 | BQ37: 77.25 | BR37: 77.75 | BS37: 78.17 | BT37: =SUM(BO37:BS37) -> 394.26 | BU37: IPS | CF37: 31
A38: SU | B38: 34 | C38: 125 RANTAU | D38: 0076499552 | E38: FAHRI ADILA HERIANDA | F38: L | G38: Desa Durian | H38: RANTAU | I38: Aceh Tamiang | J38: 1116080707070001 | K38: SMP NEGERI 3 KEJURUAN MUDA | L38: IPS | M38: IPS | N38: sucisilviaheriani@gmail.com | O38: 1116081610060025 | P38: KEBUN RANTAU | Q38: 39270 | R38: Laki-laki | S38: NGATIRIN | T38: HENDON | V38: 085261222635 | W38: Desa Durian | X38: RANTAU | Y38: Aceh Tamiang | Z38: 2 | AA38: SMP NEGERI 3 KEJURUAN MUDA | AB38: 2022 | AC38: ZONASI | AD38: IIS ( Ilmu-ilmu Sosial) | AE38: IIS ( Ilmu-ilmu Sosial) | AF38: 089514575977 | AG38: 75 | AH38: 80 | AI38: 66 | AJ38: 80 | AK38: 80 | AL38: 77.17 | AM38: 76 | AN38: 79 | AO38: 80 | AP38: 76 | AQ38: 82 | AR38: 79.17 | AS38: 79 | AT38: 78 | AU38: 80 | AV38: 77 | AW38: 80 | AX38: 79 | AY38: 77 | AZ38: 77 | BA38: 77 | BB38: 79 | BC38: 79 | BD38: 78.5 | BE38: 80 | BF38: 80 | BG38: 78 | BH38: 78 | BI38: 81 | BJ38: 79.67 | BK38: 1WHv_X3VztMcEerXlUv61AZ6ZCvhuVFS1 | BL38: https://drive.google.com/file/d/1WHv_X3VztMcEerXlUv61AZ6ZCvhuVFS1/view?usp=drivesdk | BM38: 0363 BUKTI PENDAFTARAN FAHRI ADILA HERIANDA PPDB 2022 | BN38: Document successfully created; Document successfully merged; PDF created; Emails Sent: [To: sucisilviaheriani@gmail.com]; Run via form trigger as ppdbsman1kjm@gmail.com; Timestamp: Jun 19 2022 10:00 PM | BO38: 77.17 | BP38: 79.17 | BQ38: 79 | BR38: 78.5 | BS38: 79.67 | BT38: =SUM(BO38:BS38) -> 393.51 | BU38: IPS | CF38: 32
A39: SU | B39: 35 | C39: 121 RANTAU | D39: 0061239892 | E39: ANISA SYABRINA | F39: P | G39: Desa Durian | H39: RANTAU | I39: Aceh Tamiang | J39: 1116082406060008 | K39: SMPN 1 KUALA SIMPANG | L39: IPA | M39: IPA | N39: anisasyabrina009@gmail.com | O39: 1116085809060001 | P39: DESA DURIAN | Q39: 38976 | R39: Perempuan | S39: ANSARI | T39: RUZIFA HASANAH | U39: Marijan sarpin | V39: 081375071851 | W39: Desa Durian | X39: RANTAU | Y39: Aceh Tamiang | Z39: 2 | AA39: SMPN 1 KUALA SIMPANG | AB39: 2022 | AC39: ZONASI | AD39: MIPA (Matematika Ilmu Pengetahuan Alam) | AE39: MIPA (Matematika Ilmu Pengetahuan Alam) | AF39: 089518541898 | AG39: 71 | AH39: 89 | AI39: 76 | AJ39: 81 | AK39: 87 | AL39: 85.58 | AM39: 65 | AN39: 65 | AO39: 77 | AP39: 81 | AQ39: 84 | AR39: 76.92 | AS39: 68 | AT39: 86 | AU39: 74 | AV39: 74 | AW39: 72 | AX39: 76.42 | AY39: 70 | AZ39: 74 | BA39: 73 | BB39: 74 | BC39: 77 | BD39: 76.68 | BE39: 62 | BF39: 70 | BG39: 74 | BH39: 82 | BI39: 78 | BJ39: 77.47 | BK39: 1S-UmrX1uyexAErMeYuLPEA0tsmm-V7Ps | BL39: https://drive.google.com/file/d/1S-UmrX1uyexAErMeYuLPEA0tsmm-V7Ps/view?usp=drivesdk | BM39: 0040 BUKTI PENDAFTARAN ANISA SYABRINA PPDB 2022 | BN39: Document successfully created; Document successfully merged; PDF created; Emails Sent: [To: anisasyabrina009@gmail.com]; Run via form trigger as ppdbsman1kjm@gmail.com; Timestamp: Jun 18 2022 10:08 PM | BO39: 85.58 | BP39: 76.92 | BQ39: 76.42 | BR39: 76.68 | BS39: 77.47 | BT39: =SUM(BO39:BS39) -> 393.07 | BU39: IPA | CF39: 33
A40: YA | B40: 36 | C40: 193 RANTAU | D40: 0073321517 | E40: SALMAHIRA | F40: P | G40: Desa Durian | H40: RANTAU | I40: Aceh Tamiang | J40: 1116084409070002 | K40: SMPN 3 KEJURUAN MUDA | L40: IPS | M40: IPS | N40: mursiddinoka@gmail.com | O40: 1116082401053678 | P40: KAMPUNG DURIAN | Q40: 39329 | R40: Perempuan | S40: MUHAMMAD SYAHFUDDIN | T40: TARBIYAH | V40: 085263247051 | W40: Desa Durian | X40: RANTAU | Y40: Aceh Tamiang | Z40: 3 | AA40: SMPN 3 KEJURUAN MUDA | AB40: 2022 | AC40: ZONASI | AD40: IIS ( Ilmu-ilmu Sosial) | AE40: IIS ( Ilmu-ilmu Sosial) | AF40: 082160280550 | AG40: 78 | AH40: 80 | AI40: 80 | AJ40: 70 | AK40: 85 | AL40: 78.6 | AM40: 76 | AN40: 81 | AO40: 72 | AP40: 78 | AQ40: 78 | AR40: 77 | AS40: 79 | AT40: 80 | AU40: 77 | AV40: 77 | AW40: 80 | AX40: 78.6 | AY40: 78 | AZ40: 79 | BA40: 79 | BB40: 81 | BC40: 79 | BD40: 79.2 | BE40: 79 | BF40: 82 | BG40: 77 | BH40: 78 | BI40: 79 | BJ40: 79 | BK40: 1K6dLNfAGzWUcxiEUvwfxgGx1xraqUd8- | BL40: https://drive.google.com/file/d/1K6dLNfAGzWUcxiEUvwfxgGx1xraqUd8-/view?usp=drivesdk | BM40: 0671 BUKTI PENDAFTARAN SALMAHIRA PPDB 2022 | BN40: Document successfully created; Document successfully merged; PDF created; Emails Sent: [To: mursiddinoka@gmail.com]; Run via form trigger as ppdbsman1kjm@gmail.com; Timestamp: Jun 20 2022 10:54 PM | BO40: 78.6 | BP40: 77 | BQ40: 78.6 | BR40: 79.2 | BS40: 79 | BT40: =SUM(BO40:BS40) -> 392.4 | BU40: IPS | CF40: 34
A41: SU | B41: 38 | C41: 116 RANTAU | D41: 0073313559 | E41: MUHAMMAD RAIHAN | F41: L | G41: Desa Durian | H41: RANTAU | I41: Aceh Tamiang | J41: 1116081709070004 | K41: MISBAHUR RASYAD AL AZIZIYAH | L41: IPA | M41: IPA | N41: freeburiks2@gmail.com | O41: 1116082311170001 | P41: JAMUR LABU | Q41: 39342 | R41: Laki-laki | S41: ABU BAKAR | T41: SULASTRI | V41: 082277271030 | W41: Desa Durian | X41: RANTAU | Y41: Aceh Tamiang | Z41: 1 | AA41: MISBAHUR RASYAD AL AZIZIYAH | AB41: 2022 | AC41: ZONASI | AD41: MIPA (Matematika Ilmu Pengetahuan Alam) | AE41: MIPA (Matematika Ilmu Pengetahuan Alam) | AF41: 081279712612 | AG41: 85 | AH41: 74 | AI41: 73 | AJ41: 87 | AK41: 80 | AL41: 79.33 | AM41: 80 | AN41: 72 | AO41: 78 | AP41: 80 | AQ41: 70 | AR41: 76.75 | AS41: 81 | AT41: 77 | AU41: 70 | AV41: 78 | AW41: 70 | AX41: 75.25 | AY41: 80 | AZ41: 86 | BA41: 76 | BB41: 83 | BC41: 78 | BD41: 80.33 | BE41: 80 | BF41: 89 | BG41: 75 | BH41: 80 | BI41: 66 | BJ41: 79.08 | BK41: 1YsC93QaeD6FNt-BtS-9DmyGxsNsjCLfV | BL41: https://drive.google.com/file/d/1YsC93QaeD6FNt-BtS-9DmyGxsNsjCLfV/view?usp=drivesdk | BM41: 0527 BUKTI PENDAFTARAN MUHAMMADRAIHAN PPDB 2022 | BN41: Document successfully created; Document successfully merged; PDF created; !!Error Sending Emails: Layanan terlalu sering diminta di hari yang sama: email.; Run via form trigger as ppdbsman1kjm@gmail.com; Timestamp: Jun 20 2022 1:35 AM | BO41: 79.33 | BP41: 76.75 | BQ41: 75.25 | BR41: 80.33 | BS41: 79.08 | BT41: =SUM(BO41:BS41) -> 390.74 | BU41: IPA | CF41: 35
A42: CW | B42: 39 | C42: 165 RANTAU | D42: 0067732174 | E42: RAMADHAN DINI MELANI | F42: P | G42: Desa Durian | H42: RANTAU | I42: Aceh Tamiang | J42: 1116086110060001 | K42: SMP NEGERI 3 KEJURUAN MUDA | L42: IPS | M42: IPS | N42: melanidini8@gmail.com | O42: 1116080305070004 | P42: KAMPUNG DURIAN | Q42: 39011 | R42: Perempuan | S42: Muhammad Sahri | T42: Ernawati | U42: Muhammad sahri | V42: 081273516846 | W42: Desa Durian | X42: RANTAU | Y42: Aceh Tamiang | Z42: 3 | AA42: SMP NEGERI 3 KEJURUAN MUDA | AB42: 2022 | AC42: ZONASI | AD42: IIS ( Ilmu-ilmu Sosial) | AE42: IIS ( Ilmu-ilmu Sosial) | AF42: 081273516846 | AG42: 82 | AH42: 82 | AI42: 77 | AJ42: 80 | AK42: 85 | AL42: 81.2 | AM42: 80 | AN42: 80 | AO42: 66 | AP42: 68 | AQ42: 78 | AR42: 74.4 | AS42: 80 | AT42: 80 | AU42: 75 | AV42: 75 | AW42: 75 | AX42: 77 | AY42: 78 | AZ42: 79 | BA42: 77 | BB42: 79 | BC42: 77 | BD42: 78 | BE42: 80 | BF42: 80 | BG42: 78 | BH42: 78 | BI42: 77 | BJ42: 78.6 | BK42: 1b6v-lAfWzdwXS-MJ13gXMuxaVTeQceVi | BL42: https://drive.google.com/file/d/1b6v-lAfWzdwXS-MJ13gXMuxaVTeQceVi/view?usp=drivesdk | BM42: 0538 BUKTI PENDAFTARAN RAMADHAN DINI MELANI PPDB 2022 | BN42: Document successfully created; Document successfully merged; PDF created; !!Error Sending Emails: Layanan terlalu sering diminta di hari yang sama: email.; Run via form trigger as ppdbsman1kjm@gmail.com; Timestamp: Jun 20 2022 2:06 AM | BO42: 81.2 | BP42: 74.4 | BQ42: 77 | BR42: 78 | BS42: 78.6 | BT42: =SUM(BO42:BS42) -> 389.2 | BU42: IPS | BV42: 41MDY8 | BW42: 111403000500020 | CF42: 36
A43: CW | B43: 40 | C43: 142 RANTAU | D43: 0075058095 | E43: VIKA AULIA SYAHPUTRI | F43: P | G43: Desa Durian | H43: RANTAU | I43: Aceh Tamiang | J43: 1116085703070001 | K43: SMP NEGERI 3 KEJURUAN MUDA | L43: IPS | M43: IPS | N43: vikaa8149@gmail.com | O43: 1116081902090022 | P43: KP DURIAN | Q43: 39158 | R43: Perempuan | S43: CHAIRUL SYAH PUTRA | T43: FITRI YANI | V43: 082268807306 | W43: Desa Durian | X43: RANTAU | Y43: Aceh Tamiang | Z43: 1 | AA43: SMP NEGERI 3 KEJURUAN MUDA | AB43: 2022 | AC43: ZONASI | AD43: IIS ( Ilmu-ilmu Sosial) | AE43: IIS ( Ilmu-ilmu Sosial) | AF43: 081375248044 | AG43: 78.00 | AH43: 82.00 | AI43: 73.00 | AJ43: 69.00 | AK43: 85.00 | AL43: 79 | AM43: 77.00 | AN43: 78.00 | AO43: 67.00 | AP43: 73.00 | AQ43: 75.00 | AR43: 74.5 | AS43: 76.00 | AT43: 79.00 | AU43: 78.00 | AV43: 79.00 | AW43: 78.00 | AX43: 78.33 | AY43: 78.00 | AZ43: 78.00 | BA43: 77.00 | BB43: 79.00 | BC43: 77.00 | BD43: 77.67 | BE43: 80.00 | BF43: 81.00 | BG43: 77.00 | BH43: 79.00 | BI43: 77.00 | BJ43: 79 | BK43: 18uvw2MKZqMPfzZPFWagUfvfeO3pW3_hk | BL43: https://drive.google.com/file/d/18uvw2MKZqMPfzZPFWagUfvfeO3pW3_hk/view?usp=drivesdk | BM43: 0657 BUKTI PENDAFTARAN VIKA AULIA SYAHPUTRI PPDB 2022 | BN43: Document successfully created; Document successfully merged; PDF created; Emails Sent: [To: vikaa8149@gmail.com]; Run via form trigger as ppdbsman1kjm@gmail.com; Timestamp: Jun 20 2022 9:54 PM | BO43: 79 | BP43: 74.5 | BQ43: 78.33 | BR43: 77.67 | BS43: 79 | BT43: =SUM(BO43:BS43) -> 388.5 | BU43: IPS | BW43: 6034949101952559 | CF43: 37
A44: YA | B44: 41 | C44: 138 RANTAU | D44: 0076543662 | E44: KHAIRUNNISAH AULIA | F44: P | G44: Desa Durian | H44: RANTAU | I44: Aceh Tamiang | J44: 1116074409070003 | K44: SMP N 3 KEJURUAN MUDA | L44: IPS | M44: IPS | N44: ajanisa368@gmail.com | O44: 1116083105070005 | P44: ALUR TANI DUA | Q44: 39329 | R44: Perempuan | S44: Abdurrahman | T44: Suminten | U44: Abdurrahman | V44: 082185868930 | W44: Desa Durian | X44: RANTAU | Y44: Aceh Tamiang | Z44: 5 | AA44: SMP N 3 KEJURUAN MUDA | AB44: 2022 | AC44: ZONASI | AD44: IIS ( Ilmu-ilmu Sosial) | AE44: IIS ( Ilmu-ilmu Sosial) | AF44: 0895385258914 | AG44: 75 | AH44: 80 | AI44: 64 | AJ44: 78 | AK44: 80 | AL44: 79.33 | AM44: 75 | AN44: 78 | AO44: 67 | AP44: 74 | AQ44: 77 | AR44: 74.8 | AS44: 78 | AT44: 79 | AU44: 77 | AV44: 78 | AW44: 75 | AX44: 77 | AY44: 78 | AZ44: 78 | BA44: 77 | BB44: 79 | BC44: 77 | BD44: 77.67 | BE44: 78 | BF44: 81 | BG44: 81 | BH44: 77 | BI44: 77 | BJ44: 78.17 | BK44: 1UOoH9EILOuvy0YS1IKJjQ2UHk5MTONPu | BL44: https://drive.google.com/file/d/1UOoH9EILOuvy0YS1IKJjQ2UHk5MTONPu/view?usp=drivesdk | BM44: 0674 BUKTI PENDAFTARAN KHAIRUNNISAH AULIA PPDB 2022 | BN44: Document successfully created; Document successfully merged; PDF created; Emails Sent: [To: ajanisa368@gmail.com]; Run via form trigger as ppdbsman1kjm@gmail.com; Timestamp: Jun 20 2022 11:01 PM | BO44: 79.33 | BP44: 74.8 | BQ44: 77 | BR44: 77.67 | BS44: 78.17 | BT44: =SUM(BO44:BS44) -> 386.97 | BU44: IPS | CF44: 38
A45: YA | B45: 42 | C45: 074 RANTAU | D45: 0076930256 | E45: SALMA RATIL FUADA | F45: P | G45: Desa Durian | H45: RANTAU | I45: Aceh Tamiang | J45: 1509026008070002 | K45: SMP NEGERI 1 KUALASIMPANG | L45: IPA | M45: IPS | N45: salmaratil75@gmail.com | O45: 1116082709160003 | P45: LUBUK ALUNG | Q45: 44793 | R45: Perempuan | S45: HENDRA SAFNIL | T45: RIKA GUSMAWATI | V45: 085355281450 | W45: Desa Durian | X45: RANTAU | Y45: Aceh Tamiang | Z45: 1 | AA45: SMP NEGERI 1 KUALASIMPANG | AB45: 2022 | AC45: ZONASI | AD45: MIPA (Matematika Ilmu Pengetahuan Alam) | AE45: IIS ( Ilmu-ilmu Sosial) | AF45: 085358670300 | AG45: 77 | AH45: 79 | AI45: 77 | AJ45: 85 | AK45: 90 | AL45: 81.6 | AM45: 74 | AN45: 80 | AO45: 72 | AP45: 85 | AQ45: 85 | AR45: 79.2 | AS45: 69 | AT45: 71 | AU45: 78 | AV45: 78 | AW45: 76 | AX45: 74.2 | AY45: 68 | AZ45: 74 | BA45: 73 | BB45: 73 | BC45: 78 | BD45: 73.2 | BE45: 72 | BF45: 76 | BG45: 74 | BH45: 75 | BI45: 79 | BJ45: 75.2 | BK45: 16x5inwFWveG5TuUsgvkbcDcM6d7d0PdY | BL45: https://drive.google.com/file/d/16x5inwFWveG5TuUsgvkbcDcM6d7d0PdY/view?usp=drivesdk | BM45: 0085 BUKTI PENDAFTARAN SALMA RATIL FUADA PPDB 2022 | BN45: Document successfully created; Document successfully merged; PDF created; Emails Sent: [To: salmaratil75@gmail.com]; Run via form trigger as ppdbsman1kjm@gmail.com; Timestamp: Jun 18 2022 11:42 PM | BO45: 81.6 | BP45: 79.2 | BQ45: 74.2 | BR45: 73.2 | BS45: 75.2 | BT45: =SUM(BO45:BS45) -> 383.4 | BU45: IPA | CF45: 39
A46: YA | B46: 43 | C46: 151 RANTAU | D46: 0075602432 | E46: MUHAMMAD RISKI | F46: L | G46: Desa Durian | H46: RANTAU | I46: Aceh Tamiang | J46: 1116083006070001 | K46: SMP NEGERI 3 KEJURUAN MUDA | L46: IPS | M46: IPS | N46: muhammadriski0630@gmail.com | O46: 1116082401053653 | P46: RANTAU | Q46: 39263 | R46: Laki-laki | S46: MAT ARIF | T46: SUMARNI | V46: 082363146622 | W46: Desa Durian | X46: RANTAU | Y46: Aceh Tamiang | Z46: 4 | AA46: SMP NEGERI 3 KEJURUAN MUDA | AB46: 2022 | AC46: ZONASI | AD46: IIS ( Ilmu-ilmu Sosial) | AE46: IIS ( Ilmu-ilmu Sosial) | AF46: 089526942873 | AG46: 74 | AH46: 80 | AI46: 73 | AJ46: 67 | AK46: 80 | AL46: 76 | AM46: 75 | AN46: 79 | AO46: 66 | AP46: 75 | AQ46: 77 | AR46: 74.83 | AS46: 79 | AT46: 79 | AU46: 77 | AV46: 77 | AW46: 75 | AX46: 77.5 | AY46: 78 | AZ46: 78 | BA46: 77 | BB46: 79 | BC46: 77 | BD46: 77.83 | BE46: 67 | BF46: 81 | BG46: 77 | BH46: 76 | BI46: 77 | BJ46: 76 | BK46: 1HDz4wgh24eEOqWRbLZmtrT6Rh-y9jSiI | BL46: https://drive.google.com/file/d/1HDz4wgh24eEOqWRbLZmtrT6Rh-y9jSiI/view?usp=drivesdk | BM46: 0397 BUKTI PENDAFTARAN MUHAMMAD RISKI PPDB 2022 | BN46: Document successfully created; Document successfully merged; PDF created; Emails Sent: [To: muhammadriski0630@gmail.com]; Run via form trigger as ppdbsman1kjm@gmail.com; Timestamp: Jun 19 2022 10:39 PM | BO46: 76 | BP46: 74.83 | BQ46: 77.5 | BR46: 77.83 | BS46: 76 | BT46: =SUM(BO46:BS46) -> 382.16 | BU46: IPS | CF46: 40
A47: SU | B47: 44 | C47: 028 RANTAU | D47: 0073306262 | E47: LAISYA PUTRI RAMADHANA | F47: P | G47: Desa Durian | H47: RANTAU | I47: Aceh Tamiang | J47: 1116096709070002 | K47: SMP N 1 KUALA SIMPANG | L47: IPS | M47: IPS | N47: muftiazimi243@gmail.com | O47: 1116081909060029 | P47: KAMPUNG DURIAN | Q47: 39352 | R47: Perempuan | S47: Syaifannur | T47: Sabariah | U47: Mufti runsyah azimi | V47: 085275574970 | W47: Desa Durian | X47: RANTAU | Y47: Aceh Tamiang | Z47: 2 | AA47: SMP N 1 KUALA SIMPANG | AB47: 2022 | AC47: ZONASI | AD47: IIS ( Ilmu-ilmu Sosial) | AE47: IIS ( Ilmu-ilmu Sosial) | AF47: 0895393387554 | AG47: 64 | AH47: 76 | AI47: 77 | AJ47: 82 | AK47: 82 | AL47: 76 | AM47: 80 | AN47: 73 | AO47: 72 | AP47: 73 | AQ47: 79 | AR47: 75 | AS47: 76 | AT47: 75 | AU47: 75 | AV47: 83 | AW47: 78 | AX47: 76 | AY47: 63 | AZ47: 77 | BA47: 75 | BB47: 80 | BC47: 81 | BD47: 76 | BE47: 64 | BF47: 70 | BG47: 77 | BH47: 75 | BI47: 79 | BJ47: 73 | BK47: 1e-GEoL8UKhQjgMwe54183tdDbGdrKl7t | BL47: https://drive.google.com/file/d/1e-GEoL8UKhQjgMwe54183tdDbGdrKl7t/view?usp=drivesdk | BM47: 0262 BUKTI PENDAFTARAN LAISYA PUTRI RAMADHANA PPDB 2022 | BN47: Document successfully created; Document successfully merged; PDF created; !!Error Sending Emails: Layanan terlalu sering diminta di hari yang sama: email.; Run via form trigger as ppdbsman1kjm@gmail.com; Timestamp: Jun 19 2022 8:25 AM | BO47: 76 | BP47: 75 | BQ47: 76 | BR47: 76 | BS47: 73 | BT47: =SUM(BO47:BS47) -> 376 | BU47: IPS | BV47: PKRRNE | CF47: 41
A48: JD | B48: 45 | C48: 172 RANTAU | D48: 0071378290 | E48: RIZKI RAMADHAN | F48: L | G48: Desa Durian | H48: RANTAU | I48: Aceh Tamiang | J48: 1116081209070001 | K48: SMPN 3 KEJURUAN MUDA | L48: IPS | M48: IPS | N48: maulida0920@gmail.com | O48: 1116083105070004 | P48: KAMPUNG DURIAN | Q48: 39337 | R48: Laki-laki | S48: Rusliadi | T48: Asnah | V48: 085337058904 | W48: Desa Durian | X48: RANTAU | Y48: Aceh Tamiang | Z48: 2 | AA48: SMPN 3 KEJURUAN MUDA | AB48: 2022 | AC48: ZONASI | AD48: IIS ( Ilmu-ilmu Sosial) | AE48: IIS ( Ilmu-ilmu Sosial) | AF48: 0895401232712 | AG48: 72.00 | AH48: 80.00 | AI48: 77.00 | AJ48: 80.00 | AK48: 81.00 | AL48: 78.83 | AM48: 75.00 | AN48: 78.00 | AO48: 66.00 | AP48: 67.00 | AQ48: 75.00 | AR48: 73 | AS48: 75.00 | AT48: 77.00 | AU48: 77.00 | AV48: 77.00 | AW48: 65.00 | AX48: 73.33 | AY48: 71.00 | AZ48: 78.00 | BA48: 75.00 | BB48: 77.00 | BC48: 70.00 | BD48: 74.67 | BE48: 74.00 | BF48: 81.00 | BG48: 78.00 | BH48: 78.00 | BI48: 70.00 | BJ48: 75.67 | BK48: 1ZUp3MOJhpdeOPcm7NiK3LSTQPfqgPUqh | BL48: https://drive.google.com/file/d/1ZUp3MOJhpdeOPcm7NiK3LSTQPfqgPUqh/view?usp=drivesdk | BM48: 0117 BUKTI PENDAFTARAN RIZKI RAMADHAN PPDB 2022 | BN48: Document successfully created; Document successfully merged; PDF created; !!Error Sending Emails: Layanan terlalu sering diminta di hari yang sama: email.; Run via form trigger as ppdbsman1kjm@gmail.com; Timestamp: Jun 19 2022 12:49 AM | BO48: 78.83 | BP48: 73 | BQ48: 73.33 | BR48: 74.67 | BS48: 75.67 | BT48: =SUM(BO48:BS48) -> 375.5 | BU48: IPS | BV48: 444E7L | BW48: 1116081209070001 | CF48: 42
A49: YA | B49: 46 | C49: 178 RANTAU | D49: 0076320942 | E49: M. IRWANSYAH RANGKUTI | F49: L | G49: Desa Durian | H49: RANTAU | I49: Aceh Tamiang | J49: 1116080102070001 | K49: SMP NEGERI 3 KEJURUAN MUDA | L49: IPS | M49: IPS | N49: yullimahardika31@gmail.com | O49: 1116081909060023 | P49: KAMPUNG DURIAN | Q49: 39114 | R49: Laki-laki | S49: TUKIMIN RANGKUTI | T49: SUPATMI | U49: TUKIMIN RANGKUTI | V49: 082166491000 | W49: Desa Durian | X49: RANTAU | Y49: Aceh Tamiang | Z49: 2 | AA49: SMP NEGERI 3 KEJURUAN MUDA | AB49: 2022 | AC49: ZONASI | AD49: IIS ( Ilmu-ilmu Sosial) | AE49: IIS ( Ilmu-ilmu Sosial) | AF49: 082166491000 | AG49: 77.33 | AH49: 77.33 | AI49: 77.33 | AJ49: 77.33 | AK49: 77.33 | AL49: 77.33 | AM49: 74.17 | AN49: 74.17 | AO49: 74.17 | AP49: 74.17 | AQ49: 74.17 | AR49: 74.17 | AS49: 74.33 | AT49: 74.33 | AU49: 74.33 | AV49: 74.33 | AW49: 74.33 | AX49: 74.33 | AY49: 75.17 | AZ49: 75.17 | BA49: 75.17 | BB49: 75.17 | BC49: 75.17 | BD49: 75.17 | BE49: 74 | BF49: 74 | BG49: 74 | BH49: 74 | BI49: 74 | BJ49: 74 | BK49: 11i2d7BPCduriKZNtm6fVEbXtnSoqNsxt | BL49: https://drive.google.com/file/d/11i2d7BPCduriKZNtm6fVEbXtnSoqNsxt/view?usp=drivesdk | BM49: 0780 BUKTI PENDAFTARAN M IRWANSYAH RANGKUTI PPDB 2022 | BN49: Document successfully created; Document successfully merged; PDF created; Emails Sent: [To: yullimahardika31@gmail.com]; Run via form trigger as ppdbsman1kjm@gmail.com; Timestamp: Jun 22 2022 9:40 PM | BO49: 77.33 | BP49: 74.17 | BQ49: 74.33 | BR49: 75.17 | BS49: 74 | BT49: =SUM(BO49:BS49) -> 375 | BU49: IPS | BV49: PWPDM4 | BW49: 111403000500036 | CF49: 43
A50: CW | B50: 47 | C50: 168 RANTAU | D50: 0076409972 | E50: REFIL AULIANDA | F50: L | G50: Desa Durian | H50: RANTAU | I50: Aceh Tamiang | J50: 1116080607070001 | K50: SMPN 3 KEJURUAN MUDA | L50: IPS | M50: IPS | N50: mursiddinoka@gmail.com | O50: 1116081812080001 | P50: DESA DURIAN | Q50: 39269 | R50: Laki-laki | S50: ABDUL RAHMAN | T50: LILIS SRI WAHYUNI | V50: 0895385628020 | W50: Desa Durian | X50: RANTAU | Y50: Aceh Tamiang | Z50: 1 | AA50: SMPN 3 KEJURUAN MUDA | AB50: 2022 | AC50: ZONASI | AD50: IIS ( Ilmu-ilmu Sosial) | AE50: IIS ( Ilmu-ilmu Sosial) | AF50: 081366395943 | AG50: 72 | AH50: 79 | AI50: 77 | AJ50: 80 | AK50: 80 | AL50: 77.6 | AM50: 75 | AN50: 78 | AO50: 77 | AP50: 75 | AQ50: 70 | AR50: 75 | AS50: 75 | AT50: 77 | AU50: 77 | AV50: 71 | AW50: 65 | AX50: 73 | AY50: 70 | AZ50: 77 | BA50: 77 | BB50: 74 | BC50: 68 | BD50: 73.2 | BE50: 66 | BF50: 81 | BG50: 78 | BH50: 78 | BI50: 68 | BJ50: 74.2 | BK50: 1ilGtho8ginGyX0Z2ehptEQiXnnrML2Or | BL50: https://drive.google.com/file/d/1ilGtho8ginGyX0Z2ehptEQiXnnrML2Or/view?usp=drivesdk | BM50: 0661 BUKTI PENDAFTARAN REFIL AULIANDA PPDB 2022 | BN50: Document successfully created; Document successfully merged; PDF created; Emails Sent: [To: mursiddinoka@gmail.com]; Run via form trigger as ppdbsman1kjm@gmail.com; Timestamp: Jun 20 2022 10:14 PM | BO50: 77.6 | BP50: 75 | BQ50: 73 | BR50: 73.2 | BS50: 74.2 | BT50: =SUM(BO50:BS50) -> 373 | BU50: IPS | CF50: 44
A51: YA | B51: 48 | C51: 202 RANTAU | D51: 0079797026 | E51: FIKRI RAMADHANIS | F51: L | G51: Desa Durian | H51: RANTAU | I51: Aceh Tamiang | J51: 1116081010070001 | K51: SMPN 3 KEJURUAN MUDA | L51: IPS | M51: IPS | N51: ripik071@gmail.com | O51: 1116080308060036 | P51: KAMPUNG DURIAN | Q51: 39365 | R51: Laki-laki | S51: ISKANDAR | T51: JUMINAH | U51: JUMINAH | V51: 0895360166630 | W51: Desa Durian | X51: RANTAU | Y51: Aceh Tamiang | Z51: 2 | AA51: SMPN 3 KEJURUAN MUDA | AB51: 2022 | AC51: ZONASI | AD51: IIS ( Ilmu-ilmu Sosial) | AE51: IIS ( Ilmu-ilmu Sosial) | AF51: 089519837240 | AG51: 77.00 | AH51: 78.00 | AI51: 73.00 | AJ51: 78.00 | AK51: 79.00 | AL51: 77.67 | AM51: 74.00 | AN51: 74.00 | AO51: 66.00 | AP51: 69.00 | AQ51: 70.00 | AR51: 72.17 | AS51: 74.00 | AT51: 77.00 | AU51: 77.0 | AV51: 67.00 | AW51: 68.00 | AX51: 71.67 | AY51: 76.00 | AZ51: 79.00 | BA51: 77.00 | BB51: 77.00 | BC51: 68.00 | BD51: 76 | BE51: 68.00 | BF51: 76.00 | BG51: 76.00 | BH51: 77.00 | BI51: 70.00 | BJ51: 74.17 | BK51: 1KNNfCgF-kXtjOb0HkRnUKg-jtvqkDmRc | BL51: https://drive.google.com/file/d/1KNNfCgF-kXtjOb0HkRnUKg-jtvqkDmRc/view?usp=drivesdk | BM51: 0754 BUKTI PENDAFTARAN FIKRI RAMADHANIS PPDB 2022 | BN51: Document successfully created; Document successfully merged; PDF created; Emails Sent: [To: ripik071@gmail.com]; Run via form trigger as ppdbsman1kjm@gmail.com; Timestamp: Jun 21 2022 11:21 PM | BO51: 77.67 | BP51: 72.17 | BQ51: 71.67 | BR51: 76 | BS51: 74.17 | BT51: =SUM(BO51:BS51) -> 371.68 | BU51: IPS | BV51: 3TPHOT | CF51: 45
A52: YA | B52: 50 | C52: 113 RANTAU | D52: 0076077077 | E52: AISYAH | F52: P | G52: KAMPONG DURIAN | H52: RANTAU | I52: Aceh Tamiang | J52: 1116086409070001 | K52: SMP NEGERI 3 KEJURUAN MUDA | L52: IPS | M52: IPS | N52: ksimpangacehtamiang@gmail.com | O52: 1116080512070016 | P52: ACEH TAMIANG | Q52: 39349 | R52: Perempuan | S52: RIDWAN | T52: MUDI HARIYATI | V52: 082335883622 | W52: KAMPONG DURIAN | X52: RANTAU | Y52: Aceh Tamiang | Z52: 1 | AA52: SMP NEGERI 3 KEJURUAN MUDA | AB52: 2022 | AC52: ZONASI | AD52: IIS ( Ilmu-ilmu Sosial) | AE52: IIS ( Ilmu-ilmu Sosial) | AF52: 082335883622 | AG52: 78 | AH52: 79 | AI52: 80 | AJ52: 80 | AK52: 88 | AL52: 81 | AM52: 85 | AN52: 89 | AO52: 82 | AP52: 81 | AQ52: 83 | AR52: 84 | AS52: 79 | AT52: 80 | AU52: 80 | AV52: 78 | AW52: 83 | AX52: 80 | AY52: 81 | AZ52: 82 | BA52: 80 | BB52: 82 | BC52: 83 | BD52: 81.6 | BE52: 78 | BF52: 78 | BG52: 77 | BH52: 79 | BI52: 83 | BJ52: 79 | BK52: 1Wf3f-A5WB8kpL3Uf5gCTFZ9HY2-RByfn | BL52: https://drive.google.com/file/d/1Wf3f-A5WB8kpL3Uf5gCTFZ9HY2-RByfn/view?usp=drivesdk | BM52: 0442 BUKTI PENDAFTARAN AISYAH PPDB 2022 | BN52: Document successfully created; Document successfully merged; PDF created; !!Error Sending Emails: Layanan terlalu sering diminta di hari yang sama: email.; Run via form trigger as ppdbsman1kjm@gmail.com; Timestamp: Jun 19 2022 11:26 PM | BO52: 81 | BP52: 84 | BQ52: 80 | BR52: 81.6 | BS52: 79 | BT52: =SUM(BO52:BS52) -> 405.6 | BU52: IPS | BV52: 4KTY3V | CF52: 46
A53: CW | B53: 51 | C53: 170 RANTAU | D53: 0072754862 | E53: NAUFAL RIZKI ANANDA | F53: L | G53: KAMPONG DURIAN | H53: RANTAU | I53: Aceh Tamiang | J53: 1106072511070004 | K53: SMP N 1 KARANG BARU | L53: IPA | M53: IPS | N53: ranaufal64@gmail.com | O53: 1116081809170005 | P53: KUALA SIMPANG | Q53: 39411 | R53: Laki-laki | S53: MISWANTO | T53: ISNA PURNAMA WATI | V53: 085260786200 | W53: KAMPONG DURIAN | X53: RANTAU | Y53: Aceh Tamiang | Z53: 1 | AA53: SMP N 1 KARANG BARU | AB53: 2022 | AC53: ZONASI | AD53: MIPA (Matematika Ilmu Pengetahuan Alam) | AE53: IIS ( Ilmu-ilmu Sosial) | AF53: 082214189381 | AG53: 78 | AH53: 85 | AI53: 75 | AJ53: 81 | AK53: 83 | AL53: 80.4 | AM53: 75 | AN53: 84 | AO53: 79 | AP53: 79 | AQ53: 88 | AR53: 81 | AS53: 85 | AT53: 84 | AU53: 90 | AV53: 78 | AW53: 78 | AX53: 83 | AY53: 82 | AZ53: 60 | BA53: 75 | BB53: 81 | BC53: 88 | BD53: 77.2 | BE53: 77 | BF53: 77 | BG53: 75 | BH53: 80 | BI53: 82 | BJ53: 78.2 | BK53: 1TwspNPrtsTaK06lnxmGe-XypeR5KUQY_ | BL53: https://drive.google.com/file/d/1TwspNPrtsTaK06lnxmGe-XypeR5KUQY_/view?usp=drivesdk | BM53: 0398 BUKTI PENDAFTARAN NAUFAL RIZKI ANANDA PPDB 2022 | BN53: Document successfully created; Document successfully merged; PDF created; Emails Sent: [To: ranaufal64@gmail.com]; Run via form trigger as ppdbsman1kjm@gmail.com; Timestamp: Jun 19 2022 10:40 PM | BO53: 80.4 | BP53: 81 | BQ53: 83 | BR53: 77.2 | BS53: 78.2 | BT53: =SUM(BO53:BS53) -> 399.8 | BU53: IPA | CF53: 47
A54: YA | B54: 52 | C54: 146 RANTAU | D54: 0078268672 | E54: RUSWANDI | F54: L | G54: KAMPONG DURIAN | H54: RANTAU | I54: Aceh Tamiang | J54: 1116081406070001 | K54: SMP SWASTA ISLAM | L54: IPS | M54: IPS | N54: trinurianti040@gmail.com | O54: 1116081909060081 | P54: KAMPUNG DURIAN | Q54: 39247 | R54: Laki-laki | S54: MUHAJI | T54: NURHASANAH | V54: 082283768840 | W54: KAMPONG DURIAN | X54: RANTAU | Y54: Aceh Tamiang | Z54: 5 | AA54: SMP SWASTA ISLAM | AB54: 2022 | AC54: AFIRMASI | AD54: IIS ( Ilmu-ilmu Sosial) | AE54: IIS ( Ilmu-ilmu Sosial) | AF54: 081377174566 | AG54: 76 | AH54: 84 | AI54: 78 | AJ54: 86 | AK54: 90 | AL54: 85.42 | AM54: 85 | AN54: 92 | AO54: 80 | AP54: 81 | AQ54: 88 | AR54: 85.18 | AS54: 85 | AT54: 83 | AU54: 72 | AV54: 79 | AW54: 73 | AX54: 75.93 | AY54: 78 | AZ54: 84 | BA54: 75 | BB54: 90 | BC54: 78 | BD54: 85.18 | BE54: 73 | BF54: 88 | BG54: 80 | BH54: 85 | BI54: 90 | BJ54: 83.83 | BK54: 1NL2mUjtshEoVNyl-6AL-ouiFpeWH0MI5 | BL54: https://drive.google.com/file/d/1NL2mUjtshEoVNyl-6AL-ouiFpeWH0MI5/view?usp=drivesdk | BM54: 0598 BUKTI PENDAFTARAN RUSWANDI PPDB 2022 | BN54: Document successfully created; Document successfully merged; PDF created; !!Error Sending Emails: Layanan terlalu sering diminta di hari yang sama: email.; Run via form trigger as ppdbsman1kjm@gmail.com; Timestamp: Jun 20 2022 8:08 AM | BO54: 85.42 | BP54: 85.18 | BQ54: 75.93 | BR54: 85.18 | BS54: 83.83 | BT54: =SUM(BO54:BS54) -> 415.54 | BU54: IPS | BV54: 4DCNLE | BW54: 111403000500039 | CF54: 48
A55: JD | B55: 53 | C55: 112 RANTAU | D55: 0064423299 | E55: DINI JULIDA PUTRI | F55: P | G55: Desa Durian | H55: RANTAU | I55: Aceh Tamiang | J55: 1116087107060001 | K55: SMP 3 KEJUJURAN MUDA | L55: IPA | M55: IPA | N55: dinijulidaputri@gmail.com | O55: 1116082401052802 | P55: KP DURIAN | Q55: 38929 | R55: Perempuan | S55: Zainal Abidin | T55: Nursaidah | U55: Zainal Abidin | V55: 081275468674 | W55: Desa Durian | X55: RANTAU | Y55: Aceh Tamiang | Z55: 4 | AA55: SMP 3 KEJUJURAN MUDA | AB55: 2022 | AC55: AFIRMASI | AD55: MIPA (Matematika Ilmu Pengetahuan Alam) | AE55: MIPA (Matematika Ilmu Pengetahuan Alam) | AF55: 081275468674 | AG55: 78.00 | AH55: 79.00 | AI55: 77.00 | AJ55: 80.00 | AK55: 80.00 | AL55: 79.33 | AM55: 75.00 | AN55: 78.00 | AO55: 66.00 | AP55: 76.00 | AQ55: 78.00 | AR55: 75.33 | AS55: 79.00 | AT55: 80.00 | AU55: 77.00 | AV55: 73.00 | AW55: 80.00 | AX55: 78.17 | AY55: 80.00 | AZ55: 81.00 | BA55: 77.00 | BB55: 79.00 | BC55: 83.00 | BD55: 80.33 | BE55: 79.00 | BF55: 81.00 | BG55: 76.00 | BH55: 78.00 | BI55: 81.00 | BJ55: 79.33 | BK55: 1XBjNuGoji39O0bFmtmi7BZb7UqXmx55n | BL55: https://drive.google.com/file/d/1XBjNuGoji39O0bFmtmi7BZb7UqXmx55n/view?usp=drivesdk | BM55: 0596 BUKTI PENDAFTARAN DINI JULIDA PUTRI PPDB 2022 | BN55: Document successfully created; Document successfully merged; PDF created; !!Error Sending Emails: Layanan terlalu sering diminta di hari yang sama: email.; Run via form trigger as ppdbsman1kjm@gmail.com; Timestamp: Jun 20 2022 8:00 AM | BO55: 79.33 | BP55: 75.33 | BQ55: 78.17 | BR55: 80.33 | BS55: 79.33 | BT55: =SUM(BO55:BS55) -> 392.49 | BU55: IPA | BV55: PAL7KP | BW55: 1116087107060001 | CF55: 49
A56: YA | B56: 54 | C56: 120 RANTAU | D56: 0078867559 | E56: INDA NURFADILAH | F56: P | G56: Desa Durian | H56: RANTAU | I56: Aceh Tamiang | J56: 1116086601070002 | K56: SMPN 1 KUALA SIMPANG | L56: IPS | M56: IPS | N56: aminahaminahksp@gmail.com | O56: 1116082303070008 | P56: KARANG BARU | Q56: 39108 | R56: Perempuan | S56: MUHAMMAD BASRI | T56: DEWI ROSITA | V56: 089630210772 | W56: Desa Durian | X56: RANTAU | Y56: Aceh Tamiang | Z56: 2 | AA56: SMPN 1 KUALA SIMPANG | AB56: 2022 | AC56: AFIRMASI | AD56: IIS ( Ilmu-ilmu Sosial) | AE56: IIS ( Ilmu-ilmu Sosial) | AF56: 08963082572 | AG56: 85 | AH56: 78 | AI56: 87 | AJ56: 78 | AK56: 85 | AL56: 82.58 | AM56: 63 | AN56: 60 | AO56: 73 | AP56: 83 | AQ56: 84 | AR56: 77.42 | AS56: 64 | AT56: 77 | AU56: 79 | AV56: 76 | AW56: 83 | AX56: 76.67 | AY56: 67 | AZ56: 68 | BA56: 77 | BB56: 73 | BC56: 78 | BD56: 76.09 | BE56: 62 | BF56: 65 | BG56: 78 | BH56: 80 | BI56: 80 | BJ56: 76.08 | BK56: 1fQT_HfqXJyAMroRuBt9S9DgUVGAjXuzq | BL56: https://drive.google.com/file/d/1fQT_HfqXJyAMroRuBt9S9DgUVGAjXuzq/view?usp=drivesdk | BM56: 0611 BUKTI PENDAFTARAN INDA NURFADILAH PPDB 2022 | BN56: Document successfully created; Document successfully merged; PDF created; !!Error Sending Emails: Layanan terlalu sering diminta di hari yang sama: email.; Run via form trigger as ppdbsman1kjm@gmail.com; Timestamp: Jun 20 2022 9:49 AM | BO56: 82.58 | BP56: 77.42 | BQ56: 76.67 | BR56: 76.09 | BS56: 76.08 | BT56: =SUM(BO56:BS56) -> 388.84 | BU56: IPS | BV56: 3WNE3O | CF56: 50
A57: CW | B57: 55 | C57: 210 RANTAU | D57: 0058507671 | E57: NUR SALSYA BILA | F57: P | G57: Desa Durian | H57: RANTAU | I57: Aceh Tamiang | J57: 1116035308050003 | K57: MADRASA TSANAWIYAH TANAH TERBAN | L57: IPA | M57: IPA | N57: salsabilaksp6@gmail.com | O57: 1116031302080028 | P57: DESA TUPAH | Q57: 38577 | R57: Perempuan | S57: Suparman | T57: Nur latifah | U57: Amiah | V57: 081279843036 | W57: Desa Durian | X57: RANTAU | Y57: Aceh Tamiang | Z57: 1 | AA57: MADRASA TSANAWIYAH TANAH TERBAN | AB57: 2022 | AC57: ZONASI | AD57: MIPA (Matematika Ilmu Pengetahuan Alam) | AE57: MIPA (Matematika Ilmu Pengetahuan Alam) | AF57: 081279803036 | AG57: 77 | AH57: 78 | AI57: 81 | AJ57: 80 | AK57: 82 | AL57: 78 | AM57: 78 | AN57: 78 | AO57: 79 | AP57: 81 | AQ57: 87 | AR57: 81 | AS57: 79 | AT57: 79 | AU57: 84 | AV57: 82 | AW57: 88 | AX57: 79 | AY57: 79 | AZ57: 79 | BA57: 79 | BB57: 79 | BC57: 82 | BD57: 78 | BE57: 82 | BF57: 79 | BG57: 80 | BH57: 79 | BI57: 85 | BJ57: 81 | BK57: 16mFZqcp-OOA_ZYZdzf-6vP7puW8oNqag | BL57: https://drive.google.com/file/d/16mFZqcp-OOA_ZYZdzf-6vP7puW8oNqag/view?usp=drivesdk | BM57: =HYPERLINK("https://drive.google.com/file/d/16mFZqcp-OOA_ZYZdzf-6vP7puW8oNqag/view?usp=drivesdk","0817 BUKTI PENDAFTARAN NUR SALSYA BILA PPDB 2022") -> 0817 BUKTI PENDAFTARAN NUR SALSYA BILA PPDB 2022 | BN57: Document successfully created; Document successfully merged; PDF created; Emails Sent: [To: salsabilaksp6@gmail.com]; Run via form trigger as ppdbsman1kjm@gmail.com; Timestamp: Jun 27 2022 12:39 AM | BO57: 78 | BP57: 81 | BQ57: 79 | BR57: 78 | BS57: 81 | BT57: =SUM(BO57:BS57) -> 397 | BU57: IPA | BX57: SDN TUPAH | CF57: 51
A58: YA | B58: 56 | C58: 122 RANTAU | D58: 0067672240 | E58: RACHMAD PATRA SIKORSKY | F58: L | G58: Alur kersik | H58: RANTAU | I58: Aceh Tamiang | J58: 1116082412050002 | K58: SMPN 4 RANTAU | L58: IPA | M58: IPA | N58: patrasikorsky93@gmail.com | O58: 1116080103070001 | P58: MEDAN | Q58: 39075 | R58: Laki-laki | S58: KUSNADI | T58: AMELIA FERDYNA | V58: 085262853361 | W58: Alur kersik | X58: RANTAU | Y58: Aceh Tamiang | Z58: 1 | AA58: SMPN 4 RANTAU | AB58: 2022 | AC58: ZONASI | AD58: MIPA (Matematika Ilmu Pengetahuan Alam) | AE58: MIPA (Matematika Ilmu Pengetahuan Alam) | AF58: 085217668273 | AG58: 90 | AH58: 90 | AI58: 90 | AJ58: 90 | AK58: 90 | AL58: 90.67 | AM58: 86 | AN58: 86 | AO58: 86 | AP58: 86 | AQ58: 86 | AR58: 86.59 | AS58: 91 | AT58: 91 | AU58: 91 | AV58: 91 | AW58: 91 | AX58: 91.34 | AY58: 90 | AZ58: 90 | BA58: 90 | BB58: 90 | BC58: 90 | BD58: 90.75 | BE58: 88 | BF58: 88 | BG58: 88 | BH58: 88 | BI58: 88 | BJ58: 88.09 | BK58: 1xuk7KcYyycatTGizhR2Wdawy1qQPhgY8 | BL58: https://drive.google.com/file/d/1xuk7KcYyycatTGizhR2Wdawy1qQPhgY8/view?usp=drivesdk | BM58: 0152 BUKTI PENDAFTARAN RACHMAD PATRA SIKORSKY PPDB 2022 | BN58: Document successfully created; Document successfully merged; PDF created; !!Error Sending Emails: Layanan terlalu sering diminta di hari yang sama: email.; Run via form trigger as ppdbsman1kjm@gmail.com; Timestamp: Jun 19 2022 1:48 AM | BO58: 90.67 | BP58: 86.59 | BQ58: 91.34 | BR58: 90.75 | BS58: 88.09 | BT58: =SUM(BO58:BS58) -> 447.44 | BU58: IPA | CF58: 52
A59: CW | B59: 57 | C59: 004 KB | D59: 0071683553 | E59: MUHAMMAD FAUZAN | F59: L | G59: Desa Kesehatan | H59: KARANG BARU | I59: Aceh Tamiang | J59: 1116030402070002 | K59: SMP N 4 PERCONTOHAN | L59: IPA | M59: IPA | N59: devitagst18@gmail.com | O59: 1116032605110003 | P59: KARANG BARU | Q59: 39117 | R59: Laki-laki | S59: EDDY PURNAMA | T59: ASMAWATI | V59: 08124883572 | W59: Desa Kesehatan | X59: KARANG BARU | Y59: Aceh Tamiang | Z59: 2 | AA59: SMP N 4 PERCONTOHAN | AB59: 2022 | AC59: ZONASI | AD59: MIPA (Matematika Ilmu Pengetahuan Alam) | AE59: MIPA (Matematika Ilmu Pengetahuan Alam) | AF59: 085219899388 | AG59: 85 | AH59: 90 | AI59: 86 | AJ59: 91 | AK59: 94 | AL59: 89.2 | AM59: 90 | AN59: 92 | AO59: 88 | AP59: 88 | AQ59: 90 | AR59: 89.6 | AS59: 87 | AT59: 88 | AU59: 85 | AV59: 88 | AW59: 89 | AX59: 87.4 | AY59: 89 | AZ59: 92 | BA59: 91 | BB59: 90 | BC59: 99 | BD59: 92.2 | BE59: 85 | BF59: 88 | BG59: 83 | BH59: 87 | BI59: 82 | BJ59: 85 | BK59: 1tXOsZix6royO02H1Y_ufEQNEWU3ZAAmW | BL59: https://drive.google.com/file/d/1tXOsZix6royO02H1Y_ufEQNEWU3ZAAmW/view?usp=drivesdk | BM59: 0662 BUKTI PENDAFTARAN MUHAMMAD FAUZAN PPDB 2022 | BN59: Document successfully created; Document successfully merged; PDF created; Emails Sent: [To: devitagst18@gmail.com]; Run via form trigger as ppdbsman1kjm@gmail.com; Timestamp: Jun 20 2022 10:14 PM | BO59: 89.2 | BP59: 89.6 | BQ59: 87.4 | BR59: 92.2 | BS59: 85 | BT59: =SUM(BO59:BS59) -> 443.4 | BU59: IPA | CF59: 53
A60: DW | B60: 58 | C60: 058 KSP | D60: 0072283871 | E60: LISNUR INGGID FARADHIBA | F60: P | G60: Kota Kualasimpang | H60: KUALASIMPANG | I60: Aceh Tamiang | J60: 1116055202070001 | K60: SMP NEGERI 4 PERCONTOHAN | L60: IPA | M60: IPS | N60: inggidksp@gmail.com | O60: 1116050904070001 | P60: KARANG BARU | Q60: 39125 | R60: Perempuan | S60: AZHARI | T60: LISNAWATI | V60: 082370555605 | W60: Kota Kualasimpang | X60: KUALASIMPANG | Y60: Aceh Tamiang | Z60: 3 | AA60: SMP NEGERI 4 PERCONTOHAN | AB60: 2022 | AC60: ZONASI | AD60: MIPA (Matematika Ilmu Pengetahuan Alam) | AE60: IIS ( Ilmu-ilmu Sosial) | AF60: 081366163889 | AG60: 88 | AH60: 90 | AI60: 90 | AJ60: 91 | AK60: 92 | AL60: 90.2 | AM60: 87 | AN60: 89 | AO60: 90 | AP60: 81 | AQ60: 87 | AR60: 91 | AS60: 84 | AT60: 90 | AU60: 85 | AV60: 88 | AW60: 90 | AX60: 86 | AY60: 89 | AZ60: 91 | BA60: 90 | BB60: 90 | BC60: 91 | BD60: 89 | BE60: 88 | BF60: 89 | BG60: 86 | BH60: 84 | BI60: 82 | BJ60: 85.8 | BK60: 1qGdIzAK23RVoLpd24shyae2jwoUTh8Fy | BL60: https://drive.google.com/file/d/1qGdIzAK23RVoLpd24shyae2jwoUTh8Fy/view?usp=drivesdk | BM60: 0110 BUKTI PENDAFTARAN LISNUR INGGID FARADHIBA PPDB 2022 | BN60: Document successfully created; Document successfully merged; PDF created; !!Error Sending Emails: Layanan terlalu sering diminta di hari yang sama: email.; Run via form trigger as ppdbsman1kjm@gmail.com; Timestamp: Jun 19 2022 12:31 AM | BO60: 90.2 | BP60: 91 | BQ60: 86 | BR60: 89 | BS60: 85.8 | BT60: =SUM(BO60:BS60) -> 442 | BU60: IPA | CF60: 54
A61: CW | B61: 59 | C61: 006 KB | D61: 0086829278 | E61: MUHAMMAD RABIAL ZAHRAN | F61: L | G61: Desa Kesehatan | H61: KARANG BARU | I61: Aceh Tamiang | J61: 1116052501080001 | K61: SMP SWASTA ISLAM | L61: IPA | M61: IPA | N61: lawandi407@gmail.com | O61: 1116032607120001 | P61: KUALA SIMPANG | Q61: 39472 | R61: Laki-laki | S61: Nurdin S.H. | T61: Rabuyah | U61: - | V61: 085371198652 | W61: Desa Kesehatan | X61: KARANG BARU | Y61: Aceh Tamiang | Z61: 3 | AA61: SMP SWASTA ISLAM | AB61: 2022 | AC61: ZONASI | AD61: MIPA (Matematika Ilmu Pengetahuan Alam) | AE61: MIPA (Matematika Ilmu Pengetahuan Alam) | AF61: 082239068273 | AG61: 90 | AH61: 87 | AI61: 89 | AJ61: 90 | AK61: 90 | AL61: 89.2 | AM61: 86 | AN61: 90 | AO61: 90 | AP61: 91 | AQ61: 83 | AR61: 88 | AS61: 89 | AT61: 87 | AU61: 90 | AV61: 88 | AW61: 75 | AX61: 85.8 | AY61: 88 | AZ61: 89 | BA61: 91 | BB61: 91 | BC61: 86 | BD61: 89 | BE61: 88 | BF61: 90 | BG61: 89 | BH61: 85 | BI61: 82 | BJ61: 86.8 | BK61: 17PZWZVftfk8PWm1LQlLBC6NLDGALKJWG | BL61: https://drive.google.com/file/d/17PZWZVftfk8PWm1LQlLBC6NLDGALKJWG/view?usp=drivesdk | BM61: 0726 BUKTI PENDAFTARAN MUHAMMAD RABIAL ZAHRAN PPDB 2022 | BN61: Document successfully created; Document successfully merged; PDF created; Emails Sent: [To: lawandi407@gmail.com]; Run via form trigger as ppdbsman1kjm@gmail.com; Timestamp: Jun 21 2022 5:04 AM | BO61: 89.2 | BP61: 88 | BQ61: 85.8 | BR61: 89 | BS61: 86.8 | BT61: =SUM(BO61:BS61) -> 438.8 | BU61: IPA | CF61: 55
A62: CW | B62: 62 | C62: 007 RANTAU | D62: 0079756760 | E62: SALSABILA | F62: P | G62: Rantau Pauh | H62: RANTAU | I62: Aceh Tamiang | J62: 1171046302070003 | K62: SMP NEGERI 3 KEJURUAN MUDA | L62: IPA | M62: IPA | N62: sriyatinoni9@gmail.com | O62: 1116081409200005 | P62: ACEH TAMIANG | Q62: 39136 | R62: Perempuan | S62: Alm.Sanusi | T62: Sriyati | V62: 085272293803 | W62: Rantau Pauh | X62: RANTAU | Y62: Aceh Tamiang | Z62: 5 | AA62: SMP NEGERI 3 KEJURUAN MUDA | AB62: 2022 | AC62: ZONASI | AD62: MIPA (Matematika Ilmu Pengetahuan Alam) | AE62: MIPA (Matematika Ilmu Pengetahuan Alam) | AF62: 081278115360 | AG62: 90 | AH62: 92 | AI62: 77 | AJ62: 80 | AK62: 80 | AL62: 85 | AM62: 86 | AN62: 85 | AO62: 85 | AP62: 87 | AQ62: 85 | AR62: 85.5 | AS62: 91 | AT62: 92 | AU62: 86 | AV62: 86 | AW62: 85 | AX62: 87.5 | AY62: 99 | AZ62: 98 | BA62: 78 | BB62: 83 | BC62: 86 | BD62: 88.33 | BE62: 94 | BF62: 93 | BG62: 79 | BH62: 85 | BI62: 84 | BJ62: 86.5 | BK62: 1JP8pz1G-IJBFCoblnGzKMeqpFdpTBIqi | BL62: https://drive.google.com/file/d/1JP8pz1G-IJBFCoblnGzKMeqpFdpTBIqi/view?usp=drivesdk | BM62: 0069 BUKTI PENDAFTARAN SALSABILA PPDB 2022 | BN62: Document successfully created; Document successfully merged; PDF created; Emails Sent: [To: sriyatinoni9@gmail.com]; Run via form trigger as ppdbsman1kjm@gmail.com; Timestamp: Jun 18 2022 10:59 PM | BO62: 85 | BP62: 85.5 | BQ62: 87.5 | BR62: 88.33 | BS62: 86.5 | BT62: =SUM(BO62:BS62) -> 432.83 | BU62: IPA | BV62: yatim | CF62: 56
A63: MA | B63: 63 | C63: 001 KSP | D63: 0077503741 | E63: FATIMAH NUR ASYURA | F63: P | G63: Kotalintang | H63: KUALASIMPANG | I63: Aceh Tamiang | J63: 1116054506070003 | K63: SMP SWASTA DHARMA PATRA RANTAU | L63: IPA | M63: IPA | N63: aliridhoksp14@gmail.com | O63: 1116051804070002 | P63: KUALA SIMPANG | Q63: 39238 | R63: Perempuan | S63: BAHARUDDIN | T63: SRI HARYATI | V63: 085263064899 | W63: Kotalintang | X63: KUALASIMPANG | Y63: Aceh Tamiang | Z63: 7 | AA63: SMP SWASTA DHARMA PATRA RANTAU | AB63: 2022 | AC63: ZONASI | AD63: MIPA (Matematika Ilmu Pengetahuan Alam) | AE63: MIPA (Matematika Ilmu Pengetahuan Alam) | AF63: 082272601737 | AG63: 79 | AH63: 81 | AI63: 80 | AJ63: 82 | AK63: 87 | AL63: 89.5 | AM63: 81 | AN63: 80 | AO63: 85 | AP63: 85 | AQ63: 85 | AR63: 86.08 | AS63: 75 | AT63: 75 | AU63: 85 | AV63: 84 | AW63: 83 | AX63: 87 | AY63: 77 | AZ63: 79 | BA63: 82 | BB63: 83 | BC63: 90 | BD63: 84.17 | BE63: 80 | BF63: 76 | BG63: 85 | BH63: 83 | BI63: 82 | BJ63: 85.75 | BK63: 1uP4GhYDrP5P5RjVCFtJ6LLY7x7EHxh-s | BL63: https://drive.google.com/file/d/1uP4GhYDrP5P5RjVCFtJ6LLY7x7EHxh-s/view?usp=drivesdk | BM63: 0086 BUKTI PENDAFTARAN FATIMAH NUR ASYURA PPDB 2022 | BN63: Document successfully created; Document successfully merged; PDF created; Emails Sent: [To: aliridhoksp14@gmail.com]; Run via form trigger as ppdbsman1kjm@gmail.com; Timestamp: Jun 18 2022 11:44 PM | BO63: 89.5 | BP63: 86.08 | BQ63: 87 | BR63: 84.17 | BS63: 85.75 | BT63: =SUM(BO63:BS63) -> 432.5 | BU63: IPA | CF63: 57
A64: YA | B64: 64 | C64: 154 RANTAU | D64: 0072617810 | E64: RAMADANI SAPINA | F64: P | G64: Jamur jelatang | H64: RANTAU | I64: Aceh Tamiang | J64: 1116105709070003 | K64: MTSS SABILUL ULUM | L64: IPS | M64: IPA | N64: rikaksp52@gmail.com | O64: 1116080602080038 | P64: DESA SUNTING | Q64: 39342 | R64: Perempuan | S64: SUKIRMAN | T64: KAMISAH | U64: SUKIRMAN | V64: 085296072633 | W64: Jamur jelatang | X64: RANTAU | Y64: Aceh Tamiang | Z64: 1 | AA64: MTSS SABILUL ULUM | AB64: 2022 | AC64: ZONASI | AD64: IIS ( Ilmu-ilmu Sosial) | AE64: MIPA (Matematika Ilmu Pengetahuan Alam) | AF64: 085361873126 | AG64: 81 | AH64: 83 | AI64: 85 | AJ64: 85 | AK64: 85 | AL64: 85 | AM64: 79 | AN64: 80 | AO64: 85 | AP64: 85 | AQ64: 85 | AR64: 85 | AS64: 77 | AT64: 88 | AU64: 85 | AV64: 85 | AW64: 82 | AX64: 84 | AY64: 79 | AZ64: 78 | BA64: 87 | BB64: 87 | BC64: 90 | BD64: 86 | BE64: 83 | BF64: 90 | BG64: 86 | BH64: 86 | BI64: 92 | BJ64: 92 | BK64: 1jvEUz8kF1EA2PgWksk5GFO3szKkrWyc_ | BL64: https://drive.google.com/file/d/1jvEUz8kF1EA2PgWksk5GFO3szKkrWyc_/view?usp=drivesdk | BM64: 0409 BUKTI PENDAFTARAN RAMADANI SAPINA PPDB 2022 | BN64: Document successfully created; Document successfully merged; PDF created; Emails Sent: [To: rikaksp52@gmail.com]; Run via form trigger as ppdbsman1kjm@gmail.com; Timestamp: Jun 19 2022 10:47 PM | BO64: 85 | BP64: 85 | BQ64: 84 | BR64: 86 | BS64: 92 | BT64: =SUM(BO64:BS64) -> 432 | BU64: IPS | BX64: SD NEGERI JAMUR JELATANG | CF64: 58
A65: SU | B65: 65 | C65: 157 RANTAU | D65: 0076894641 | E65: KESYA MUKHLISHAH ZAHWA | F65: P | G65: Rantau Pauh | H65: RANTAU | I65: Aceh Tamiang | J65: 1116085904070001 | K65: MTS SWASTA PP RAUDHATUL HASANAH | L65: IPA | M65: IPA | N65: kesyamz123@gmail.com | O65: 1116080805070008 | P65: KARANG BARU | Q65: 39191 | R65: Perempuan | S65: MUHAMMAD FADIL | T65: JAMILAH | U65: - | V65: 085261080282 | W65: Rantau Pauh | X65: RANTAU | Y65: Aceh Tamiang | Z65: 1 | AA65: MTS SWASTA PP RAUDHATUL HASANAH | AB65: 2022 | AC65: ZONASI | AD65: MIPA (Matematika Ilmu Pengetahuan Alam) | AE65: MIPA (Matematika Ilmu Pengetahuan Alam) | AF65: 085925801259 | AG65: 85 | AH65: 90 | AI65: 83 | AJ65: 83 | AK65: 89 | AL65: 86 | AM65: 95 | AN65: 90 | AO65: 85 | AP65: 88 | AQ65: 86 | AR65: 89 | AS65: 81 | AT65: 81 | AU65: 83 | AV65: 88 | AW65: 86 | AX65: 84 | AY65: 88 | AZ65: 95 | BA65: 83 | BB65: 85 | BC65: 89 | BD65: 88 | BE65: 85 | BF65: 88 | BG65: 88 | BH65: 81 | BI65: 85 | BJ65: 85 | BK65: 1gGEiQ5rEMm2LFy9-guC_UsHf6ov4_u48 | BL65: https://drive.google.com/file/d/1gGEiQ5rEMm2LFy9-guC_UsHf6ov4_u48/view?usp=drivesdk | BM65: 0673 BUKTI PENDAFTARAN KESYA MUKHLISHAH ZAHWA PPDB 2022 | BN65: Document successfully created; Document successfully merged; PDF created; Emails Sent: [To: kesyamz123@gmail.com]; Run via form trigger as ppdbsman1kjm@gmail.com; Timestamp: Jun 20 2022 11:00 PM | BO65: 86 | BP65: 89 | BQ65: 84 | BR65: 88 | BS65: 85 | BT65: =SUM(BO65:BS65) -> 432 | BU65: IPA | BX65: SD NEGERI 1 BUKIT TEMPURUNG | CF65: 59
A66: SU | B66: 66 | C66: 055 RANTAU | D66: 0077348805 | E66: T BADLISYAH | F66: L | G66: Benua Raja | H66: RANTAU | I66: Aceh Tamiang | J66: 1116032010070001 | K66: MTSS ULUMUL QURAN LANGSA | L66: IPA | M66: IPA | N66: tengku.badlisyah@gmail.com | O66: 1116081410110001 | P66: ACEH TAMIANG | Q66: 39375 | R66: Laki-laki | S66: TENGKU KAMAL SYAHPUTRA | T66: BALKIS ANDRESIA PUTRI | V66: 082273789071 | W66: Benua Raja | X66: RANTAU | Y66: Aceh Tamiang | Z66: 1 | AA66: MTSS ULUMUL QURAN LANGSA | AB66: 2022 | AC66: ZONASI | AD66: MIPA (Matematika Ilmu Pengetahuan Alam) | AE66: MIPA (Matematika Ilmu Pengetahuan Alam) | AF66: 082285067950 | AG66: 82 | AH66: 83 | AI66: 84 | AJ66: 84 | AK66: 87 | AL66: 84 | AM66: 84 | AN66: 83 | AO66: 92 | AP66: 93 | AQ66: 81 | AR66: 86.6 | AS66: 86 | AT66: 88 | AU66: 88 | AV66: 89 | AW66: 87 | AX66: 87.6 | AY66: 85 | AZ66: 88 | BA66: 85 | BB66: 85 | BC66: 87 | BD66: 86 | BE66: 86 | BF66: 85 | BG66: 88 | BH66: 88 | BI66: 88 | BJ66: 87 | BK66: 1IMfj_IJK_MCBbsHoXSxZqDkACu2D-pqG | BL66: https://drive.google.com/file/d/1IMfj_IJK_MCBbsHoXSxZqDkACu2D-pqG/view?usp=drivesdk | BM66: 0376 BUKTI PENDAFTARAN T BADLISYAH PPDB 2022 | BN66: Document successfully created; Document successfully merged; PDF created; Emails Sent: [To: tengku.badlisyah@gmail.com]; Run via form trigger as ppdbsman1kjm@gmail.com; Timestamp: Jun 19 2022 10:12 PM | BO66: 84 | BP66: 86.6 | BQ66: 87.6 | BR66: 86 | BS66: 87 | BT66: =SUM(BO66:BS66) -> 431.2 | BU66: IPA | BX66: SD NEGERI BENUA RAJA | CF66: 60
A67: YA | B67: 67 | C67: 181 RANTAU | D67: 0136377588 | E67: SUSANDI RAMADHAN | F67: L | G67: Alur Cucur | H67: RANTAU | I67: Aceh Tamiang | J67: 1205232209070001 | K67: MTSS NAHDATUL ISLAM | L67: IPA | M67: IPS | N67: ramadhansusandi15@gmail.com | O67: 1116081506060006 | P67: BUKIT KAPAL | Q67: 39347 | R67: Laki-laki | S67: SUPRI ADI | T67: SRI SUSANTI | U67: M ROHIM | V67: 082275815933 | W67: Alur Cucur | X67: RANTAU | Y67: Aceh Tamiang | Z67: 1 | AA67: MTSS NAHDATUL ISLAM | AB67: 2022 | AC67: ZONASI | AD67: MIPA (Matematika Ilmu Pengetahuan Alam) | AE67: IIS ( Ilmu-ilmu Sosial) | AF67: 081372797927 | AG67: 83 | AH67: 84 | AI67: 85 | AJ67: 89 | AK67: 88 | AL67: 85 | AM67: 83 | AN67: 81 | AO67: 80 | AP67: 80 | AQ67: 85 | AR67: 86 | AS67: 73 | AT67: 78 | AU67: 80 | AV67: 77 | AW67: 84 | AX67: 84 | AY67: 82 | AZ67: 84 | BA67: 81 | BB67: 81 | BC67: 84 | BD67: 86 | BE67: 87 | BF67: 89 | BG67: 87 | BH67: 87 | BI67: 84 | BJ67: 89 | BK67: 1p7rPi6Gkjw3z4MZEFXgxm5UZ6zSt_RbX | BL67: https://drive.google.com/file/d/1p7rPi6Gkjw3z4MZEFXgxm5UZ6zSt_RbX/view?usp=drivesdk | BM67: 0774 BUKTI PENDAFTARAN SUSANDI RAMADHAN PPDB 2022 | BN67: Document successfully created; Document successfully merged; PDF created; Emails Sent: [To: ramadhansusandi15@gmail.com]; Run via form trigger as ppdbsman1kjm@gmail.com; Timestamp: Jun 22 2022 8:42 AM | BO67: 85 | BP67: 86 | BQ67: 84 | BR67: 86 | BS67: 89 | BT67: =SUM(BO67:BS67) -> 430 | BU67: IPA | BX67: SD NEGERI 057767 BUKIT KAPAL | CF67: 61
A68: MA | B68: 68 | C68: 016 KSP | D68: 0074183924 | E68: JASKYA SHALIHATI | F68: P | G68: Bukit Tempurung | H68: KUALASIMPANG | I68: Aceh Tamiang | J68: 1116054612070001 | K68: SMP NEGERI 4 PERCONTOHAN | L68: IPA | M68: IPA | N68: jaskya2007@gmail.com | O68: 1116052401050123 | P68: ACEH TAMIANG | Q68: 44901 | R68: Perempuan | S68: SAIFUL | T68: NURHAYATI | U68: - | V68: 085275815920 | W68: Bukit Tempurung | X68: KUALASIMPANG | Y68: Aceh Tamiang | Z68: 4 | AA68: SMP NEGERI 4 PERCONTOHAN | AB68: 2022 | AC68: ZONASI | AD68: MIPA (Matematika Ilmu Pengetahuan Alam) | AE68: MIPA (Matematika Ilmu Pengetahuan Alam) | AF68: 082210106740 | AG68: 88 | AH68: 92 | AI68: 88 | AJ68: 90 | AK68: 89 | AL68: 88 | AM68: 88 | AN68: 89 | AO68: 88 | AP68: 84 | AQ68: 88 | AR68: 88 | AS68: 78 | AT68: 83 | AU68: 86 | AV68: 86 | AW68: 84 | AX68: 88 | AY68: 86 | AZ68: 88 | BA68: 88 | BB68: 90 | BC68: 82 | BD68: 86 | BE68: 78 | BF68: 81 | BG68: 73 | BH68: 84 | BI68: 80 | BJ68: 80 | BK68: 1nFOWnQw3oGPNwR35u9O97cctBvL-E8MX | BL68: https://drive.google.com/file/d/1nFOWnQw3oGPNwR35u9O97cctBvL-E8MX/view?usp=drivesdk | BM68: 0413 BUKTI PENDAFTARAN JASKYA SHALIHATI PPDB 2022 | BN68: Document successfully created; Document successfully merged; PDF created; !!Error Sending Emails: Layanan terlalu sering diminta di hari yang sama: email.; Run via form trigger as ppdbsman1kjm@gmail.com; Timestamp: Jun 19 2022 10:49 PM | BO68: 88 | BP68: 88 | BQ68: 88 | BR68: 86 | BS68: 80 | BT68: =SUM(BO68:BS68) -> 430 | BU68: IPA | CF68: 62
A69: SU | B69: 69 | C69: 045 RANTAU | D69: 0078852501 | E69: FADILAH KHAIRANI | F69: P | G69: Rantau Pauh | H69: RANTAU | I69: Aceh Tamiang | J69: 1116084306070001 | K69: SMP NEGERI 4 RANTAU | L69: IPA | M69: IPS | N69: fadilahkhairani06@gmail.com | O69: 1116082206070002 | P69: RANTAU | Q69: 39236 | R69: Perempuan | S69: WAGIRAN | T69: SUNARNI | V69: 082304002535 | W69: Rantau Pauh | X69: RANTAU | Y69: Aceh Tamiang | Z69: 2 | AA69: SMP NEGERI 4 RANTAU | AB69: 2022 | AC69: ZONASI | AD69: MIPA (Matematika Ilmu Pengetahuan Alam) | AE69: IIS ( Ilmu-ilmu Sosial) | AF69: 082360109009 | AG69: 89 | AH69: 90 | AI69: 82 | AJ69: 88 | AK69: 85 | AL69: 84.59 | AM69: 87 | AN69: 89 | AO69: 85 | AP69: 90 | AQ69: 85 | AR69: 93.5 | AS69: 86 | AT69: 87 | AU69: 80 | AV69: 83 | AW69: 87 | AX69: 82.92 | AY69: 77 | AZ69: 90 | BA69: 81 | BB69: 80 | BC69: 75 | BD69: 84.92 | BE69: 78 | BF69: 89 | BG69: 84 | BH69: 77 | BI69: 80 | BJ69: 83.59 | BK69: 1Q3YvmYv_dnblYIaprYsRNz77JnXd33sJ | BL69: https://drive.google.com/file/d/1Q3YvmYv_dnblYIaprYsRNz77JnXd33sJ/view?usp=drivesdk | BM69: 0022 BUKTI PENDAFTARAN FADILAH KHAIRANI PPDB 2022 | BN69: Document successfully created; Document successfully merged; PDF created; Emails Sent: [To: fadilahkhairani06@gmail.com]; Run via form trigger as ppdbsman1kjm@gmail.com; Timestamp: Jun 18 2022 9:00 PM | BO69: 84.59 | BP69: 93.5 | BQ69: 82.92 | BR69: 84.92 | BS69: 83.59 | BT69: =SUM(BO69:BS69) -> 429.52 | BU69: IPA | CF69: 63
A70: SU | B70: 70 | C70: 067 RANTAU | D70: 0075513524 | E70: BUNGA CINTA LESTARI | F70: P | G70: Rantau Pauh | H70: RANTAU | I70: Aceh Tamiang | J70: 1116086206070001 | K70: SMP SWASTA DHARMA PATRA RANTAU | L70: IPA | M70: IPS | N70: cintalestari349@gmail.com | O70: 1116083105070018 | P70: ACEH TAMIANG | Q70: 39255 | R70: Perempuan | S70: FAHRUDDIN | T70: Almh.ROSMAILAWATI | V70: 085277207597 | W70: Rantau Pauh | X70: RANTAU | Y70: Aceh Tamiang | Z70: 3 | AA70: SMP SWASTA DHARMA PATRA RANTAU | AB70: 2022 | AC70: ZONASI | AD70: MIPA (Matematika Ilmu Pengetahuan Alam) | AE70: IIS ( Ilmu-ilmu Sosial) | AF70: 087825812896 | AG70: 80 | AH70: 81 | AI70: 80 | AJ70: 80 | AK70: 83 | AL70: 88 | AM70: 79 | AN70: 80 | AO70: 87 | AP70: 81 | AQ70: 81 | AR70: 88.5 | AS70: 76 | AT70: 76 | AU70: 87 | AV70: 83 | AW70: 82 | AX70: 82.58 | AY70: 77 | AZ70: 78 | BA70: 82 | BB70: 84 | BC70: 82 | BD70: 82.92 | BE70: 75 | BF70: 76 | BG70: 85 | BH70: 81 | BI70: 82 | BJ70: 86.33 | BK70: 1nGswZ2tI_JSvoCLwzEQv48hoX6W0-ERE | BL70: https://drive.google.com/file/d/1nGswZ2tI_JSvoCLwzEQv48hoX6W0-ERE/view?usp=drivesdk | BM70: 0074 BUKTI PENDAFTARAN BUNGA CINTA LESTARI PPDB 2022 | BN70: Document successfully created; Document successfully merged; PDF created; Emails Sent: [To: cintalestari349@gmail.com]; Run via form trigger as ppdbsman1kjm@gmail.com; Timestamp: Jun 18 2022 11:22 PM | BO70: 88 | BP70: 88.5 | BQ70: 82.58 | BR70: 82.92 | BS70: 86.33 | BT70: =SUM(BO70:BS70) -> 428.33 | BU70: IPA | CF70: 64
A71: SU | B71: 71 | C71: 136 RANTAU | D71: 0076268222 | E71: FAWZAN AZIZ | F71: L | G71: Landuh | H71: RANTAU | I71: Aceh Tamiang | J71: 1116030702070001 | K71: SMP SWASTA ISLAM | L71: IPS | M71: IPS | N71: azizf894@gmail.com | O71: 1116082702120002 | P71: MEDAN | Q71: 39120 | R71: Laki-laki | S71: MULIADI | T71: KHAIRANI SYAM | V71: 085344049963 | W71: Landuh | X71: RANTAU | Y71: Aceh Tamiang | Z71: 1 | AA71: SMP SWASTA ISLAM | AB71: 2022 | AC71: ZONASI | AD71: IIS ( Ilmu-ilmu Sosial) | AE71: IIS ( Ilmu-ilmu Sosial) | AF71: 083843469898 | AG71: 15.2 | AH71: 16.4 | AI71: 15.2 | AJ71: 16.4 | AK71: 18.4 | AL71: 89.5 | AM71: 16.4 | AN71: 18 | AO71: 16.4 | AP71: 18 | AQ71: 17 | AR71: 84 | AS71: 16 | AT71: 16 | AU71: 16 | AV71: 16 | AW71: 17.2 | AX71: 82.55 | AY71: 16.6 | AZ71: 16.2 | BA71: 16.6 | BB71: 16.2 | BC71: 17 | BD71: 85.73 | BE71: 14.6 | BF71: 18 | BG71: 14.6 | BH71: 18 | BI71: 18 | BJ71: 85.9 | BK71: 1CtPimKWd29M09kEC7aab6PkHWOi8MsIB | BL71: https://drive.google.com/file/d/1CtPimKWd29M09kEC7aab6PkHWOi8MsIB/view?usp=drivesdk | BM71: 0675 BUKTI PENDAFTARAN FAWZAN AZIZ PPDB 2022 | BN71: Document successfully created; Document successfully merged; PDF created; Emails Sent: [To: azizf894@gmail.com]; Run via form trigger as ppdbsman1kjm@gmail.com; Timestamp: Jun 20 2022 11:04 PM | BO71: 89.5 | BP71: 84 | BQ71: 82.55 | BR71: 85.73 | BS71: 85.9 | BT71: =SUM(BO71:BS71) -> 427.68 | BU71: IPS | CF71: 65
A72: cw | B72: 72 | C72: 195 RANTAU | D72: 0071533892 | E72: HUMAIRAH SAHRIL CHANIAGO | F72: P | G72: Alur Cucur | H72: RANTAU | I72: Aceh Tamiang | J72: 1210016009070007 | K72: MTS NEGRI 2 LABUHANBATU | L72: IPA | M72: IPA | N72: umachaniago20@gmail.com | O72: 1116081311060001 | P72: RANTAU PRAPAT | Q72: 39345 | R72: Perempuan | S72: M.SAHRIL | T72: HILDA MILA | U72: H.ZULHAM Z | V72: 085297018715 | W72: Alur Cucur | X72: RANTAU | Y72: Aceh Tamiang | Z72: 5 | AA72: MTS NEGRI 2 LABUHANBATU | AB72: 2022 | AC72: ZONASI | AD72: MIPA (Matematika Ilmu Pengetahuan Alam) | AE72: MIPA (Matematika Ilmu Pengetahuan Alam) | AF72: 082274530473 | AG72: 93 | AH72: 90 | AI72: 79 | AJ72: 80 | AK72: 90 | AL72: 86.4 | AM72: 87 | AN72: 93 | AO72: 87 | AP72: 89 | AQ72: 94 | AR72: 90 | AS72: 89 | AT72: 90 | AU72: 86 | AV72: 87 | AW72: 91 | AX72: 88.6 | AY72: 93 | AZ72: 90 | BA72: 84 | BB72: 82 | BC72: 89 | BD72: 75.6 | BE72: 86 | BF72: 87 | BG72: 80 | BH72: 86 | BI72: 96 | BJ72: 87 | BK72: 1DnEbJtG-FVBvZ46V3oFA0rS9milzOFSO | BL72: https://drive.google.com/file/d/1DnEbJtG-FVBvZ46V3oFA0rS9milzOFSO/view?usp=drivesdk | BM72: 0418 BUKTI PENDAFTARAN HUMAIRAH SAHRIL CHANIAGO PPDB 2022 | BN72: Document successfully created; Document successfully merged; PDF created; !!Error Sending Emails: Layanan terlalu sering diminta di hari yang sama: email.; Run via form trigger as ppdbsman1kjm@gmail.com; Timestamp: Jun 19 2022 10:52 PM | BO72: 86.4 | BP72: 90 | BQ72: 88.6 | BR72: 75.6 | BS72: 87 | BT72: =SUM(BO72:BS72) -> 427.6 | BU72: IPA | BX72: SDN 112143 RANTAUPRAPAT | CF72: 66
A73: SU | B73: 74 | C73: 021 RANTAU | D73: 0075596634 | E73: RASYA SYAPITRI | F73: P | G73: Rantau Pauh | H73: RANTAU | I73: Aceh Tamiang | J73: 1116085603070002 | K73: SMP TAHFIDZH MISBAHUR RASYAD AL-AZIZIYAH | L73: IPA | M73: IPA | N73: rasyaksp748@gmail.com | O73: 1116080503080107 | P73: RANTAU | Q73: 39157 | R73: Perempuan | S73: Syafrian | T73: Yarniati | V73: 085215932702 | W73: Rantau Pauh | X73: RANTAU | Y73: Aceh Tamiang | Z73: 2 | AA73: SMP TAHFIDZH MISBAHUR RASYAD AL-AZIZIYAH | AB73: 2022 | AC73: ZONASI | AD73: MIPA (Matematika Ilmu Pengetahuan Alam) | AE73: MIPA (Matematika Ilmu Pengetahuan Alam) | AF73: 081368389391 | AG73: 86 | AH73: 88 | AI73: 83 | AJ73: 82 | AK73: 84 | AL73: 84.6 | AM73: 83 | AN73: 86 | AO73: 85 | AP73: 86 | AQ73: 82 | AR73: 84.4 | AS73: 82 | AT73: 84 | AU73: 83 | AV73: 86 | AW73: 80 | AX73: 83 | AY73: 82 | AZ73: 88 | BA73: 82 | BB73: 89 | BC73: 90 | BD73: 86.2 | BE73: 90 | BF73: 89 | BG73: 87 | BH73: 89 | BI73: 87 | BJ73: 87.8 | BK73: 1eTYTTu0GY7o5jgRrZnLueIQACRGFOtYt | BL73: https://drive.google.com/file/d/1eTYTTu0GY7o5jgRrZnLueIQACRGFOtYt/view?usp=drivesdk | BM73: 0111 BUKTI PENDAFTARAN RASYA SYAPITRI PPDB 2022 | BN73: Document successfully created; Document successfully merged; PDF created; !!Error Sending Emails: Layanan terlalu sering diminta di hari yang sama: email.; Run via form trigger as ppdbsman1kjm@gmail.com; Timestamp: Jun 19 2022 12:34 AM | BO73: 84.6 | BP73: 84.4 | BQ73: 83 | BR73: 86.2 | BS73: 87.8 | BT73: =SUM(BO73:BS73) -> 426 | BU73: IPA | CF73: 67
A74: YA | B74: 75 | C74: 110 RANTAU | D74: 0072916215 | E74: FIDA FADIYAH HASANAH | F74: P | G74: Jamur Labu | H74: RANTAU | I74: Aceh Tamiang | J74: 1116084606070002 | K74: SMP NEGERI 4 KEJURUAN MUDA | L74: IPA | M74: IPA | N74: szahara162@gmail.com | O74: 1116080806060023 | P74: ACEH TAMIANG | Q74: 39239 | R74: Perempuan | S74: SUPARLIN | T74: SITI ZAHARA | V74: 082369669196 | W74: Jamur Labu | X74: RANTAU | Y74: Aceh Tamiang | Z74: 2 | AA74: SMP NEGERI 4 KEJURUAN MUDA | AB74: 2022 | AC74: ZONASI | AD74: MIPA (Matematika Ilmu Pengetahuan Alam) | AE74: MIPA (Matematika Ilmu Pengetahuan Alam) | AF74: 082229145246 | AG74: 82 | AH74: 82 | AI74: 80 | AJ74: 83 | AK74: 88 | AL74: 85.92 | AM74: 83 | AN74: 84 | AO74: 80 | AP74: 78 | AQ74: 83 | AR74: 84.17 | AS74: 80 | AT74: 79 | AU74: 75 | AV74: 79 | AW74: 78 | AX74: 79.25 | AY74: 95 | AZ74: 96 | BA74: 95 | BB74: 84 | BC74: 89 | BD74: 90.75 | BE74: 85 | BF74: 84 | BG74: 83 | BH74: 84 | BI74: 85 | BJ74: 85.83 | BK74: 17-oGmyTLX437oa5boQAkKuHD69hmv0FD | BL74: https://drive.google.com/file/d/17-oGmyTLX437oa5boQAkKuHD69hmv0FD/view?usp=drivesdk | BM74: 0141 BUKTI PENDAFTARAN FIDA FADIYAH HASANAH PPDB 2022 | BN74: Document successfully created; Document successfully merged; PDF created; !!Error Sending Emails: Layanan terlalu sering diminta di hari yang sama: email.; Run via form trigger as ppdbsman1kjm@gmail.com; Timestamp: Jun 19 2022 1:33 AM | BO74: 85.92 | BP74: 84.17 | BQ74: 79.25 | BR74: 90.75 | BS74: 85.83 | BT74: =SUM(BO74:BS74) -> 425.92 | BU74: IPA | CF74: 68
A75: SU | B75: 77 | C75: 002 RANTAU | D75: 0072953658 | E75: AZIRA MULVA SYAFIRA | F75: P | G75: Rantau Pauh | H75: RANTAU | I75: Aceh Tamiang | J75: 1116084905070002 | K75: MTS ULUMUL QUR'AN LANGSA | L75: IPA | M75: IPA | N75: aziramulvasyafiraaziraa@gmai.com | O75: 1116082902080014 | P75: RANTAU | Q75: 39211 | R75: Perempuan | S75: MULYADI M YUSUF | T75: MUTHIA ANDALUCYA S, SKM | U75: SYAFRIDA WAHYUNI | V75: 085371196488 | W75: Rantau Pauh | X75: RANTAU | Y75: Aceh Tamiang | Z75: 1 | AA75: MTS ULUMUL QUR'AN LANGSA | AB75: 2022 | AC75: ZONASI | AD75: MIPA (Matematika Ilmu Pengetahuan Alam) | AE75: MIPA (Matematika Ilmu Pengetahuan Alam) | AF75: 082171557993 | AG75: 83 | AH75: 86 | AI75: 84 | AJ75: 85 | AK75: 79 | AL75: 83.4 | AM75: 85 | AN75: 84 | AO75: 90 | AP75: 90 | AQ75: 87 | AR75: 87.2 | AS75: 83 | AT75: 85 | AU75: 86 | AV75: 86 | AW75: 84 | AX75: 84.8 | AY75: 75 | AZ75: 76 | BA75: 87 | BB75: 89 | BC75: 83 | BD75: 82 | BE75: 86 | BF75: 87 | BG75: 88 | BH75: 88 | BI75: 90 | BJ75: 87.8 | BK75: 10RwQ4GW3pT5-9Y4AawjDsNFkDAwVRdSq | BL75: https://drive.google.com/file/d/10RwQ4GW3pT5-9Y4AawjDsNFkDAwVRdSq/view?usp=drivesdk | BM75: 0169 BUKTI PENDAFTARAN AZIRA MULVA SYAFIRA PPDB 2022 | BN75: Document successfully created; Document successfully merged; PDF created; !!Error Sending Emails: Layanan terlalu sering diminta di hari yang sama: email.; Run via form trigger as ppdbsman1kjm@gmail.com; Timestamp: Jun 19 2022 2:43 AM | BO75: 83.4 | BP75: 87.2 | BQ75: 84.8 | BR75: 82 | BS75: 87.8 | BT75: =SUM(BO75:BS75) -> 425.2 | BU75: IPA | BX75: SD SWASTA DHARMA PATRA RANTAU | CF75: 69
A76: CW | B76: 78 | C76: 200 RANTAU | D76: 0077295637 | E76: NABILLAH SALSABIIL | F76: P | G76: Rantau Pauh | H76: RANTAU | I76: Aceh Tamiang | J76: 1116086610070001 | K76: MTSN 1 LABUHANBATU SELATAN | L76: IPA | M76: IPS | N76: nabillahsalsabiil516@gmail.com | O76: 1116081607200003 | P76: RANTAU | Q76: 39381 | R76: Perempuan | S76: Zulham | T76: Raimah | U76: Fatimah | V76: 082278965650 | W76: Rantau Pauh | X76: RANTAU | Y76: Aceh Tamiang | Z76: 4 | AA76: MTSN 1 LABUHANBATU SELATAN | AB76: 2022 | AC76: ZONASI | AD76: MIPA (Matematika Ilmu Pengetahuan Alam) | AE76: IIS ( Ilmu-ilmu Sosial) | AF76: 081274459012 | AG76: 82 | AH76: 77 | AI76: 80 | AJ76: 80 | AK76: 90 | AL76: 85 | AM76: 89 | AN76: 87 | AO76: 85 | AP76: 90 | AQ76: 82 | AR76: 87 | AS76: 77 | AT76: 79 | AU76: 87 | AV76: 90 | AW76: 88 | AX76: 87 | AY76: 83 | AZ76: 83 | BA76: 77 | BB76: 80 | BC76: 88 | BD76: 81 | BE76: 81 | BF76: 95 | BG76: 70 | BH76: 84 | BI76: 88 | BJ76: 85 | BK76: 1W-WGYIr72ONwAG6kUyVB9VhxIzb-K4xm | BL76: https://drive.google.com/file/d/1W-WGYIr72ONwAG6kUyVB9VhxIzb-K4xm/view?usp=drivesdk | BM76: 0804 BUKTI PENDAFTARAN NABILLAH SALSABIIL PPDB 2022 | BN76: Document successfully created; Document successfully merged; PDF created; Emails Sent: [To: nabillahsalsabiil516@gmail.com]; Run via form trigger as ppdbsman1kjm@gmail.com; Timestamp: Jun 23 2022 11:08 PM | BO76: 85 | BP76: 87 | BQ76: 87 | BR76: 81 | BS76: 85 | BT76: =SUM(BO76:BS76) -> 425 | BU76: IPA | BX76: SDN 118296 BERINGIN JAYA PINANG DAMAI | CF76: 70
A77: SU | B77: 80 | C77: 011 RANTAU | D77: 0079256095 | E77: ALVIN SYAPUTRA | F77: L | G77: Pertamina | H77: RANTAU | I77: Aceh Tamiang | J77: 1116080701070001 | K77: SMP SWASTA DHARMA PATRA RANTAU | L77: IPA | M77: IPA | N77: alvinsyaputra2007@gmail.com | O77: 1116082209061021 | P77: KUALASIMPANG | Q77: 39089 | R77: Laki-laki | S77: ERI SURYADI | T77: RATNA RIANA | U77: ERIZAL MUSLIM | V77: 085268742396 | W77: Pertamina | X77: RANTAU | Y77: Aceh Tamiang | Z77: 4 | AA77: SMP SWASTA DHARMA PATRA RANTAU | AB77: 2022 | AC77: ZONASI | AD77: MIPA (Matematika Ilmu Pengetahuan Alam) | AE77: MIPA (Matematika Ilmu Pengetahuan Alam) | AF77: 081337400630 | AG77: 77 | AH77: 81 | AI77: 80 | AJ77: 80 | AK77: 80 | AL77: 88.42 | AM77: 78 | AN77: 73 | AO77: 87 | AP77: 80 | AQ77: 82 | AR77: 84.08 | AS77: 75 | AT77: 76 | AU77: 85 | AV77: 83 | AW77: 83 | AX77: 84.92 | AY77: 77 | AZ77: 78 | BA77: 77 | BB77: 81 | BC77: 80 | BD77: 83 | BE77: 85 | BF77: 75 | BG77: 83 | BH77: 75 | BI77: 83 | BJ77: 84.17 | BK77: 1BGB9sONi0ZVM0sDcUP6JYENjc0RRcSJx | BL77: https://drive.google.com/file/d/1BGB9sONi0ZVM0sDcUP6JYENjc0RRcSJx/view?usp=drivesdk | BM77: 0083 BUKTI PENDAFTARAN ALVIN SYAPUTRA PPDB 2022 | BN77: Document successfully created; Document successfully merged; PDF created; Emails Sent: [To: alvinsyaputra2007@gmail.com]; Run via form trigger as ppdbsman1kjm@gmail.com; Timestamp: Jun 18 2022 11:41 PM | BO77: 88.42 | BP77: 84.08 | BQ77: 84.92 | BR77: 83 | BS77: 84.17 | BT77: =SUM(BO77:BS77) -> 424.59 | BU77: IPA | CF77: 71
A78: SU | B78: 81 | C78: 029 RANTAU | D78: 0071015308 | E78: NAYLA DERA RAMADHANI | F78: P | G78: Jamur Labu | H78: RANTAU | I78: Aceh Tamiang | J78: 1116084110070005 | K78: SMP NEGERI 4 KEJURUAN MUDA | L78: IPA | M78: IPA | N78: naylaramadhani588@gmail.com | O78: 1116082611080003 | P78: ACEH TAMIANG | Q78: 39356 | R78: Perempuan | S78: LUSMIN | T78: RATNA WATI | V78: 082361753484 | W78: Jamur Labu | X78: RANTAU | Y78: Aceh Tamiang | Z78: 2 | AA78: SMP NEGERI 4 KEJURUAN MUDA | AB78: 2022 | AC78: ZONASI | AD78: MIPA (Matematika Ilmu Pengetahuan Alam) | AE78: MIPA (Matematika Ilmu Pengetahuan Alam) | AF78: 085270820207 | AG78: 79 | AH78: 88 | AI78: 81 | AJ78: 87 | AK78: 89 | AL78: 87.25 | AM78: 81 | AN78: 81 | AO78: 79 | AP78: 83 | AQ78: 88 | AR78: 85.67 | AS78: 76 | AT78: 76 | AU78: 77 | AV78: 77 | AW78: 79 | AX78: 81.67 | AY78: 81 | AZ78: 91 | BA78: 90 | BB78: 85 | BC78: 86 | BD78: 84.5 | BE78: 80 | BF78: 85 | BG78: 82 | BH78: 80 | BI78: 82 | BJ78: 85.42 | BK78: 1zugN8xdWfywNosNGWhb7BdNB8dnXuNed | BL78: https://drive.google.com/file/d/1zugN8xdWfywNosNGWhb7BdNB8dnXuNed/view?usp=drivesdk | BM78: 0048 BUKTI PENDAFTARAN NAYLA DERA RAMADHANI PPDB 2022 | BN78: Document successfully created; Document successfully merged; PDF created; Emails Sent: [To: naylaramadhani588@gmail.com]; Run via form trigger as ppdbsman1kjm@gmail.com; Timestamp: Jun 18 2022 10:22 PM | BO78: 87.25 | BP78: 85.67 | BQ78: 81.67 | BR78: 84.5 | BS78: 85.42 | BT78: =SUM(BO78:BS78) -> 424.51 | BU78: IPA | CF78: 72
A79: SU | B79: 82 | C79: 065 RANTAU | D79: 0075610229 | E79: NASHWA FRIJUA | F79: P | G79: Rantau Pauh | H79: RANTAU | I79: Aceh Tamiang | J79: 1116085907070001 | K79: SMP SWASTA DHARMA PATRA RANTAU | L79: IPA | M79: IPS | N79: Nazwaksp1@gmail.com | O79: 1116080508110001 | P79: ACEH TAMIANG | Q79: 39282 | R79: Perempuan | S79: Alm. Mizwar | T79: Derita Fitriani | U79: Derita Fitriani | V79: 082165675401 | W79: Rantau Pauh | X79: RANTAU | Y79: Aceh Tamiang | Z79: 2 | AA79: SMP SWASTA DHARMA PATRA RANTAU | AB79: 2022 | AC79: ZONASI | AD79: MIPA (Matematika Ilmu Pengetahuan Alam) | AE79: IIS ( Ilmu-ilmu Sosial) | AF79: 082161439477 | AG79: 80 | AH79: 86 | AI79: 74 | AJ79: 76 | AK79: 87 | AL79: 88.42 | AM79: 80 | AN79: 85 | AO79: 82 | AP79: 80 | AQ79: 81 | AR79: 86.33 | AS79: 80 | AT79: 80 | AU79: 75 | AV79: 81 | AW79: 80 | AX79: 82.67 | AY79: 80 | AZ79: 84 | BA79: 82 | BB79: 75 | BC79: 82 | BD79: 82.58 | BE79: 82 | BF79: 87 | BG79: 81 | BH79: 83 | BI79: 79 | BJ79: 84.5 | BK79: 1s5GYH7TbVuFQQMO2tGdV_WR5wcgaH6Vr | BL79: https://drive.google.com/file/d/1s5GYH7TbVuFQQMO2tGdV_WR5wcgaH6Vr/view?usp=drivesdk | BM79: 0311 BUKTI PENDAFTARAN NASHWA FRIJUA PPDB 2022 | BN79: Document successfully created; Document successfully merged; PDF created; !!Error Sending Emails: Layanan terlalu sering diminta di hari yang sama: email.; Run via form trigger as ppdbsman1kjm@gmail.com; Timestamp: Jun 19 2022 11:28 AM | BO79: 88.42 | BP79: 86.33 | BQ79: 82.67 | BR79: 82.58 | BS79: 84.5 | BT79: =SUM(BO79:BS79) -> 424.5 | BU79: IPA | CF79: 73
A80: MA | B80: 83 | C80: 039 KSP | D80: 0079992295 | E80: BEYLA SERVI LESTARI | F80: P | G80: Perdamaian | H80: KUALASIMPANG | I80: Aceh Tamiang | J80: 1116056610070001 | K80: SMPN 2 KUALASIMPANG | L80: IPA | M80: IPA | N80: bellaajja08062@gmail.c0m | O80: 1116051401080027 | P80: PERBAUNGAN | Q80: 39381 | R80: Perempuan | S80: BAMBANG SUHARNO | T80: LASINAH | U80: BAMBANG SUHARNO | V80: 081279952202 | W80: Perdamaian | X80: KUALASIMPANG | Y80: Aceh Tamiang | Z80: 1 | AA80: SMPN 2 KUALASIMPANG | AB80: 2022 | AC80: PRESTASI | AD80: MIPA (Matematika Ilmu Pengetahuan Alam) | AE80: MIPA (Matematika Ilmu Pengetahuan Alam) | AF80: 081260583300 | AG80: 89 | AH80: 89 | AI80: 84 | AJ80: 82 | AK80: 80 | AL80: 88.25 | AM80: 91 | AN80: 90 | AO80: 82 | AP80: 86 | AQ80: 93 | AR80: 88.58 | AS80: 82 | AT80: 83 | AU80: 81 | AV80: 83 | AW80: 77 | AX80: 80.33 | AY80: 85 | AZ80: 87 | BA80: 70 | BB80: 84 | BC80: 92 | BD80: 83.83 | BE80: 93 | BF80: 85 | BG80: 78 | BH80: 77 | BI80: 80 | BJ80: 82.75 | BK80: 1cvT_ttDRT5I-RfBjIOCZ2mOab2Oh4nuE | BL80: https://drive.google.com/file/d/1cvT_ttDRT5I-RfBjIOCZ2mOab2Oh4nuE/view?usp=drivesdk | BM80: 0681 BUKTI PENDAFTARAN BEYLA SERVI LESTARI PPDB 2022 | BN80: Document successfully created; Document successfully merged; PDF created; Emails Sent: [To: bellaajja08062@gmail.c0m]; Run via form trigger as ppdbsman1kjm@gmail.com; Timestamp: Jun 20 2022 11:27 PM | BO80: 88.25 | BP80: 88.58 | BQ80: 80.33 | BR80: 83.83 | BS80: 82.75 | BT80: =SUM(BO80:BS80) -> 423.74 | BU80: IPA | BV80: PSYVOC | BW80: G3KYZF | CF80: 74
A81: SU | B81: 84 | C81: 030 RANTAU | D81: 0073566112 | E81: NAJWA ASYRA | F81: P | G81: Pertamina | H81: RANTAU | I81: Aceh Tamiang | J81: 1116084904070001 | K81: MTS ULUMUL QUR'AN LANGSA | L81: IPA | M81: IPS | N81: dewi.nayaksp@gmail.com | O81: 1116082605110003 | P81: RANTAU | Q81: 39181 | R81: Perempuan | S81: Fitdiansyah | T81: Dewi andriani | V81: 085260352021 | W81: Pertamina | X81: RANTAU | Y81: Aceh Tamiang | Z81: 1 | AA81: MTS ULUMUL QUR'AN LANGSA | AB81: 2022 | AC81: ZONASI | AD81: MIPA (Matematika Ilmu Pengetahuan Alam) | AE81: IIS ( Ilmu-ilmu Sosial) | AF81: 081260539526 | AG81: 83 | AH81: 87 | AI81: 84 | AJ81: 85 | AK81: 79 | AL81: 83.6 | AM81: 85 | AN81: 83 | AO81: 90 | AP81: 90 | AQ81: 85 | AR81: 86.4 | AS81: 83 | AT81: 85 | AU81: 87 | AV81: 86 | AW81: 83 | AX81: 84.8 | AY81: 77 | AZ81: 78 | BA81: 82 | BB81: 82 | BC81: 83 | BD81: 80.4 | BE81: 86 | BF81: 87 | BG81: 88 | BH81: 88 | BI81: 90 | BJ81: 87.8 | BK81: 1FDs7of7XRe6-T9v3LSg1AIqEXx78ZfKH | BL81: https://drive.google.com/file/d/1FDs7of7XRe6-T9v3LSg1AIqEXx78ZfKH/view?usp=drivesdk | BM81: 0128 BUKTI PENDAFTARAN NAJWA ASYRA PPDB 2022 | BN81: Document successfully created; Document successfully merged; PDF created; Emails Sent: [To: dewi.nayaksp@gmail.com]; Run via form trigger as ppdbsman1kjm@gmail.com; Timestamp: Jun 19 2022 1:11 AM | BO81: 83.6 | BP81: 86.4 | BQ81: 84.8 | BR81: 80.4 | BS81: 87.8 | BT81: =SUM(BO81:BS81) -> 423 | BU81: IPA | BX81: SD SWASTA DHARMA PATRA RANTAU | CF81: 75
A82: YA | B82: 85 | C82: 068 RANTAU | D82: 0073399617 | E82: NAURA ALZAHRA | F82: P | G82: Rantau Pauh | H82: RANTAU | I82: Aceh Tamiang | J82: 1116056811070001 | K82: SMP SWASTA DHARMA PATRA RANTAU | L82: IPA | M82: IPA | N82: nauraaalzahra2022@gmail.com | O82: 1116081408120005 | P82: KUALASIMPANG | Q82: 39414 | R82: Perempuan | S82: SANUSI | T82: YENI ABDRIANI | V82: 082370880976 | W82: Rantau Pauh | X82: RANTAU | Y82: Aceh Tamiang | Z82: 1 | AA82: SMP SWASTA DHARMA PATRA RANTAU | AB82: 2022 | AC82: ZONASI | AD82: MIPA (Matematika Ilmu Pengetahuan Alam) | AE82: MIPA (Matematika Ilmu Pengetahuan Alam) | AF82: 081320311162 | AG82: 80 | AH82: 82 | AI82: 76 | AJ82: 79 | AK82: 83 | AL82: 88.25 | AM82: 75 | AN82: 79 | AO82: 81 | AP82: 80 | AQ82: 79 | AR82: 82.42 | AS82: 74 | AT82: 72 | AU82: 80 | AV82: 82 | AW82: 81 | AX82: 81.92 | AY82: 76 | AZ82: 78 | BA82: 82 | BB82: 83 | BC82: 80 | BD82: 84.42 | BE82: 83 | BF82: 80 | BG82: 81 | BH82: 83 | BI82: 83 | BJ82: 85.5 | BK82: 1ClLmtYau2YHK_dCg8v_bdf07CUk1NPS_ | BL82: https://drive.google.com/file/d/1ClLmtYau2YHK_dCg8v_bdf07CUk1NPS_/view?usp=drivesdk | BM82: 0321 BUKTI PENDAFTARAN NAURA ALZAHRA PPDB 2022 | BN82: Document successfully created; Document successfully merged; PDF created; Emails Sent: [To: nauraaalzahra2022@gmail.com]; Run via form trigger as ppdbsman1kjm@gmail.com; Timestamp: Jun 19 2022 9:06 PM | BO82: 88.25 | BP82: 82.42 | BQ82: 81.92 | BR82: 84.42 | BS82: 85.5 | BT82: =SUM(BO82:BS82) -> 422.51 | BU82: IPA | CF82: 76
A83: SU | B83: 86 | C83: 001 RANTAU | D83: 0071402746 | E83: ALIYA AGUSTINA SYAHARANI | F83: P | G83: Alur Cucur | H83: RANTAU | I83: Aceh Tamiang | J83: 1116085608070001 | K83: MUQ LANGSA | L83: IPA | M83: IPA | N83: aliyaagustina168@gmail.com | O83: 1116080709070003 | P83: RANTAU | Q83: 39310 | R83: Perempuan | S83: Harianto | T83: Auliyah | V83: 085224962167 | W83: Alur Cucur | X83: RANTAU | Y83: Aceh Tamiang | Z83: 2 | AA83: MUQ LANGSA | AB83: 2022 | AC83: ZONASI | AD83: MIPA (Matematika Ilmu Pengetahuan Alam) | AE83: MIPA (Matematika Ilmu Pengetahuan Alam) | AF83: 082259293658 | AG83: 90 | AH83: 88 | AI83: 90 | AJ83: 90 | AK83: 92 | AL83: 90 | AM83: 85 | AN83: 84 | AO83: 74 | AP83: 82 | AQ83: 90 | AR83: 83 | AS83: 88 | AT83: 90 | AU83: 79 | AV83: 81 | AW83: 85 | AX83: 82 | AY83: 86 | AZ83: 87 | BA83: 79 | BB83: 80 | BC83: 84 | BD83: 83 | BE83: 87 | BF83: 87 | BG83: 88 | BH83: 90 | BI83: 84 | BJ83: 84 | BK83: 1lOwA78mm69La_eNFSW6m5MhQ9U9Ipii0 | BL83: https://drive.google.com/file/d/1lOwA78mm69La_eNFSW6m5MhQ9U9Ipii0/view?usp=drivesdk | BM83: 0105 BUKTI PENDAFTARAN ALIYA AGUSTINA SYAHARANI PPDB 2022 | BN83: Document successfully created; Document successfully merged; PDF created; Emails Sent: [To: aliyaagustina168@gmail.com]; Run via form trigger as ppdbsman1kjm@gmail.com; Timestamp: Jun 19 2022 12:24 AM | BO83: 90 | BP83: 83 | BQ83: 82 | BR83: 83 | BS83: 84 | BT83: =SUM(BO83:BS83) -> 422 | BU83: IPA | BX83: SD NEGERI 1 RANTAU | CF83: 77
A84: MA | B84: 88 | C84: 067 KSP | D84: 0066021371 | E84: NONA SILVIA | F84: P | G84: Landuh | H84: KUALASIMPANG | I84: Aceh Tamiang | J84: 1116055711060003 | K84: SMP NEGERI 1 KUALA SIMPANG | L84: IPA | M84: IPA | N84: nonaselvia19@gmail.com | O84: 1116050603080020 | P84: KARANG BARU | Q84: 39038 | R84: Perempuan | S84: Basaruddin | T84: Nurma Yunita | U84: Yusniar | V84: 082255844517 | W84: Landuh | X84: KUALASIMPANG | Y84: Aceh Tamiang | Z84: 3 | AA84: SMP NEGERI 1 KUALA SIMPANG | AB84: 2022 | AC84: ZONASI | AD84: MIPA (Matematika Ilmu Pengetahuan Alam) | AE84: MIPA (Matematika Ilmu Pengetahuan Alam) | AF84: 082364362340 | AG84: 68 | AH84: 78.5 | AI84: 84 | AJ84: 86 | AK84: 93.5 | AL84: 87 | AM84: 65 | AN84: 61 | AO84: 83 | AP84: 95 | AQ84: 92 | AR84: 85 | AS84: 78 | AT84: 86.5 | AU84: 82 | AV84: 84 | AW84: 85.5 | AX84: 81 | AY84: 73 | AZ84: 76.5 | BA84: 77 | BB84: 95 | BC84: 85 | BD84: 82 | BE84: 74 | BF84: 81 | BG84: 88 | BH84: 75 | BI84: 89.5 | BJ84: 87 | BK84: 1iczdBhj8c4eEZx7RVAJdVADz0q_kR5PJ | BL84: https://drive.google.com/file/d/1iczdBhj8c4eEZx7RVAJdVADz0q_kR5PJ/view?usp=drivesdk | BM84: 0696 BUKTI PENDAFTARAN NONA SILVIA PPDB 2022 | BN84: Document successfully created; Document successfully merged; PDF created; Emails Sent: [To: nonaselvia19@gmail.com]; Run via form trigger as ppdbsman1kjm@gmail.com; Timestamp: Jun 21 2022 12:18 AM | BO84: 87 | BP84: 85 | BQ84: 81 | BR84: 82 | BS84: 87 | BT84: =SUM(BO84:BS84) -> 422 | BU84: IPA | CF84: 78
A85: YA | B85: 89 | C85: 141 RANTAU | D85: 0077448832 | E85: NURUL SYAFIRA | F85: P | G85: Benua Raja | H85: RANTAU | I85: Aceh Tamiang | J85: 1116085809070002 | K85: SMP SWASTA ISLAM | L85: IPS | M85: IPS | N85: evaksp22@gmail.com | O85: 1116082611070004 | P85: ACEH TAMIANG | Q85: 39343 | R85: Perempuan | S85: M.SYAHLAN | T85: IRPAYANTI | V85: 081360208657 | W85: Benua Raja | X85: RANTAU | Y85: Aceh Tamiang | Z85: 1 | AA85: SMP SWASTA ISLAM | AB85: 2022 | AC85: ZONASI | AD85: IIS ( Ilmu-ilmu Sosial) | AE85: IIS ( Ilmu-ilmu Sosial) | AF85: 081371438814 | AG85: 85.0 | AH85: 88.0 | AI85: 90.0 | AJ85: 85 | AK85: 92 | AL85: 89.67 | AM85: 77.0 | AN85: 82.0 | AO85: 90.0 | AP85: 82 | AQ85: 88 | AR85: 84.93 | AS85: 85.0 | AT85: 83.0 | AU85: 91.0 | AV85: 91 | AW85: 78 | AX85: 78.93 | AY85: 78.0 | AZ85: 86.0 | BA85: 93.0 | BB85: 80 | BC85: 85 | BD85: 82.49 | BE85: 74.0 | BF85: 82.0 | BG85: 95.0 | BH85: 90 | BI85: 90 | BJ85: 85.75 | BK85: 1X7jPfIrKgZsvojymxxlIa7u5IFAuxY3d | BL85: https://drive.google.com/file/d/1X7jPfIrKgZsvojymxxlIa7u5IFAuxY3d/view?usp=drivesdk | BM85: 0443 BUKTI PENDAFTARAN NURUL SYAFIRA PPDB 2022 | BN85: Document successfully created; Document successfully merged; PDF created; !!Error Sending Emails: Layanan terlalu sering diminta di hari yang sama: email.; Run via form trigger as ppdbsman1kjm@gmail.com; Timestamp: Jun 19 2022 11:31 PM | BO85: 89.67 | BP85: 84.93 | BQ85: 78.93 | BR85: 82.49 | BS85: 85.75 | BT85: =SUM(BO85:BS85) -> 421.77 | BU85: IPS | CF85: 79
A86: MA | B86: 90 | C86: 040 KSP | D86: 0071668061 | E86: YUNNA TRI SELVI MULIANA | F86: P | G86: Sriwijaya | H86: KUALASIMPANG | I86: Aceh Tamiang | J86: 1116054106070001 | K86: SMPN 1 KUALASIMPANG | L86: IPA | M86: IPA | N86: bahariwsp@gmail.com | O86: 1116051710060153 | P86: KUALASIMPANG | Q86: 39234 | R86: Perempuan | S86: SYAMSUL BAHRI | T86: DEVI MAHDALENA | V86: 085260059991 | W86: Sriwijaya | X86: KUALASIMPANG | Y86: Aceh Tamiang | Z86: 3 | AA86: SMPN 1 KUALASIMPANG | AB86: 2022 | AC86: ZONASI | AD86: MIPA (Matematika Ilmu Pengetahuan Alam) | AE86: MIPA (Matematika Ilmu Pengetahuan Alam) | AF86: 085260059991 | AG86: 72 | AH86: 84 | AI86: 88 | AJ86: 95 | AK86: 85 | AL86: 88 | AM86: 78 | AN86: 79 | AO86: 80 | AP86: 88 | AQ86: 93 | AR86: 86 | AS86: 77 | AT86: 84 | AU86: 90 | AV86: 79 | AW86: 90 | AX86: 82.5 | AY86: 75 | AZ86: 78 | BA86: 84 | BB86: 73 | BC86: 81 | BD86: 79 | BE86: 72 | BF86: 81 | BG86: 85 | BH86: 90 | BI86: 87 | BJ86: 86 | BK86: 1URgsE7JEU12El9q7a459wGlFebe5jg33 | BL86: https://drive.google.com/file/d/1URgsE7JEU12El9q7a459wGlFebe5jg33/view?usp=drivesdk | BM86: 0668 BUKTI PENDAFTARAN YUNNA TRI SELVI MULIANA PPDB 2022 | BN86: Document successfully created; Document successfully merged; PDF created; Emails Sent: [To: bahariwsp@gmail.com]; Run via form trigger as ppdbsman1kjm@gmail.com; Timestamp: Jun 20 2022 10:37 PM | BO86: 88 | BP86: 86 | BQ86: 82.5 | BR86: 79 | BS86: 86 | BT86: =SUM(BO86:BS86) -> 421.5 | BU86: IPA | CF86: 80
A87: DW | B87: 91 | C87: 063 KSP | D87: 0076232443 | E87: SHIRIN AROUSA | F87: P | G87: Bukit Tempurung | H87: KUALASIMPANG | I87: Aceh Tamiang | J87: 1116055511070001 | K87: SMP ISLAM KUALA SIMPANG | L87: IPA | M87: IPA | N87: syarifahanumm1@gmail.com | O87: 1116052112060003 | P87: ACEH TAMIANG | Q87: 39401 | R87: Perempuan | S87: KHAIRUL AKLI | T87: SYARIFAH ANUM | V87: 081362814807 | W87: Bukit Tempurung | X87: KUALASIMPANG | Y87: Aceh Tamiang | Z87: 2 | AA87: SMP ISLAM KUALA SIMPANG | AB87: 2022 | AC87: ZONASI | AD87: MIPA (Matematika Ilmu Pengetahuan Alam) | AE87: MIPA (Matematika Ilmu Pengetahuan Alam) | AF87: 081362814807 | AG87: 80 | AH87: 84 | AI87: 70 | AJ87: 85 | AK87: 92 | AL87: 87 | AM87: 80 | AN87: 93 | AO87: 80 | AP87: 87 | AQ87: 88 | AR87: 85 | AS87: 88 | AT87: 86 | AU87: 86 | AV87: 86 | AW87: 80 | AX87: 82 | AY87: 83 | AZ87: 85 | BA87: 77 | BB87: 80 | BC87: 87 | BD87: 84 | BE87: 77 | BF87: 93 | BG87: 82 | BH87: 87 | BI87: 84 | BJ87: 83 | BK87: 1EExQ7yQO_YXYIucoLFUG62HBoKrV0Dgl | BL87: https://drive.google.com/file/d/1EExQ7yQO_YXYIucoLFUG62HBoKrV0Dgl/view?usp=drivesdk | BM87: 0725 BUKTI PENDAFTARAN SHIRIN AROUSA PPDB 2022 | BN87: Document successfully created; Document successfully merged; PDF created; Emails Sent: [To: syarifahanumm1@gmail.com]; Run via form trigger as ppdbsman1kjm@gmail.com; Timestamp: Jun 21 2022 4:59 AM | BO87: 87 | BP87: 85 | BQ87: 82 | BR87: 84 | BS87: 83 | BT87: =SUM(BO87:BS87) -> 421 | BU87: IPA | CF87: 81
A88: SU | B88: 93 | C88: 073 RANTAU | D88: 0073450886 | E88: M. SATRIA RIZKY RAHMADHAN HTB | F88: L | G88: Rantau Pauh | H88: RANTAU | I88: Aceh Tamiang | J88: 1116080405740001 | K88: SMP SWASTA DHARMA PATRA RANTAU | L88: IPA | M88: IPS | N88: satriariski94@gmail.com | O88: 1116080606070011 | P88: ACEH TAMIANG | Q88: 39359 | R88: Laki-laki | S88: ABDUL ANSARI HUTABARAT | T88: TRI GUNARSIH | V88: 081264302299 | W88: Rantau Pauh | X88: RANTAU | Y88: Aceh Tamiang | Z88: 3 | AA88: SMP SWASTA DHARMA PATRA RANTAU | AB88: 2021 | AC88: ZONASI | AD88: MIPA (Matematika Ilmu Pengetahuan Alam) | AE88: IIS ( Ilmu-ilmu Sosial) | AF88: 081361156209 | AG88: 78 | AH88: 80 | AI88: 74 | AJ88: 78 | AK88: 87 | AL88: 88.5 | AM88: 78 | AN88: 83 | AO88: 74 | AP88: 83 | AQ88: 85 | AR88: 85.08 | AS88: 71 | AT88: 71 | AU88: 75 | AV88: 74 | AW88: 83 | AX88: 80.5 | AY88: 76 | AZ88: 77 | BA88: 78 | BB88: 79 | BC88: 85 | BD88: 83.42 | BE88: 80 | BF88: 76 | BG88: 83 | BH88: 84 | BI88: 81 | BJ88: 83.25 | BK88: 1TSAfJhdeIBAauh8YnqYS_u-fPAFbHPuC | BL88: https://drive.google.com/file/d/1TSAfJhdeIBAauh8YnqYS_u-fPAFbHPuC/view?usp=drivesdk | BM88: 0292 BUKTI PENDAFTARAN M SATRIA RIZKY RAHMADHAN HTB PPDB 2022 | BN88: Document successfully created; Document successfully merged; PDF created; !!Error Sending Emails: Layanan terlalu sering diminta di hari yang sama: email.; Run via form trigger as ppdbsman1kjm@gmail.com; Timestamp: Jun 19 2022 9:54 AM | BO88: 88.5 | BP88: 85.08 | BQ88: 80.5 | BR88: 83.42 | BS88: 83.25 | BT88: =SUM(BO88:BS88) -> 420.75 | BU88: IPA | CF88: 82
A89: YA | B89: 94 | C89: 069 RANTAU | D89: 0076162252 | E89: MIFTAHUR RIZQA | F89: P | G89: Benua Raja | H89: RANTAU | I89: Aceh Tamiang | J89: 1116084507070002 | K89: SMPN 3 KEJURUAN MUDA | L89: IPA | M89: IPS | N89: aliyafadila40@gmail.com | O89: 1116080904210001 | P89: LANGSA | Q89: 39268 | R89: Perempuan | S89: JUMINGAN | T89: SRI WAHYUNI | U89: RUSLI BASYIR | V89: 082211715221 | W89: Benua Raja | X89: RANTAU | Y89: Aceh Tamiang | Z89: 2 | AA89: SMPN 3 KEJURUAN MUDA | AB89: 2022 | AC89: ZONASI | AD89: MIPA (Matematika Ilmu Pengetahuan Alam) | AE89: IIS ( Ilmu-ilmu Sosial) | AF89: 082281406886 | AG89: 89.00 | AH89: 82.00 | AI89: 78.00 | AJ89: 82.00 | AK89: 88.00 | AL89: 83.8 | AM89: 90.00 | AN89: 88.00 | AO89: 80.00 | AP89: 87.00 | AQ89: 88.00 | AR89: 86.6 | AS89: 86.00 | AT89: 83.00 | AU89: 85.00 | AV89: 85.00 | AW89: 85.00 | AX89: 84.8 | AY89: 90.00 | AZ89: 77.00 | BA89: 80.00 | BB89: 85.00 | BC89: 83.00 | BD89: 83 | BE89: 90.00 | BF89: 79.00 | BG89: 78.00 | BH89: 81.00 | BI89: 83.00 | BJ89: 82.2 | BK89: 14cJgFm-bB7cy5uotKrYCWaaMS6nmWdbw | BL89: https://drive.google.com/file/d/14cJgFm-bB7cy5uotKrYCWaaMS6nmWdbw/view?usp=drivesdk | BM89: 0327 BUKTI PENDAFTARAN MIFTAHUR RIZQA PPDB 2022 | BN89: Document successfully created; Document successfully merged; PDF created; Emails Sent: [To: aliyafadila40@gmail.com]; Run via form trigger as ppdbsman1kjm@gmail.com; Timestamp: Jun 19 2022 9:17 PM | BO89: 83.8 | BP89: 86.6 | BQ89: 84.8 | BR89: 83 | BS89: 82.2 | BT89: =SUM(BO89:BS89) -> 420.4 | BU89: IPA | CF89: 83
A90: YA | B90: 95 | C90: 063 RANTAU | D90: 0076444542 | E90: MARSYA IWANI INDANA | F90: P | G90: Rantau Pauh | H90: RANTAU | I90: Aceh Tamiang | J90: 1116084710070002 | K90: SMP SWASTA DHARMA PATRA | L90: IPA | M90: IPS | N90: marsyaiwaniindana@gmail.com | O90: 1116081107070004 | P90: LANGSA | Q90: 39362 | R90: Perempuan | S90: MUHAMMAD NURSIRWAN KOTO | T90: RENI ANDRAINI | U90: MUHAMMAD NURSIRWAN KOTO | V90: 085270431013 | W90: Rantau Pauh | X90: RANTAU | Y90: Aceh Tamiang | Z90: 1 | AA90: SMP SWASTA DHARMA PATRA | AB90: 2022 | AC90: ZONASI | AD90: MIPA (Matematika Ilmu Pengetahuan Alam) | AE90: IIS ( Ilmu-ilmu Sosial) | AF90: 082292492910 | AG90: 78 | AH90: 82 | AI90: 83 | AJ90: 83 | AK90: 84 | AL90: 89.5 | AM90: 72 | AN90: 75 | AO90: 84 | AP90: 73 | AQ90: 79 | AR90: 81.5 | AS90: 76 | AT90: 76 | AU90: 78 | AV90: 78 | AW90: 81 | AX90: 81.25 | AY90: 75 | AZ90: 73 | BA90: 82 | BB90: 83 | BC90: 80 | BD90: 84.5 | BE90: 71 | BF90: 80 | BG90: 83 | BH90: 72 | BI90: 80 | BJ90: 83.5 | BK90: 1gVM2gbPv_qfi3ZZ0n-J7rjI7LAIILS-k | BL90: https://drive.google.com/file/d/1gVM2gbPv_qfi3ZZ0n-J7rjI7LAIILS-k/view?usp=drivesdk | BM90: 0328 BUKTI PENDAFTARAN MARSYA IWANI INDANA PPDB 2022 | BN90: Document successfully created; Document successfully merged; PDF created; Emails Sent: [To: marsyaiwaniindana@gmail.com]; Run via form trigger as ppdbsman1kjm@gmail.com; Timestamp: Jun 19 2022 9:19 PM | BO90: 89.5 | BP90: 81.5 | BQ90: 81.25 | BR90: 84.5 | BS90: 83.5 | BT90: =SUM(BO90:BS90) -> 420.25 | BU90: IPA | CF90: 84
A91: SU | B91: 97 | C91: 079 RANTAU | D91: 0075431018 | E91: AURELLIA MEYLIANSYA | F91: P | G91: Rantau Pauh | H91: RANTAU | I91: Aceh Tamiang | J91: 1116085605070001 | K91: SMP SWASTA DHARMA PATRA RANTAU | L91: IPA | M91: IPA | N91: a4yanamama@gmail.com | O91: 1116082706070010 | P91: RANTAU | Q91: 39218 | R91: Perempuan | S91: Syafrizal S.ST | T91: Herliana | V91: 081343118185 | W91: Rantau Pauh | X91: RANTAU | Y91: Aceh Tamiang | Z91: 1 | AA91: SMP SWASTA DHARMA PATRA RANTAU | AB91: 2022 | AC91: ZONASI | AD91: MIPA (Matematika Ilmu Pengetahuan Alam) | AE91: MIPA (Matematika Ilmu Pengetahuan Alam) | AF91: 081343118185 | AG91: 80 | AH91: 81 | AI91: 84 | AJ91: 86 | AK91: 83 | AL91: 82.8 | AM91: 83 | AN91: 85 | AO91: 86 | AP91: 83 | AQ91: 85 | AR91: 84.4 | AS91: 80 | AT91: 80 | AU91: 86 | AV91: 85 | AW91: 85 | AX91: 83.2 | AY91: 80 | AZ91: 81 | BA91: 81 | BB91: 84 | BC91: 92 | BD91: 83.6 | BE91: 81 | BF91: 85 | BG91: 85 | BH91: 90 | BI91: 84 | BJ91: 85 | BK91: 1WwdIlAf5RvKlJFq282Qgkdh9nUIhx98P | BL91: https://drive.google.com/file/d/1WwdIlAf5RvKlJFq282Qgkdh9nUIhx98P/view?usp=drivesdk | BM91: 0349 BUKTI PENDAFTARAN AURELLIA MEYLIANSYA PPDB 2022 | BN91: Document successfully created; Document successfully merged; PDF created; Emails Sent: [To: a4yanamama@gmail.com]; Run via form trigger as ppdbsman1kjm@gmail.com; Timestamp: Jun 19 2022 9:47 PM | BO91: 82.8 | BP91: 84.4 | BQ91: 83.2 | BR91: 83.6 | BS91: 85 | BT91: =SUM(BO91:BS91) -> 419 | BU91: IPA | CF91: 85
A92: SU | B92: 98 | C92: 038 RANTAU | D92: 0078333960 | E92: MUHAMMAD RASSYA | F92: L | G92: Rantau Pauh | H92: RANTAU | I92: Aceh Tamiang | J92: 1116083103070003 | K92: SMP SWASTA DHARMA PATRA RANTAU | L92: IPA | M92: IPA | N92: muhammadrassya3103@gmail.com | O92: 1116082509200002 | P92: RANTAU | Q92: 39172 | R92: Laki-laki | S92: Bambang Heriyanto | T92: Chairul Fadlah Nst | V92: 082199433928 | W92: Rantau Pauh | X92: RANTAU | Y92: Aceh Tamiang | Z92: 3 | AA92: SMP SWASTA DHARMA PATRA RANTAU | AB92: 2022 | AC92: ZONASI | AD92: MIPA (Matematika Ilmu Pengetahuan Alam) | AE92: MIPA (Matematika Ilmu Pengetahuan Alam) | AF92: 082199433928 | AG92: 78 | AH92: 81 | AI92: 74 | AJ92: 79 | AK92: 84 | AL92: 88.33 | AM92: 74 | AN92: 80 | AO92: 84 | AP92: 76 | AQ92: 82 | AR92: 82.25 | AS92: 73 | AT92: 73 | AU92: 80 | AV92: 74 | AW92: 82 | AX92: 81.75 | AY92: 75 | AZ92: 77 | BA92: 81 | BB92: 82 | BC92: 82 | BD92: 81 | BE92: 82 | BF92: 80 | BG92: 83 | BH92: 81 | BI92: 82 | BJ92: 85.33 | BK92: 1FfZClfytxgqh6BxJdf3CGkn8j094XP1E | BL92: https://drive.google.com/file/d/1FfZClfytxgqh6BxJdf3CGkn8j094XP1E/view?usp=drivesdk | BM92: 0084 BUKTI PENDAFTARAN MUHAMMAD RASSYA PPDB 2022 | BN92: Document successfully created; Document successfully merged; PDF created; Emails Sent: [To: muhammadrassya3103@gmail.com]; Run via form trigger as ppdbsman1kjm@gmail.com; Timestamp: Jun 18 2022 11:42 PM | BO92: 88.33 | BP92: 82.25 | BQ92: 81.75 | BR92: 81 | BS92: 85.33 | BT92: =SUM(BO92:BS92) -> 418.66 | BU92: IPA | CF92: 86
A93: DW | B93: 99 | C93: 095 KSP | D93: 0072363354 | E93: AZZUHRA WULANDARI | F93: P | G93: Kota Kualasimpang | H93: KUALASIMPANG | I93: Aceh Tamiang | J93: 1116054911070001 | K93: MADRASAH TSANAWIYAH AL FUAD | L93: IPA | M93: IPS | N93: azzuhrawulandari@gmail.com | O93: 1116052401051685 | P93: KUALA SIMPANG | Q93: 39395 | R93: Perempuan | S93: ENDING SUBIAKTO | T93: RATNA WATI | V93: 082294901599 | W93: Kota Kualasimpang | X93: KUALASIMPANG | Y93: Aceh Tamiang | Z93: 4 | AA93: MADRASAH TSANAWIYAH AL FUAD | AB93: 2022 | AC93: ZONASI | AD93: MIPA (Matematika Ilmu Pengetahuan Alam) | AE93: IIS ( Ilmu-ilmu Sosial) | AF93: 085361616435 | AG93: 84 | AH93: 83 | AI93: 84 | AJ93: 84 | AK93: 87 | AL93: =AVERAGE(AG93:AK93) -> 84.4 | AM93: 85 | AN93: 85 | AO93: 84 | AP93: 86 | AQ93: 84 | AR93: =AVERAGE(AM93:AQ93) -> 84.8 | AS93: 83 | AT93: 83 | AU93: 83 | AV93: 83 | AW93: 80 | AX93: =AVERAGE(AS93:AW93) -> 82.4 | AY93: 83 | AZ93: 84 | BA93: 82 | BB93: 83 | BC93: 82 | BD93: =AVERAGE(AY93:BC93) -> 82.8 | BE93: 83 | BF93: 85 | BG93: 83 | BH93: 85 | BI93: 85 | BJ93: =AVERAGE(BE93:BI93) -> 84.2 | BK93: 1BQjLG5Dcgsy7TZj9DvF_2zbw4Jb1iFuP | BL93: https://drive.google.com/file/d/1BQjLG5Dcgsy7TZj9DvF_2zbw4Jb1iFuP/view?usp=drivesdk | BM93: =HYPERLINK("https://drive.google.com/file/d/1BQjLG5Dcgsy7TZj9DvF_2zbw4Jb1iFuP/view?usp=drivesdk","0821 BUKTI PENDAFTARAN AZZUHRA WULANDARI PPDB 2022") -> 0821 BUKTI PENDAFTARAN AZZUHRA WULANDARI PPDB 2022 | BN93: Document successfully created; Document successfully merged; PDF created; Emails Sent: [To: azzuhrawulandari@gmail.com]; Run via form trigger as ppdbsman1kjm@gmail.com; Timestamp: Jun 28 2022 11:59 AM | BO93: 84.4 | BP93: 84.8 | BQ93: 82.4 | BR93: 82.8 | BS93: 84.2 | BT93: =SUM(BO93:BS93) -> 418.6 | BU93: IPA | CF93: 87
A94: YA | B94: 100 | C94: 082 RANTAU | D94: 0078097056 | E94: FADHAL HIBATULLAH | F94: L | G94: Alur Cucur | H94: RANTAU | I94: Aceh Tamiang | J94: 1116082508070001 | K94: SMPS DHARMA PATRA | L94: IPA | M94: IPA | N94: fadhalhibatullah@gmail.com | O94: 1116080709070004 | P94: RANTAU | Q94: 39319 | R94: Laki-laki | S94: Slamet Rianto | T94: Novika | V94: 085362246841 | W94: Alur Cucur | X94: RANTAU | Y94: Aceh Tamiang | Z94: 1 | AA94: SMPS DHARMA PATRA | AB94: 2022 | AC94: ZONASI | AD94: MIPA (Matematika Ilmu Pengetahuan Alam) | AE94: MIPA (Matematika Ilmu Pengetahuan Alam) | AF94: 082370645675 | AG94: 79 | AH94: 82 | AI94: 74 | AJ94: 72 | AK94: 79 | AL94: 81.17 | AM94: 85 | AN94: 85 | AO94: 85 | AP94: 78 | AQ94: 81 | AR94: 85.83 | AS94: 77 | AT94: 78 | AU94: 80 | AV94: 78 | AW94: 82 | AX94: 83.17 | AY94: 75 | AZ94: 76 | BA94: 77 | BB94: 80 | BC94: 81 | BD94: 82.25 | BE94: 85 | BF94: 80 | BG94: 85 | BH94: 83 | BI94: 80 | BJ94: 85.75 | BK94: 18bfYTP9pzKBJT2_5cVjuSdyR-LLUVaij | BL94: https://drive.google.com/file/d/18bfYTP9pzKBJT2_5cVjuSdyR-LLUVaij/view?usp=drivesdk | BM94: 0331 BUKTI PENDAFTARAN FADHAL HIBATULLAH PPDB 2022 | BN94: Document successfully created; Document successfully merged; PDF created; Emails Sent: [To: fadhalhibatullah@gmail.com]; Run via form trigger as ppdbsman1kjm@gmail.com; Timestamp: Jun 19 2022 9:24 PM | BO94: 81.17 | BP94: 85.83 | BQ94: 83.17 | BR94: 82.25 | BS94: 85.75 | BT94: =SUM(BO94:BS94) -> 418.17 | BU94: IPA | CF94: 88
A95: YA | B95: 101 | C95: 123 RANTAU | D95: 0075476704 | E95: JIHAN BALQIS SYAFIKAH | F95: P | G95: Jamur Labu | H95: RANTAU | I95: Aceh Tamiang | J95: 1116085003070001 | K95: SMP TAHFIDZ MISBAHUR RASYAD AL-AZIZIYAH | L95: IPA | M95: IPS | N95: jihanbalqissyafikah@gmail.com | O95: 1116082303070012 | P95: STABAT LAMA | Q95: 39151 | R95: Perempuan | S95: SUGIARTO | T95: UMI WULAN SARI | V95: 082362388069 | W95: Jamur Labu | X95: RANTAU | Y95: Aceh Tamiang | Z95: 1 | AA95: SMP TAHFIDZ MISBAHUR RASYAD AL-AZIZIYAH | AB95: 2022 | AC95: ZONASI | AD95: MIPA (Matematika Ilmu Pengetahuan Alam) | AE95: IIS ( Ilmu-ilmu Sosial) | AF95: 082260091702 | AG95: 80 | AH95: 83 | AI95: 82 | AJ95: 82 | AK95: 84 | AL95: 81.08 | AM95: 82 | AN95: 83 | AO95: 82 | AP95: 84 | AQ95: 83 | AR95: 79.75 | AS95: 80 | AT95: 80 | AU95: 70 | AV95: 78 | AW95: 76 | AX95: 84.67 | AY95: 82 | AZ95: 85 | BA95: 83 | BB95: 85 | BC95: 88 | BD95: 85.42 | BE95: 85 | BF95: 86 | BG95: 84 | BH95: 88 | BI95: 80 | BJ95: 87.08 | BK95: 17jEcAXh0Qrcx_QQPoCxRZcb5eusQXve2 | BL95: https://drive.google.com/file/d/17jEcAXh0Qrcx_QQPoCxRZcb5eusQXve2/view?usp=drivesdk | BM95: 0663 BUKTI PENDAFTARAN JIHAN BALQIS SYAFIKAH PPDB 2022 | BN95: Document successfully created; Document successfully merged; PDF created; Emails Sent: [To: jihanbalqissyafikah@gmail.com]; Run via form trigger as ppdbsman1kjm@gmail.com; Timestamp: Jun 20 2022 10:14 PM | BO95: 81.08 | BP95: 79.75 | BQ95: 84.67 | BR95: 85.42 | BS95: 87.08 | BT95: =SUM(BO95:BS95) -> 418 | BU95: IPA | CF95: 89
A96: YA | B96: 102 | C96: 105 RANTAU | D96: 0072918981 | E96: JAUHARA AZZAHIRAH YUMNA | F96: P | G96: Rantau Pauh | H96: RANTAU | I96: Aceh Tamiang | J96: 1271026307070002 | K96: SMP SWASTA DHARMA PATRA | L96: IPA | M96: IPA | N96: elainatps@gmail.com | O96: 1116080608070014 | P96: MEDAN | Q96: 39286 | R96: Perempuan | S96: HERMAN ST | T96: ADMALA SARI DEWI | V96: 082167679492 | W96: Rantau Pauh | X96: RANTAU | Y96: Aceh Tamiang | Z96: 1 | AA96: SMP SWASTA DHARMA PATRA | AB96: 2022 | AC96: ZONASI | AD96: MIPA (Matematika Ilmu Pengetahuan Alam) | AE96: MIPA (Matematika Ilmu Pengetahuan Alam) | AF96: 082361790506 | AG96: 79 | AH96: 82 | AI96: 74 | AJ96: 74 | AK96: 82 | AL96: 85.08 | AM96: 82 | AN96: 80 | AO96: 82 | AP96: 83 | AQ96: 80 | AR96: 83.67 | AS96: 75 | AT96: 75 | AU96: 86 | AV96: 80 | AW96: 81 | AX96: 83.08 | AY96: 77 | AZ96: 78 | BA96: 82 | BB96: 83 | BC96: 88 | BD96: 83.33 | BE96: 82 | BF96: 80 | BG96: 81 | BH96: 73 | BI96: 80 | BJ96: 82 | BK96: 1tCjg44k2UF9cJ4MK9KgqgbhQ4x-pjG8P | BL96: https://drive.google.com/file/d/1tCjg44k2UF9cJ4MK9KgqgbhQ4x-pjG8P/view?usp=drivesdk | BM96: 0184 BUKTI PENDAFTARAN JAUHARA AZZAHIRAH YUMNA PPDB 2022 | BN96: Document successfully created; Document successfully merged; PDF created; !!Error Sending Emails: Layanan terlalu sering diminta di hari yang sama: email.; Run via form trigger as ppdbsman1kjm@gmail.com; Timestamp: Jun 19 2022 3:15 AM | BO96: 85.08 | BP96: 83.67 | BQ96: 83.08 | BR96: 83.33 | BS96: 82 | BT96: =SUM(BO96:BS96) -> 417.16 | BU96: IPA | CF96: 90
A97: SU | B97: 103 | C97: 015 RANTAU | D97: 0078777351 | E97: DIZKA AMELIA | F97: P | G97: Alur Cucur | H97: RANTAU | I97: Aceh Tamiang | J97: 1116084503070005 | K97: SMP SWASTA DHARMA PATRA | L97: IPA | M97: IPA | N97: ameliadizka@gmail.com | O97: 1.1160809e+15 | P97: TANJUNG KARANG | Q97: 39146 | R97: Perempuan | S97: ADI HERMAWAN | T97: MASNUN ARISKA | V97: 085270732674 | W97: Alur Cucur | X97: RANTAU | Y97: Aceh Tamiang | Z97: 1 | AA97: SMP SWASTA DHARMA PATRA | AB97: 2022 | AC97: ZONASI | AD97: MIPA (Matematika Ilmu Pengetahuan Alam) | AE97: MIPA (Matematika Ilmu Pengetahuan Alam) | AF97: 082274832502 | AG97: 80 | AH97: 85 | AI97: 72 | AJ97: 78 | AK97: 85 | AL97: 87.67 | AM97: 75 | AN97: 79 | AO97: 82 | AP97: 75 | AQ97: 79 | AR97: 81.58 | AS97: 75 | AT97: 75 | AU97: 86 | AV97: 74 | AW97: 82 | AX97: 83 | AY97: 76 | AZ97: 80 | BA97: 83 | BB97: 77 | BC97: 88 | BD97: 82.42 | BE97: 71 | BF97: 75 | BG97: 83 | BH97: 83 | BI97: 82 | BJ97: 82.42 | BK97: 1FiWlIKr2ou-jPZBsIAUvvh_ddHFaBqmv | BL97: https://drive.google.com/file/d/1FiWlIKr2ou-jPZBsIAUvvh_ddHFaBqmv/view?usp=drivesdk | BM97: 0115 BUKTI PENDAFTARAN DIZKA AMELIA PPDB 2022 | BN97: Document successfully created; Document successfully merged; PDF created; !!Error Sending Emails: Layanan terlalu sering diminta di hari yang sama: email.; Run via form trigger as ppdbsman1kjm@gmail.com; Timestamp: Jun 19 2022 12:41 AM | BO97: 87.67 | BP97: 81.58 | BQ97: 83 | BR97: 82.42 | BS97: 82.42 | BT97: =SUM(BO97:BS97) -> 417.09 | BU97: IPA | CF97: 91
A98: YA | B98: 104 | C98: 087 RANTAU | D98: 0076024110 | E98: FATHURRAHMAN AL-HAFIZH | F98: L | G98: Komplek Pertamina | H98: RANTAU | I98: Aceh Tamiang | J98: 1116080109070001 | K98: MTS MADRASAH ULUMUL QURAN | L98: IPA | M98: IPA | N98: faturrahman01009@gmail.com | O98: 1116082609070004 | P98: RANTAU | Q98: 39326 | R98: Laki-laki | S98: SABARIMAN | T98: TRI ASTUTI | V98: 085275992278 | W98: Komplek Pertamina | X98: RANTAU | Y98: Aceh Tamiang | Z98: 2 | AA98: MTS MADRASAH ULUMUL QURAN | AB98: 2022 | AC98: ZONASI | AD98: MIPA (Matematika Ilmu Pengetahuan Alam) | AE98: MIPA (Matematika Ilmu Pengetahuan Alam) | AF98: 082274071965 | AG98: 83 | AH98: 84 | AI98: 84 | AJ98: 84 | AK98: 89 | AL98: 85 | AM98: 84 | AN98: 81 | AO98: 92 | AP98: 92 | AQ98: 85 | AR98: 83 | AS98: 84 | AT98: 90 | AU98: 83 | AV98: 85 | AW98: 81 | AX98: 82 | AY98: 86 | AZ98: 88 | BA98: 88 | BB98: 88 | BC98: 87 | BD98: 84 | BE98: 83 | BF98: 83 | BG98: 87 | BH98: 87 | BI98: 87 | BJ98: 83 | BK98: 1htKne03Vw3Pkf6Ui37WEK0O2duBo1iC5 | BL98: https://drive.google.com/file/d/1htKne03Vw3Pkf6Ui37WEK0O2duBo1iC5/view?usp=drivesdk | BM98: 0247 BUKTI PENDAFTARAN FATHURRAHMAN AL HAFIZH PPDB 2022 | BN98: Document successfully created; Document successfully merged; PDF created; !!Error Sending Emails: Layanan terlalu sering diminta di hari yang sama: email.; Run via form trigger as ppdbsman1kjm@gmail.com; Timestamp: Jun 19 2022 7:27 AM | BO98: 85 | BP98: 83 | BQ98: 82 | BR98: 84 | BS98: 83 | BT98: =SUM(BO98:BS98) -> 417 | BU98: IPA | CF98: 92
A99: SU | B99: 105 | C99: 140 RANTAU | D99: 0069547194 | E99: SAFINATUN HAJJAH | F99: P | G99: Landuh | H99: RANTAU | I99: Aceh Tamiang | J99: 1116086408060001 | K99: SMP NEGERI 1 KUALA SIMPANG | L99: IPS | M99: IPS | N99: safinatun57@gmail.com | O99: 1.1160827e+15 | P99: LANDUH | Q99: 38953 | R99: Perempuan | S99: IBRAHIM | T99: SUMARNI | U99: SUMARNI | V99: 085263176389 | W99: Landuh | X99: RANTAU | Y99: Aceh Tamiang | Z99: 4 | AA99: SMP NEGERI 1 KUALA SIMPANG | AB99: 2022 | AC99: ZONASI | AD99: IIS ( Ilmu-ilmu Sosial) | AE99: IIS ( Ilmu-ilmu Sosial) | AF99: 085263176389 | AG99: 73 | AH99: 80 | AI99: 77 | AJ99: 85 | AK99: 88 | AL99: 85.92 | AM99: 64 | AN99: 70 | AO99: 72 | AP99: 82 | AQ99: 85 | AR99: 81.67 | AS99: 66 | AT99: 84 | AU99: 73 | AV99: 76 | AW99: 73 | AX99: 80 | AY99: 66 | AZ99: 73 | BA99: 73 | BB99: 73 | BC99: 82 | BD99: 84.75 | BE99: 66 | BF99: 78 | BG99: 74 | BH99: 75 | BI99: 79 | BJ99: 84.07 | BK99: 1_8z64ZVLSKjvkucElFnsyQb6x6zYGtPN | BL99: https://drive.google.com/file/d/1_8z64ZVLSKjvkucElFnsyQb6x6zYGtPN/view?usp=drivesdk | BM99: 0379 BUKTI PENDAFTARAN SAFINATUN HAJJAH PPDB 2022 | BN99: Document successfully created; Document successfully merged; PDF created; Emails Sent: [To: safinatun57@gmail.com]; Run via form trigger as ppdbsman1kjm@gmail.com; Timestamp: Jun 19 2022 10:16 PM | BO99: 85.92 | BP99: 81.67 | BQ99: 80 | BR99: 84.75 | BS99: 84.07 | BT99: =SUM(BO99:BS99) -> 416.41 | BU99: IPS | BV99: 6034948875543818 | BW99: 6034949101913833 | CF99: 93
A100: MA | B100: 106 | C100: 022 KSP | D100: 0075424061 | E100: AHMAD IQBAL | F100: L | G100: Kotalintang | H100: KUALASIMPANG | I100: Aceh Tamiang | J100: 1116052504070001 | K100: SMP MUHAMMADIYAH KUALASIMPANG | L100: IPA | M100: IPA | N100: balltzy9@gmail.com | O100: 1116052401052755 | P100: KARANG BARU | Q100: 39197 | R100: Laki-laki | S100: Yusra Sabirin | T100: Almh. Fardiah | V100: 081375944432 | W100: Kotalintang | X100: KUALASIMPANG | Y100: Aceh Tamiang | Z100: 5 | AA100: SMP MUHAMMADIYAH KUALASIMPANG | AB100: 2022 | AC100: ZONASI | AD100: MIPA (Matematika Ilmu Pengetahuan Alam) | AE100: MIPA (Matematika Ilmu Pengetahuan Alam) | AF100: 081279729736 | AG100: 80 | AH100: 80 | AI100: 80 | AJ100: 87 | AK100: 85 | AL100: 82.4 | AM100: 89 | AN100: 85 | AO100: 67 | AP100: 85 | AQ100: 90 | AR100: 85 | AS100: 85 | AT100: 86 | AU100: 73 | AV100: 79 | AW100: 83 | AX100: 82 | AY100: 77 | AZ100: 88 | BA100: 65 | BB100: 81 | BC100: 79 | BD100: 82 | BE100: 80 | BF100: 83 | BG100: 88 | BH100: 88 | BI100: 90 | BJ100: 85 | BK100: 1_QkE_qkbzyDd_vZLN3uJ_Y8EKvBrApxC | BL100: https://drive.google.com/file/d/1_QkE_qkbzyDd_vZLN3uJ_Y8EKvBrApxC/view?usp=drivesdk | BM100: 0393 BUKTI PENDAFTARAN AHMAD IQBAL PPDB 2022 | BN100: Document successfully created; Document successfully merged; PDF created; Emails Sent: [To: balltzy9@gmail.com]; Run via form trigger as ppdbsman1kjm@gmail.com; Timestamp: Jun 19 2022 10:34 PM | BO100: 82.4 | BP100: 85 | BQ100: 82 | BR100: 82 | BS100: 85 | BT100: =SUM(BO100:BS100) -> 416.4 | BU100: IPA | CF100: 94
A101: YA | B101: 107 | C101: 148 RANTAU | D101: 0073681835 | E101: NAJLA ALYA PUTRI | F101: P | G101: Komplek Pertamina | H101: RANTAU | I101: Aceh Tamiang | J101: 1116086401070002 | K101: SMPS DHARMA PATRA | L101: IPA | M101: IPS | N101: aretheands@gmail.com | O101: 1116080407070009 | P101: LANGSA | Q101: 39106 | R101: Perempuan | S101: ARDIANSYAH PUTRA | T101: ERNITAYANI,SE | V101: 085261369526 | W101: Komplek Pertamina | X101: RANTAU | Y101: Aceh Tamiang | Z101: 3 | AA101: SMPS DHARMA PATRA | AB101: 2022 | AC101: ZONASI | AD101: MIPA (Matematika Ilmu Pengetahuan Alam) | AE101: IIS ( Ilmu-ilmu Sosial) | AF101: 081264773027 | AG101: 78 | AH101: 81 | AI101: 81 | AJ101: 81 | AK101: 83 | AL101: 88.5 | AM101: 76 | AN101: 76 | AO101: 80 | AP101: 75 | AQ101: 79 | AR101: 80.83 | AS101: 75 | AT101: 75 | AU101: 73 | AV101: 74 | AW101: 80 | AX101: 80.25 | AY101: 75 | AZ101: 77 | BA101: 81 | BB101: 80 | BC101: 84 | BD101: 82.58 | BE101: 80 | BF101: 85 | BG101: 83 | BH101: 81 | BI101: 79 | BJ101: 83.58 | BK101: 10RS1D2uW2MKM_gIn6KC9R4pB07c4B-os | BL101: https://drive.google.com/file/d/10RS1D2uW2MKM_gIn6KC9R4pB07c4B-os/view?usp=drivesdk | BM101: 0636 BUKTI PENDAFTARAN NAJLA ALYA PUTRI PPDB 2022 | BN101: Document successfully created; Document successfully merged; PDF created; !!Error Sending Emails: Layanan terlalu sering diminta di hari yang sama: email.; Run via form trigger as ppdbsman1kjm@gmail.com; Timestamp: Jun 20 2022 12:36 PM | BO101: 88.5 | BP101: 80.83 | BQ101: 80.25 | BR101: 82.58 | BS101: 83.58 | BT101: =SUM(BO101:BS101) -> 415.74 | BU101: IPA | CF101: 95
...

Sheet ABSEN KLS X 25-26
A1: DAFTAR HADIR SISWA
A2: SMA NEGERI 1 KEJURUAN MUDA
A3: TAHUN PELAJARAN 2025/2026
A5: Jenis Rombel: Kelas Utama - Nama Rombel: X-1 - Semester Ganjil Guru BK : Eva Susanti, S. Pd.I | AA5: Wali Kelas : Susilawati, S.Pd.
A6: Nomor | D6: Nama Siswa | E6: L/P | F6: BULAN JULI 2025 | AK6: Keterangan
A7: Urut | B7: NIS | C7: NISN | F7: Tanggal
F8: 1 | G8: 2 | H8: 3 | I8: 4 | J8: 5 | K8: 6 | L8: 7 | M8: 8 | N8: 9 | O8: 10 | P8: 11 | Q8: 12 | R8: 13 | S8: 14 | T8: 15 | U8: 16 | V8: 17 | W8: 18 | X8: 19 | Y8: 20 | Z8: 21 | AA8: 22 | AB8: 23 | AC8: 24 | AD8: 25 | AE8: 26 | AF8: 27 | AG8: 28 | AH8: 29 | AI8: 30 | AJ8: 31 | AK8: S | AL8: I | AM8: A
A9: 1 | B9: 17808 | C9: 0091837303 | D9: ACHMAD DZAKWAN NUR SUHENDRA | E9: L
A10: 2 | B10: 17809 | C10: 0108299893 | D10: AFIYA MAHIRA HARSA | E10: P
A11: 3 | B11: 17810 | C11: 0093095724 | D11: ASSYIFA KAMILA | E11: P
A12: 4 | B12: 17811 | C12: 0105292844 | D12: AURELLIA MANURUNG | E12: P
A13: 5 | B13: 17812 | C13: 0103184729 | D13: AZZURA NAILAH HAKIM | E13: P
A14: 6 | B14: 17813 | C14: 0103208360 | D14: CUT QUANISA KAMAL | E14: P
A15: 7 | B15: 17814 | C15: 0091201969 | D15: DAFIN APRILIO | E15: L
A16: 8 | B16: 17815 | C16: 103313436 | D16: GABRIEL PARLINDUNGAN GIRSANG | E16: L
A17: 9 | B17: 17816 | C17: 3100631329 | D17: HALIZA SYAPUTRI | E17: P
A18: 10 | B18: 17817 | C18: 0093894801 | D18: HAMZAH MUSTOFA | E18: L
A19: 11 | B19: 17818 | C19: 0104160755 | D19: IZAH TUNAPSIAH | E19: P
A20: 12 | B20: 17819 | C20: 0107870502 | D20: KEYSA AYU SAFITRI | E20: P
A21: 13 | B21: 17820 | C21: 0102713783 | D21: KHALISAH ALMIRA | E21: P
A22: 14 | B22: 17821 | C22: 0108530855 | D22: KIRANA INDAH RAMADHAN | E22: P
A23: 15 | B23: 17822 | C23: 0104934047 | D23: M AL FATHIN | E23: L
A24: 16 | B24: 17823 | C24: 0102674644 | D24: MUFIDA ZUHRA | E24: P
A25: 17 | B25: 17824 | C25: 0102642140 | D25: MUHAMMAD AL FAREZI | E25: L
A26: 18 | B26: 17825 | C26: 3108034630 | D26: MUHAMMAD DUTA MAULANA | E26: L
A27: 19 | B27: 17826 | C27: 0103232845 | D27: MUHAMMAD SAURI WIRAWANZA | E27: L
A28: 20 | B28: 17827 | C28: 0105668711 | D28: MUHAMMAD YUAN DZAKI | E28: L
... A44: 36 | B44: 17843 | C44: 0106569047 | D44: ULFAH MAWADDAH TANJUNG | E44: P
A48: DAFTAR HADIR SISWA
A49: SMA NEGERI 1 KEJURUAN MUDA
A50: TAHUN PELAJARAN 2025/2026
A52: Jenis Rombel: Kelas Utama - Nama Rombel: X-2 - Semester Ganjil Guru BK : Eva Susanti, S. Pd.I | Z52: Wali Kelas : Erlinawati,.S.Pd.
A53: Nomor | D53: Nama Siswa | E53: L/P | F53: BULAN JULI 2025 | AK53: Keterangan
A54: Urut | B54: NIS | C54: NISN | F54: Tanggal
F55: 1 | G55: 2 | H55: 3 | I55: 4 | J55: 5 | K55: 6 | L55: 7 | M55: 8 | N55: 9 | O55: 10 | P55: 11 | Q55: 12 | R55: 13 | S55: 14 | T55: 15 | U55: 16 | V55: 17 | W55: 18 | X55: 19 | Y55: 20 | Z55: 21 | AA55: 22 | AB55: 23 | AC55: 24 | AD55: 25 | AE55: 26 | AF55: 27 | AG55: 28 | AH55: 29 | AI55: 30 | AJ55: 31 | AK55: S | AL55: I | AM55: A
A56: 1 | B56: 17844 | C56: 0098573751 | D56: AFDAL REZKI | E56: L
A57: 2 | B57: 17845 | C57: 0109640807 | D57: AHMAD ZAKI | E57: L
A58: 3 | B58: 17846 | C58: 0108704871 | D58: ALMIRA YASMIN SHAZIA | E58: P
A59: 4 | B59: 17847 | C59: 0096828969 | D59: ALVARO AGHITS FADHILA | E59: L
A60: 5 | B60: 17848 | C60: 0109765148 | D60: ANDIRA OKTAVIANA | E60: P
A61: 6 | B61: 17849 | C61: 00097571329 | D61: ASMAUL HUSNA | E61: P
A62: 7 | B62: 17850 | C62: 0109045770 | D62: AZIRA AULIA FUTRI | E62: P
A63: 8 | B63: 17851 | C63: 0094939885 | D63: CANTIKA | E63: P
A64: 9 | B64: 17852 | C64: 0101027915 | D64: CHANDRA AL FIRAH | E64: L
A65: 10 | B65: 17853 | C65: 0095714947 | D65: CINTA ANATASYA FILDO | E65: P
A66: 11 | B66: 17854 | C66: 0096801513 | D66: DHIVA SHAFIRA MARSHA | E66: P
A67: 12 | B67: 17855 | C67: 0106434966 | D67: ELIVIA ALIFAH | E67: P
... A91: 36 | B91: 17879 | C91: 0104757936 | D91: ZYA ADELA SAPUTRI | E91: P
A96: DAFTAR HADIR SISWA
A97: SMA NEGERI 1 KEJURUAN MUDA
A98: TAHUN PELAJARAN 2025/2026
A100: Jenis Rombel: Kelas Utama - Nama Rombel: X-3 - Semester Ganjil Guru BK : Eva Susanti, S. Pd.I | Y100: Wali Kelas : Syafrida Hanum, S.Pd.
A101: Nomor | D101: Nama Siswa | E101: L/P | F101: BULAN JULI 2025 | AK101: Keterangan
A102: Urut | B102: NIS | C102: NISN | F102: Tanggal
F103: 1 | G103: 2 | H103: 3 | I103: 4 | J103: 5 | K103: 6 | L103: 7 | M103: 8 | N103: 9 | O103: 10 | P103: 11 | Q103: 12 | R103: 13 | S103: 14 | T103: 15 | U103: 16 | V103: 17 | W103: 18 | X103: 19 | Y103: 20 | Z103: 21 | AA103: 22 | AB103: 23 | AC103: 24 | AD103: 25 | AE103: 26 | AF103: 27 | AG103: 28 | AH103: 29 | AI103: 30 | AJ103: 31 | AK103: S | AL103: I | AM103: A
A104: 1 | B104: 17880 | C104: 0101612047 | D104: AHMAD BAIHAQI | E104: L
A105: 2 | B105: 17881 | C105: 0099099566 | D105: ALVIRO AGHITS IRSYADA | E105: L
A106: 3 | B106: 17882 | C106: 0093508845 | D106: ANNISA QORI | E106: P
A107: 4 | B107: 17883 | C107: 0102086291 | D107: AVINZA RIZKIAWAN HAKIKI | E107: L
A108: 5 | B108: 17884 | C108: 0104163530 | D108: CANTIKA BRILIAN | E108: P
A109: 6 | B109: 17885 | C109: 0097904745 | D109: CUT FAHYOLA | E109: P
A110: 7 | B110: 17886 | C110: 0093373766 | D110: DEA DESTI DARNITA | E110: P
A111: 8 | B111: 17887 | C111: 0102840156 | D111: DIRA VANESSA | E111: P
A112: 9 | B112: 17888 | C112: 3108891187 | D112: FAIHA SALSABILA | E112: P
A113: 10 | B113: 17889 | C113: 0105189212 | D113: FAIZ SYAHPUTRA TAMIJA | E113: L
A114: 11 | B114: 17890 | C114: 0092455872 | D114: FATIMAH AZ-ZUHRAH | E114: P
A115: 12 | B115: 17891 | C115: 0108198141 | D115: GADING AYU RATASYA | E115: P
... A139: 36 | B139: 17915 | C139: 0096701141 | D139: ZAHRA TULJANNAH TENTUA | E139: P
A143: DAFTAR HADIR SISWA
A144: SMA NEGERI 1 KEJURUAN MUDA
A145: TAHUN PELAJARAN 2025/2026
A147: Jenis Rombel: Kelas Utama - Nama Rombel: X-4 - Semester Ganjil Guru BK : Eva Susanti, S. Pd.I | AA147: Wali Kelas : Karlia Nursal, S.Pd.
A148: Nomor | D148: Nama Siswa | E148: L/P | F148: BULAN JULI 2025 | AK148: Keterangan
A149: Urut | B149: NIS | C149: NISN | F149: Tanggal
F150: 1 | G150: 2 | H150: 3 | I150: 4 | J150: 5 | K150: 6 | L150: 7 | M150: 8 | N150: 9 | O150: 10 | P150: 11 | Q150: 12 | R150: 13 | S150: 14 | T150: 15 | U150: 16 | V150: 17 | W150: 18 | X150: 19 | Y150: 20 | Z150: 21 | AA150: 22 | AB150: 23 | AC150: 24 | AD150: 25 | AE150: 26 | AF150: 27 | AG150: 28 | AH150: 29 | AI150: 30 | AJ150: 31 | AK150: S | AL150: I | AM150: A
A151: 1 | B151: 17916 | C151: 0101275312 | D151: ALDINO ALFHAREZI MUKSIN | E151: L
A152: 2 | B152: 17917 | C152: 0108224127 | D152: ALISCA SALSABILA | E152: P
A153: 3 | B153: 17918 | C153: 3100685718 | D153: ALUNA ZIKRIA | E153: P
A154: 4 | B154: 17919 | C154: 0085082447 | D154: ANI KHOLILAH HARAHAP | E154: P
A155: 5 | B155: 17920 | C155: 0102432287 | D155: AYESHA ALIFAH ARSYAH | E155: P
A156: 6 | B156: 17921 | C156: 0109091423 | D156: CINDI KIRANA | E156: P
A157: 7 | B157: 17922 | C157: 0106527174 | D157: CUT AUREL NAZIFA | E157: P
A158: 8 | B158: 17923 | C158: 0107085833 | D158: DZUNNURAIN AZMI | E158: L
A159: 9 | B159: 17924 | C159: 0108070134 | D159: FERDY ANWAR | E159: L
A160: 10 | B160: 17925 | C160: 0104644800 | D160: FIRZA CHAIRY | E160: L
A161: 11 | B161: 17926 | C161: 3091958744 | D161: FITRI MIRANDANI | E161: P
A162: 13 | B162: 17928 | C162: 0104417545 | D162: HUMAIRAA SYIFA | E162: P
... A186: 36 | B186: 17951 | C186: 0102455611 | D186: ZESSI DWI ANANTA | E186: P
A190: DAFTAR HADIR SISWA
A191: SMA NEGERI 1 KEJURUAN MUDA
A192: TAHUN PELAJARAN 2025/2026
A194: Jenis Rombel: Kelas Utama - Nama Rombel: X-5 - Semester Ganjil Guru BK : Eva Susanti, S. Pd.I | Z194: Wali Kelas : Maya Rahipdaniaty, S.Pd.
A195: Nomor | D195: Nama Siswa | E195: L/P | F195: BULAN JULI 2025 | AK195: Keterangan
A196: Urut | B196: NIS | C196: NISN | F196: Tanggal
F197: 1 | G197: 2 | H197: 3 | I197: 4 | J197: 5 | K197: 6 | L197: 7 | M197: 8 | N197: 9 | O197: 10 | P197: 11 | Q197: 12 | R197: 13 | S197: 14 | T197: 15 | U197: 16 | V197: 17 | W197: 18 | X197: 19 | Y197: 20 | Z197: 21 | AA197: 22 | AB197: 23 | AC197: 24 | AD197: 25 | AE197: 26 | AF197: 27 | AG197: 28 | AH197: 29 | AI197: 30 | AJ197: 31 | AK197: S | AL197: I | AM197: A
A198: 1 | B198: 17952 | C198: 0094731032 | D198: ADHELIA PUTRI | E198: P
A199: 2 | B199: 17953 | C199: 0101916938 | D199: ALMIRA TANISHA | E199: P
A200: 3 | B200: 17955 | C200: 0106784537 | D200: ARIFAH AZAZA FALALATI | E200: P
A201: 4 | B201: 18025 | C201: 0093297397 | D201: ARINI YUDIRA | E201: P
A202: 5 | B202: 17956 | C202: 0109713313 | D202: AYU ABDILLA | E202: P
...

Sheet ABSEN KELAS XII 25-26
A1: DAFTAR HADIR SISWA
A2: SMA NEGERI 1 KEJURUAN MUDA
A3: TAHUN PELAJARAN 2025/2026
A5: Jenis Rombel: Kelas Utama - Nama Rombel: XII-1 - Semester Ganjil Guru BK : Muslimah Hanum, S. Psi | AC5: Wali Kelas : Yulli Mahardika, S.Pd
A6: Nomor | D6: Nama Siswa | E6: L/P | F6: BULAN JULI 2025 | AK6: Keterangan
A7: Urut | B7: NIS | C7: NISN | F7: Tanggal
F8: 1 | G8: 2 | H8: 3 | I8: 4 | J8: 5 | K8: 6 | L8: 7 | M8: 8 | N8: 9 | O8: 10 | P8: 11 | Q8: 12 | R8: 13 | S8: 14 | T8: 15 | U8: 16 | V8: 17 | W8: 18 | X8: 19 | Y8: 20 | Z8: 21 | AA8: 22 | AB8: 23 | AC8: 24 | AD8: 25 | AE8: 26 | AF8: 27 | AG8: 28 | AH8: 29 | AI8: 30 | AJ8: 31 | AK8: S | AL8: I | AM8: A
A9: 1 | B9: 17096 | C9: 0082244529 | D9: ABRAR RAFFA RAMADHANU | E9: L
A10: 2 | B10: 17097 | C10: 0086727380 | D10: AISYA HUMAYRA SIMBOLON | E10: P
A11: 3 | B11: 17098 | C11: 0088244843 | D11: ALIF IZZAT ARDI | E11: L
A12: 4 | B12: 17132 | C12: 0075973838 | D12: ALYA MULYA ANANDA | E12: P
A13: 5 | B13: 17102 | C13: 0086378995 | D13: CUT AZ ZAHRA NAJMI JANNATI | E13: P
A14: 6 | B14: 17103 | C14: 0081728296 | D14: CUT PUTRI NAYLA | E14: P
A15: 7 | B15: 17135 | C15: 0071822481 | D15: DELIA NAZWA | E15: P
A16: 8 | B16: 17136 | C16: 0076230638 | D16: DEVIKA NABILA | E16: P
A17: 9 | B17: 17105 | C17: 0083316341 | D17: DILLA SAFIRA | E17: P
A18: 10 | B18: 17139 | C18: 0088940446 | D18: DIVA ALTAQILA | E18: P
A19: 11 | B19: 17212 | C19: 0083691540 | D19: EWINDANA PRAYOGA | E19: L
A20: 12 | B20: 17283 | C20: 3086573183 | D20: FARA SALSALIZA | E20: P
... A44: 36 | B44: 17239 | C44: 0086385236 | D44: ZAYDAN RAMADHAN RANGKUTI | E44: L
A47: DAFTAR HADIR SISWA
A48: SMA NEGERI 1 KEJURUAN MUDA
A49: TAHUN PELAJARAN 2025/2026
A51: Jenis Rombel: Kelas Utama - Nama Rombel: XII-2 - Semester Ganjil Guru BK : Muslimah Hanum, S. Psi | AC51: Wali Kelas : Afrida Epa Yanti, M.Pd
A52: Nomor | D52: Nama Siswa | E52: L/P | F52: BULAN JULI 2025 | AK52: Keterangan
A53: Urut | B53: NIS | C53: NISN | F53: Tanggal
F54: 1 | G54: 2 | H54: 3 | I54: 4 | J54: 5 | K54: 6 | L54: 7 | M54: 8 | N54: 9 | O54: 10 | P54: 11 | Q54: 12 | R54: 13 | S54: 14 | T54: 15 | U54: 16 | V54: 17 | W54: 18 | X54: 19 | Y54: 20 | Z54: 21 | AA54: 22 | AB54: 23 | AC54: 24 | AD54: 25 | AE54: 26 | AF54: 27 | AG54: 28 | AH54: 29 | AI54: 30 | AJ54: 31 | AK54: S | AL54: I | AM54: A
A55: 1 | B55: 17204 | C55: 0086582953 | D55: AHSANUL FAWWAZ | E55: L
A56: 2 | B56: 17313 | C56: 0073495104 | D56: AISHA TAQIA | E56: P
A57: 3 | B57: 17205 | C57: 0083393359 | D57: ALYSSYA DAVIRA | E57: P
A58: 4 | B58: 17108 | C58: 0085401463 | D58: JASMINE CHERYLL AMELIA | E58: P
A59: 5 | B59: 17109 | C59: 0083721855 | D59: JIHAN IRVI TSURAYYA | E59: P
A60: 6 | B60: 17141 | C60: 0094278605 | D60: KEYZHA CLARA AL KHANSA | E60: P
A61: 7 | B61: 17177 | C61: 0087869847 | D61: KHALISA KANSA | E61: P
A62: 8 | B62: 17326 | C62: 0089414037 | D62: M. BAYU PUTRA ANGGARA | E62: L
A63: 9 | B63: 17218 | C63: 0071495978 | D63: M. DODI JULIANSYAH | E63: L
A64: 10 | B64: 17367 | C64: 0088631194 | D64: MEUTIA SYAHRANI | E64: P
A65: 11 | B65: 17149 | C65: 0083997830 | D65: MUHAMMAD ALFAHRI | E65: L
A66: 12 | B66: 17116 | C66: 0082830637 | D66: MUHAMMAD YUAN RAFIF | E66: L
... A89: 35 | B89: 17131 | C89: 0084218828 | D89: ZAHRA PARADISA | E89: P
A92: DAFTAR HADIR SISWA
A93: SMA NEGERI 1 KEJURUAN MUDA
A94: TAHUN PELAJARAN 2025/2026
A96: Jenis Rombel: Kelas Utama - Nama Rombel: XII-3 - Semester Ganjil Guru BK : Maya Agustina, S. Pd | AC96: Wali Kelas : Halwani S.Pd
A97: Nomor | D97: Nama Siswa | E97: L/P | F97: BULAN JULI 2025 | AK97: Keterangan
A98: Urut | B98: NIS | C98: NISN | F98: Tanggal
F99: 1 | G99: 2 | H99: 3 | I99: 4 | J99: 5 | K99: 6 | L99: 7 | M99: 8 | N99: 9 | O99: 10 | P99: 11 | Q99: 12 | R99: 13 | S99: 14 | T99: 15 | U99: 16 | V99: 17 | W99: 18 | X99: 19 | Y99: 20 | Z99: 21 | AA99: 22 | AB99: 23 | AC99: 24 | AD99: 25 | AE99: 26 | AF99: 27 | AG99: 28 | AH99: 29 | AI99: 30 | AJ99: 31 | AK99: S | AL99: I | AM99: A
A100: 1 | B100: 17315 | C100: 0085476028 | D100: ALISKA FEBRI PRATIWI | E100: P
A101: 2 | B101: 17352 | C101: 0082823998 | D101: BIANKA ADISTY ARIDSA | E101: P
A102: 3 | B102: 17171 | C102: 0081356669 | D102: CHINTA PRIADMA | E102: P
A103: 4 | B103: 17353 | C103: 0043935712 | D103: CUT LAREINA | E103: P
A104: 5 | B104: 17207 | C104: 0083858831 | D104: DARA SUCI ANDINI | E104: P
A105: 6 | B105: 17138 | C105: 0079567360 | D105: DIRGANTARA PRASETYA | E105: L
A106: 7 | B106: 17357 | C106: 0087274134 | D106: FALIQH ALFASYAH | E106: L
A107: 8 | B107: 17356 | C107: 0087602240 | D107: FITRI KHAIRANI | E107: P
A108: 9 | B108: 17286 | C108: 0087501975 | D108: FITRI PUSPA DJANIS | E108: P
A109: 10 | B109: 17361 | C109: 0081657601 | D109: JAHWA AQILA | E109: P
A110: 11 | B110: 17289 | C110: 0084896965 | D110: JUNITA MARCELLA | E110: P
A111: 12 | B111: 17143 | C111: 0089443848 | D111: KHAIRA NISSA | E111: P
... A135: 36 | B135: 17274 | C135: 0086014441 | D135: WAFA AYLA HRP | E135: P
A139: DAFTAR HADIR SISWA
A140: SMA NEGERI 1 KEJURUAN MUDA
A141: TAHUN PELAJARAN 2025/2026
A143: Jenis Rombel: Kelas Utama - Nama Rombel: XII-4 - Semester Ganjil Guru BK : Maya Agustina, S. Pd | AD143: Wali Kelas : Charis Winarni, S.Pd
A144: Nomor | D144: Nama Siswa | E144: L/P | F144: BULAN JULI 2025 | AK144: Keterangan
A145: Urut | B145: NIS | C145: NISN | F145: Tanggal
F146: 1 | G146: 2 | H146: 3 | I146: 4 | J146: 5 | K146: 6 | L146: 7 | M146: 8 | N146: 9 | O146: 10 | P146: 11 | Q146: 12 | R146: 13 | S146: 14 | T146: 15 | U146: 16 | V146: 17 | W146: 18 | X146: 19 | Y146: 20 | Z146: 21 | AA146: 22 | AB146: 23 | AC146: 24 | AD146: 25 | AE146: 26 | AF146: 27 | AG146: 28 | AH146: 29 | AI146: 30 | AJ146: 31 | AK146: S | AL146: I | AM146: A
A147: 1 | B147: 17170 | C147: 0083498581 | D147: AZKIYA PUTRI | E147: P
A148: 2 | B148: 17318 | C148: 0078141275 | D148: CINDY AULIA | E148: P
A149: 3 | B149: 17174 | C149: 0083762133 | D149: DARIFAH FARRAS SYAKIB | E149: L
A150: 4 | B150: 17320 | C150: 0089517292 | D150: DECO ANGGARA SINAGA | E150: L
A151: 5 | B151: 17321 | C151: 0078494795 | D151: DERRY SETIAWAN M | E151: L
A152: 6 | B152: 17281 | C152: 0081617178 | D152: DISA NUR AKMALIA | E152: P
A153: 7 | B153: 17210 | C153: 0082640486 | D153: ERA ISMAYANA | E153: P
A154: 8 | B154: 17387 | C154: 0088780811 | D154: ELGA ZELSYIANA | E154: P
A155: 9 | B155: 17211 | C155: 0081677733 | D155: FARHAN GHALIB AL KHAIR | E155: L
A156: 10 | B156: 17176 | C156: 0087785410 | D156: FAUZI RAMADHAN | E156: L
A157: 11 | B157: 17180 | C157: 0089812801 | D157: INDRI EKA PRAMANA | E157: L
A158: 12 | B158: 17140 | C158: 0092704681 | D158: HUSNA YASMIN | E158: P
... A180: 34 | B180: 17383 | C180: 0083127108 | D180: ZAHRA ALDERA BALQIS | E180: P
A185: DAFTAR HADIR SISWA
A186: SMA NEGERI 1 KEJURUAN MUDA
A187: TAHUN PELAJARAN 2025/2026
A189: Jenis Rombel: Kelas Utama - Nama Rombel: XII-5 - Semester Ganjil Guru BK : Gita Sekar Sundari, S. Pd | AD189: Wali Kelas : Juliana S.Ag
A190: Nomor | D190: Nama Siswa | E190: L/P | F190: BULAN JULI 2025 | AK190: Keterangan
A191: Urut | B191: NIS | C191: NISN | F191: Tanggal
F192: 1 | G192: 2 | H192: 3 | I192: 4 | J192: 5 | K192: 6 | L192: 7 | M192: 8 | N192: 9 | O192: 10 | P192: 11 | Q192: 12 | R192: 13 | S192: 14 | T192: 15 | U192: 16 | V192: 17 | W192: 18 | X192: 19 | Y192: 20 | Z192: 21 | AA192: 22 | AB192: 23 | AC192: 24 | AD192: 25 | AE192: 26 | AF192: 27 | AG192: 28 | AH192: 29 | AI192: 30 | AJ192: 31 | AK192: S | AL192: I | AM192: A
A193: 1 | B193: 17418 | C193: 0081793780 | D193: AHMAD FAQIH | E193: L
A194: 2 | B194: 17349 | C194: 0081015066 | D194: ALDI PRATAMA | E194: L
A195: 3 | B195: 17168 | C195: 0085470199 | D195: ALDIY WIRANATA | E195: L
A196: 4 | B196: 17276 | C196: 0088886774 | D196: ALYA ANGGRAINI | E196: P
A197: 5 | B197: 17802 | C197: 0081273576 | D197: ABDIRRAHMAN Al-AZZAM | E197: L
A198: 6 | B198: 17348 | C198: 0092369477 | D198: ASSYIFA MUHARAMI PUTRI | E198: P
A199: 7 | B199: 17350 | C199: 0088325892 | D199: ATHILLA HUMAIRA | E199: P
A200: 8 | B200: 17175 | C200: 0076811200 | D200: DECO SYAFIQ DWI ALFARA | E200: L
A201: 9 | B201: 17385 | C201: 0086826128 | D201: DENIS HARPANDI | E201: L
A202: 10 | B202: 17386 | C202: 0074071332 | D202: DEVVRAN SISCO REYNALDO | E202: L
A203: 11 | B203: 17414 | C203: 0089970230 | D203: DIMAS ANDREAN | E203: L
A204: 12 | B204: 17355 | C204: 0085861109 | D204: FAUZAN BAYHAQI | E204: L
A205: 13 | B205: 17358 | C205: 0088207114 | D205: GARNETTA RIANY YOSEPHINE BR GIRSANG | E205: P
...

Sheet PROGRAM KERJA
A1: PROGRAM KERJA GURU BIMBINGAN KONSELING
A2: SMA NEGERI 1 KEJURUAN MUDA
A5: NO | C5: BIDANG BIMBINGAN | G5: JULI | K5: AGT | O5: SEPT | S5: OKT | W5: NOV | AA5: DES | AE5: JAN | AI5: FEB | AM5: MAR | AQ5: APR | AU5: MEI | AY5: JUN
C6: P | D6: S | E6: B | F6: K | G6: 1 | H6: 2 | I6: 3 | J6: 4 | K6: 1 | L6: 2 | M6: 3 | N6: 4 | O6: 1 | P6: 2 | Q6: 3 | R6: 4 | S6: 1 | T6: 2 | U6: 3 | V6: 4 | W6: 1 | X6: 2 | Y6: 3 | Z6: 4 | AA6: 1 | AB6: 2 | AC6: 3 | AD6: 4 | AE6: 1 | AF6: 2 | AG6: 3 | AH6: 4 | AI6: 1 | AJ6: 2 | AK6: 3 | AL6: 4 | AM6: 1 | AN6: 2 | AO6: 3 | AP6: 4 | AQ6: 1 | AR6: 2 | AS6: 3 | AT6: 4 | AU6: 1 | AV6: 2 | AW6: 3 | AX6: 4 | AY6: 1 | AZ6: 2 | BA6: 3 | BB6: 4
A7: I | B7: PERSIAPAN
B8: 1. Pembagian Tugas
B9: 2. Penyusunan Program
B10: 3. Konsultasi Program
B11: 4. Penyediaan Sarana
A13: II | B13: LAYANAN BK
B14: 1. Orientasi
B15: 2. Informasi
B16: 3. Penempatan dan Penyaluran
B17: 4. Penguasaan Konten
B18: 5. Konseling Individu
B19: 6. Bimbingan Kelompok
B20: 7. Konseling Kelompok
B21: 8. Layanan Konsultasi
B22: 9. Mediasi
A24: III | B24: KEGIATAN PENDUKUNG
B25: 1. Aplikasi instrumentasi
B26: 2. Himpunan Data
B27: 3. Komperensi
B28: 4. Kunjungan Rumah
B29: 5. Tampilan Kepustakaan
B30: 6. Alih Tangan Kasus
A32: IV | B32: PERKEMBANGAN
B33: 1. Sistem dan Program BK
B34: 2. Pembinaan SDM Personil BK
B35: 3. Pengembangan Sarana
A37: V | B37: EVALUASI
B38: 1. Evaluasi Target Program
B39: 2. Evaluasi Proses Pelaksanaan Program BK
B40: 3. Evaluasi Hasil Pelaksanaan Program
A42: VI | B42: ANALISA
B43: 1. Analisa Target Program
B44: 2. Analisa Proses Pelaksanaan Program
B45: 3. Analisa Hasil Pelaksanaan Program
A47: VII | B47: TINDAK LANJUT PROGRAM
A49: VIII | B49: LAPORAN
B50: 1. Bulanan
B51: 2. Semester

Sheet DATA REKAP
A1: DATA SISWA/I PESERTA DIDIK BARU SMA KABUPATEN ACEH TAMIANG
A2: TAHUN 2022
A4: NO. | B4: NAMA SEKOLAH | C4: SISWA/I | E4: JUMLAH | F4: ONLINE | G4: OFFLINE
C5: L | D5: P
A6: 5 | B6: SMA NEGERI 1 KEJURUAN MUDA | C6: 166 | D6: 233 | E6: =SUM(C6:D6) -> 399 | F6: =E6 -> 399 | G6: 0
C9: ACEH TAMIANG, 30 JUNI 2022
C10: Plt Kasi Manajemen GTK dan Mutu Kesiswaan
C11: Cabang Dinas Pendidikan Wil. Kab. A. Tamiang
C15: INDRA ARISANDI, S.Pd., M.Pd.
C16: NIP. 19830601 200604 1 011
